BEGIN:VCALENDAR
VERSION:2.0
PRODID:-//Hirschau Aktuell - ECPv6.15.20//NONSGML v1.0//EN
CALSCALE:GREGORIAN
METHOD:PUBLISH
X-WR-CALNAME:Hirschau Aktuell
X-ORIGINAL-URL:https://hirschau-aktuell.de
X-WR-CALDESC:Veranstaltungen für Hirschau Aktuell
REFRESH-INTERVAL;VALUE=DURATION:PT1H
X-Robots-Tag:noindex
X-PUBLISHED-TTL:PT1H
BEGIN:VTIMEZONE
TZID:Europe/Berlin
BEGIN:DAYLIGHT
TZOFFSETFROM:+0100
TZOFFSETTO:+0200
TZNAME:CEST
DTSTART:20250330T010000
END:DAYLIGHT
BEGIN:STANDARD
TZOFFSETFROM:+0200
TZOFFSETTO:+0100
TZNAME:CET
DTSTART:20251026T010000
END:STANDARD
BEGIN:DAYLIGHT
TZOFFSETFROM:+0100
TZOFFSETTO:+0200
TZNAME:CEST
DTSTART:20260329T010000
END:DAYLIGHT
BEGIN:STANDARD
TZOFFSETFROM:+0200
TZOFFSETTO:+0100
TZNAME:CET
DTSTART:20261025T010000
END:STANDARD
BEGIN:DAYLIGHT
TZOFFSETFROM:+0100
TZOFFSETTO:+0200
TZNAME:CEST
DTSTART:20270328T010000
END:DAYLIGHT
BEGIN:STANDARD
TZOFFSETFROM:+0200
TZOFFSETTO:+0100
TZNAME:CET
DTSTART:20271031T010000
END:STANDARD
END:VTIMEZONE
BEGIN:VEVENT
DTSTART;TZID=Europe/Berlin:20260424T193000
DTEND;TZID=Europe/Berlin:20260424T213000
DTSTAMP:20260424T021748
CREATED:20260317T172443Z
LAST-MODIFIED:20260419T131252Z
UID:38628-1777059000-1777066200@hirschau-aktuell.de
SUMMARY:Paul Kottmann: Fotografien
DESCRIPTION:Paul Kottmann wurde 1947 in Eislingen geboren. Seit seinem 14. Lebensjahr fotografiert er. Nach dem Studium des Maschinenbaus waren Fotografien wesentlicher Teil seiner Bewerbungsmappe für das Studium an der Hochschule für Gestaltung in Schwäbisch Gmünd. 1984 gründete er sein Designbüro in Eislingen. Er war 1985 Gründungsmitglied des Kunstverein Eislingen\, dessen Vorsitzender und Kurator er von 2003 bis 2021 war. Er ist Mitglied in der Verwertungsgesellschaft Bild-Kunst.\nDer Tübinger Akkordeonist Peter Weiß begleitet die Vernissage musikalisch und fängt das Lebensgefühl der 70er Jahre ein – eine atmosphärische Reise zwischen der südlichen Energie italienischer Plätze und der herzlichen Lebensfreude irischer Pubs. \nAusstellungseröffnung im Ratsstüble Hirschau\nFreitag\, 24.4.2026 um 19:30 Uhr\nAusstellungen:\n2013 Kunstverein Eislingen\, Mitgliederausstellung\, Sonderkabinett\, Thema „Wasser“\, Katalog\n2014 „Still in silent ways“\, Kreismedienzentrum Göppingen mit Maks Dannecker\, Katalog\n2015 Kunstverein Eislingen\, Mitgliederausstellung\n2016 Gmünder Kunstmesse\, Schwäbisch Gmünd\n2016 „blublöblau“\, jurierte Themenausstellung\, Stuttgart-Vaihingen\n2016 „Festival de Photographie Industrielle d’Oyonnax\, Gruppenausstellung\, Oyonnax\, Frankreich\, Katalog\n2017 Kunstverein Eislingen\, Mitgliederausstellung\n2018 Gmünder Kunstmesse\, Schwäbisch Gmünd\n2019 „Wald\, Bäume\, Holz“\, Salon des Beaux Arts\, Stuttgart-Bad Cannstatt\n2019 Kunstverein Eislingen\, Mitgliederausstellung\n2021 Kunstverein Eislingen\, Parkour\, Gruppenausstellung\, Katalog\n2022 Gmünder Kunstmesse\, Schwäbisch Gmünd\n2023 Kunstverein Eislingen\, Mitgliederausstellung\n2026 Gmünder Kunstmesse\, Schwäbisch Gmünd
URL:https://hirschau-aktuell.de/event/paul-kottmann-fotografien/
LOCATION:Ratsstüble Hirschau\, Kingersheimer Straße 46
CATEGORIES:Ratsstüble
ATTACH;FMTTYPE=image/jpeg:https://hirschau-aktuell.de/wp-content/uploads/2026/03/Adobe-Express-file.jpg
ORGANIZER;CN="Ratsst%C3%BCble Hirschau e. V.":MAILTO:info@ratsstueble-hirschau.de
END:VEVENT
END:VCALENDAR