BEGIN:VCALENDAR
VERSION:2.0
PRODID:-//Hirschau Aktuell - ECPv6.15.20//NONSGML v1.0//EN
CALSCALE:GREGORIAN
METHOD:PUBLISH
X-WR-CALNAME:Hirschau Aktuell
X-ORIGINAL-URL:https://hirschau-aktuell.de
X-WR-CALDESC:Veranstaltungen für Hirschau Aktuell
REFRESH-INTERVAL;VALUE=DURATION:PT1H
X-Robots-Tag:noindex
X-PUBLISHED-TTL:PT1H
BEGIN:VTIMEZONE
TZID:Europe/Berlin
BEGIN:DAYLIGHT
TZOFFSETFROM:+0100
TZOFFSETTO:+0200
TZNAME:CEST
DTSTART:20210328T010000
END:DAYLIGHT
BEGIN:STANDARD
TZOFFSETFROM:+0200
TZOFFSETTO:+0100
TZNAME:CET
DTSTART:20211031T010000
END:STANDARD
BEGIN:DAYLIGHT
TZOFFSETFROM:+0100
TZOFFSETTO:+0200
TZNAME:CEST
DTSTART:20220327T010000
END:DAYLIGHT
BEGIN:STANDARD
TZOFFSETFROM:+0200
TZOFFSETTO:+0100
TZNAME:CET
DTSTART:20221030T010000
END:STANDARD
BEGIN:DAYLIGHT
TZOFFSETFROM:+0100
TZOFFSETTO:+0200
TZNAME:CEST
DTSTART:20230326T010000
END:DAYLIGHT
BEGIN:STANDARD
TZOFFSETFROM:+0200
TZOFFSETTO:+0100
TZNAME:CET
DTSTART:20231029T010000
END:STANDARD
END:VTIMEZONE
BEGIN:VEVENT
DTSTART;TZID=Europe/Berlin:20220402T100000
DTEND;TZID=Europe/Berlin:20220402T123000
DTSTAMP:20260426T013520
CREATED:20220320T090023Z
LAST-MODIFIED:20220321T125523Z
UID:26320-1648893600-1648902600@hirschau-aktuell.de
SUMMARY:Kinderkleiderbasar Hirschau
DESCRIPTION:(Frühjahr- und Sommerkleider bis 146\, Spielsachen\, usw.)\nKuchen zum Mitnehmen – Verkauf im Außenbereich \nWann : Samstag\, 2. April 2022\nVon : 10.00 bis 12.30 Uhr\n(Einlass für Schwangere ab 9.30 Uhr) Wo : Turnhalle in Hirschau\nWo: Turnhalle in Hirschau \nEs gelten die aktuellen Corona-Bestimmungen \nWeitere Infos unter:\nhttps://kinderkleiderbasar-hirschau.hpage.com\nE-Mail: kleiderbasar.hirschau@web.de \nDer Erlös (10% der in Kommission verkauften Waren ) geht zugunsten der Kindergärten in Hirschau.
URL:https://hirschau-aktuell.de/event/kinderkleiderbasar-hirschau/
LOCATION:Turn- und Festhallehalle\, Schulstr. 28\, Tübingen\, 72070\, Deutschland
ATTACH;FMTTYPE=image/jpeg:https://hirschau-aktuell.de/wp-content/uploads/2022/03/kkb_Kinderkleiderbasar-Hirschau-Logo.jpg
END:VEVENT
BEGIN:VEVENT
DTSTART;TZID=Europe/Berlin:20220403T080000
DTEND;TZID=Europe/Berlin:20220403T100000
DTSTAMP:20260426T013520
CREATED:20220325T160000Z
LAST-MODIFIED:20220325T164359Z
UID:26368-1648972800-1648980000@hirschau-aktuell.de
SUMMARY:Vogelführung am Spitzberg So 03.04.22
DESCRIPTION:Der Wiedehopf wurde zuletzt 1985 am Spitzberg gesichtet. Bildquelle: nabu.de\nNach einem erfolgreichen Vortragsabend mit Prof. Gottschalk laden wir ein zu einer \nVogelführung am Spitzberg \n\nam Sonntag\, 3. April 2022 um 8.00 Uhr\nmit dem Biologen Konstantin Bock\nin Kooperation mit dem Umweltzentrum Tübingen\n\nWir treffen uns an der Riedkelter und gehen von dort gemeinsam Richtung Spitzberg. Unterwegs halten wir Ausschau nach Feldvögeln und am Waldrand können auch Waldvögel beobachtet werden. \nAm Spitzberg konnten 2018 noch über 4.000 Reviere von 79 Brutvogelarten festgestellt werden. Sie profitieren von den ausgedehnten Streuobstwiesen mit ihren höhlenreichen Altbäumen\, ebenso vom Nistkastenangebot. Im Zusammenhang mit Veränderungen der Landnutzung sind dennoch einige Brutvogelarten in den letzten Jahren verschwunden. \nWillkommen sind alle über 12-jährigen mit ornithologischem oder allgemein naturkundlichem Interesse. Vorkenntnisse sind nicht notwendig\, auch erfahrene Vogelkenner sind uns willkommen. Die Vogelführung findet bei jedem Wetter außer Starkregen statt. \nBitte mitbringen: angepasste\, wetterfeste Kleidung und ein Fernglas. Dauer etwa zwei Stunden. \nDie Plätze sind begrenzt\, eine Anmeldung ist erforderlich – bitte bis Donnerstag 31. März unter anmeldung@gruenelistehirschau.de
URL:https://hirschau-aktuell.de/event/vogelfuehrung-am-spitzberg-so-03-04-22/
LOCATION:Spitzberg
ATTACH;FMTTYPE=image/jpeg:https://hirschau-aktuell.de/wp-content/uploads/2021/01/glh-grueneListeHirschauBeitragsbild.jpg
END:VEVENT
BEGIN:VEVENT
DTSTART;TZID=Europe/Berlin:20220405T193000
DTEND;TZID=Europe/Berlin:20220405T213000
DTSTAMP:20260426T013520
CREATED:20220329T102241Z
LAST-MODIFIED:20220329T102241Z
UID:26407-1649187000-1649194200@hirschau-aktuell.de
SUMMARY:„Triage – ein Problem heute“
DESCRIPTION:Weltweite Erfahrungen bei humanitären Einsätzen –\nVortrag mit Gespräch\n  \nHerr Prof. Dr. Dr. Bernd Domres berichtet von seinem Lebensthema\, der Katastrophenmedizin. Von Wuhan über Kambodscha\, Nigeria\, Kongo\, Armenien und Haiti musste er die Triage anwenden. In Saudi-Arabien hat er mitten in der Wüste 5 Jahre lang eine Klinik geleitet. \nEr ist auf Grund seiner Erfahrung ein ausgewiesener Fachmann für Triage. \nVon diesem Problem und vielen andere Situationen wird er an diesem Abend berichten. \nDienstag\, 05.04.22\, 19.30 Uhr\,\nOrt: Ratsstüble Dorfkneipe\nDer Eintritt ist kostenlos\, über Spenden freuen wir uns. \nEs gelten die jeweils aktuellen Corona-Maßnahmen.
URL:https://hirschau-aktuell.de/event/triage-ein-problem-heute/
LOCATION:Ratsstüble Hirschau\, Kingersheimer Straße 46
ORGANIZER;CN="Ratsst%C3%BCble Hirschau e. V.":MAILTO:info@ratsstueble-hirschau.de
END:VEVENT
BEGIN:VEVENT
DTSTART;TZID=Europe/Berlin:20220425T190000
DTEND;TZID=Europe/Berlin:20220425T210000
DTSTAMP:20260426T013520
CREATED:20220406T100036Z
LAST-MODIFIED:20220406T105237Z
UID:26467-1650913200-1650920400@hirschau-aktuell.de
SUMMARY:Den Problemen ein Ende setzen – nicht dem Leben!
DESCRIPTION:Suizidrisiko und Suizidprävention bei Männern \n  \nDie individuellen Gründe für einen Suizid sind vielfältig. Dass drei Viertel der Suizide auf Männer gehen\, sollte uns aber zu denken geben. \n\nWas hat Suizid mit Männlichkeit zu tun?\nWarum neigen Männer stärker zur ultimativen „Lösung“\, sich das Leben zu nehmen?\nWelche Anzeichen gibt es und was können wir tun\, damit mehr Betroffene einen lebensbejahenden Ausweg finden?\n\nGunter Neubauer\, der dazu in 2020 und 2021 ein Projekt für das Sozialministerium durchführen konnte\, wird mit uns diesen Fragen nachgehen und sich mit den wichtigsten Aspekten eines fatalen Zusammenhangs beschäftigen. \nMontag\, 25.04.22\, 19.00 Uhr\nOrt: Ratsstüble Dorfkneipe \n Der Eintritt ist kostenlos\, über Spenden freuen wir uns.
URL:https://hirschau-aktuell.de/event/den-problemen-ein-ende-setzen-nicht-dem-leben/
LOCATION:Ratsstüble Hirschau\, Kingersheimer Straße 46
ATTACH;FMTTYPE=image/png:https://hirschau-aktuell.de/wp-content/uploads/2022/04/rsh-maenner-loesen-ihre-Probleme-selbst.png
ORGANIZER;CN="Ratsst%C3%BCble Hirschau e. V.":MAILTO:info@ratsstueble-hirschau.de
END:VEVENT
BEGIN:VEVENT
DTSTART;TZID=Europe/Berlin:20220428T190000
DTEND;TZID=Europe/Berlin:20220428T210000
DTSTAMP:20260426T013520
CREATED:20220425T102458Z
LAST-MODIFIED:20220429T120123Z
UID:26675-1651172400-1651179600@hirschau-aktuell.de
SUMMARY:Mitgliederversammlung der Kommunikationsgruppe Hirschau e.V.
DESCRIPTION:Sehr geehrte Mitglieder und Freunde der Kommunikationsgruppe\nunsere ordentliche Mitgliederversammlung findet am 28.4. 2022 um 19.00 Uhr im Ratsstüble Hirschau statt. \nDie Tagesordnung besteht aus folgenden Themen \n\nBegrüßung und Eröffnung der Mitgliederversammlung\nFeststellung der Beschlussfähigkeit und der ordnungsgemäßen Einladung\nJahresbericht der Vorstandsmitglieder\nBericht der Kassiererin Barbara Raff\nBericht des Kassenprüfers Paul Schmid\nAusblick auf das nächste Vereinsjahr\nWünsche und Anregungen der Mitglieder\nGemütliches Beisammensein mit Speis und Trank\n\nAlle Mitglieder und Interessenten sind herzlich eingeladen.\nWir freuen uns über eine rege Teilnahme. \n1. Vorsitzende Monika Höll \n  \n 
URL:https://hirschau-aktuell.de/event/mitgliederversammlung-der-kommunikationsgruppe-hirschau-e-v/
LOCATION:Ratsstüble Hirschau\, Kingersheimer Straße 46
ORGANIZER;CN="Kommunikationsgruppe":MAILTO:kogru-hirschau@web.de
END:VEVENT
BEGIN:VEVENT
DTSTART;TZID=Europe/Berlin:20220429T170000
DTEND;TZID=Europe/Berlin:20220429T193000
DTSTAMP:20260426T013520
CREATED:20220422T200925Z
LAST-MODIFIED:20220422T200925Z
UID:26637-1651251600-1651260600@hirschau-aktuell.de
SUMMARY:Radproblemfahrt Hirschau – Tübingen
DESCRIPTION:Wir laden ein zu einer \nRadproblemfahrt Hirschau – Tübingen \n\nam Freitag\, 29. April 2022 um 17.00 Uhr\nTreffpunkt an der Kreuzung des Neckartal-Radwegs Hirschau – Rottenburg mit dem Rittweg\nmit Gernot Epple\, Ansprechpartner für Verkehrspolitik des ADFC Tübingen\n\nMit großer Wahrscheinlichkeit wird der Radschnellweg 11 Tübingen – Rottenburg nun wohl südlich des Neckars entlang der neuen B 28 gebaut. Schon bei einer Radtour zur Erkundung der verschiedenen Trassenvarianten im August 2020 machte Verkehrsminister Hermann wie auch die Tübinger Verkehrsplanung den Vorschlag\, in diesem Fall die Radstrecke von Tübingen über Hirschau nach Rottenburg zu optimieren. \nDeshalb werden wir jetzt die größtenteils ja schon lange bekannten Problemstellen bei einer Radtour nochmals inspizieren. Gemeinsam wollen wir einen Katalog mit wünschenswerten\, aber auch dringend notwendigen Maßnahmen erstellen\, mit denen der Radverkehr verbessert werden kann. \nDazu treffen wir uns am westlichen Ortsrand und folgen dann dem Neckartal-Radweg und dem Radweg südlich des Neckars bis Tübingen. Unterwegs werden wir immer wieder mal anhalten\, um Einschätzungen und ein Meinungsbild zu bekommen. Die Rückfahrt wird dann über die Hirschauer Straße führen. \nAlle Radinteressierten sind willkommen. \nGunter Neubauer und Gernot Epple
URL:https://hirschau-aktuell.de/event/radproblemfahrt-hirschau-tuebingen/
ATTACH;FMTTYPE=image/jpeg:https://hirschau-aktuell.de/wp-content/uploads/2021/01/glh-grueneListeHirschauBeitragsbild.jpg
ORGANIZER;CN="Gr%C3%BCne Liste Hirschau":MAILTO:anmeldung@gruenelistehirschau.de
END:VEVENT
BEGIN:VEVENT
DTSTART;TZID=Europe/Berlin:20220430T180000
DTEND;TZID=Europe/Berlin:20220430T210000
DTSTAMP:20260426T013520
CREATED:20220425T100411Z
LAST-MODIFIED:20220425T134240Z
UID:26670-1651341600-1651352400@hirschau-aktuell.de
SUMMARY:"Momente" im Ratsstüble
DESCRIPTION:Der Fotostammtisch Tübingen stellt in den Räumen des Ratsstüble Hirschau Fotografien aus zum Thema: „Momente“ \nMomente sind in der Fotografie Augenblicke\, gar Bruchteile von Sekunden\, in denen sich überraschende Situationen ereignen\, die es zu fotografieren wert sind. Das „Zeitfenster“ zu nutzen ist hier die Kunst der Fotografie\, den Moment zu erfassen und ihn einzufangen. Fotografinnen und Fotografen sind hin und her gerissen zwischen Begeisterung und großer Enttäuschung\, je nach dem\, ob sie den Moment rechtzeitig aufnehmen konnten oder ihn „ziehen“ lassen mussten. Naturschauspiele\, Episoden aus dem Alltag\, das Sein zwischen Mensch und Tier etc. sind nur einige Beispiele für spontane Momente.\nDer folgende Spruch sei der Ausstellung angeheftet: \n„Momente\, so lang wie ein Lidschlag\, erinnern ein Leben lang“ \nDie Ausstellung dauert von Freitag\, 29. April 2022 bis Mittwoch\, 29. Juni 2022.\nZu beachten sind die Öffnungszeiten des Ratsstüble\, mittwochs und freitags\, von 19 – 23 Uhr. \nDie Vernissage findet statt am Samstag\, 30. April\, 18 Uhr. Der Eintritt ist frei. \nWir freuen uns über zahlreiche Interessierte!
URL:https://hirschau-aktuell.de/event/momente-im-ratsstueble/
LOCATION:Ratsstüble Hirschau\, Kingersheimer Straße 46
ORGANIZER;CN="Ratsst%C3%BCble Hirschau e. V.":MAILTO:info@ratsstueble-hirschau.de
END:VEVENT
END:VCALENDAR