BEGIN:VCALENDAR
VERSION:2.0
PRODID:-//Hirschau Aktuell - ECPv6.15.20//NONSGML v1.0//EN
CALSCALE:GREGORIAN
METHOD:PUBLISH
X-WR-CALNAME:Hirschau Aktuell
X-ORIGINAL-URL:https://hirschau-aktuell.de
X-WR-CALDESC:Veranstaltungen für Hirschau Aktuell
REFRESH-INTERVAL;VALUE=DURATION:PT1H
X-Robots-Tag:noindex
X-PUBLISHED-TTL:PT1H
BEGIN:VTIMEZONE
TZID:Europe/Berlin
BEGIN:DAYLIGHT
TZOFFSETFROM:+0100
TZOFFSETTO:+0200
TZNAME:CEST
DTSTART:20210328T010000
END:DAYLIGHT
BEGIN:STANDARD
TZOFFSETFROM:+0200
TZOFFSETTO:+0100
TZNAME:CET
DTSTART:20211031T010000
END:STANDARD
BEGIN:DAYLIGHT
TZOFFSETFROM:+0100
TZOFFSETTO:+0200
TZNAME:CEST
DTSTART:20220327T010000
END:DAYLIGHT
BEGIN:STANDARD
TZOFFSETFROM:+0200
TZOFFSETTO:+0100
TZNAME:CET
DTSTART:20221030T010000
END:STANDARD
BEGIN:DAYLIGHT
TZOFFSETFROM:+0100
TZOFFSETTO:+0200
TZNAME:CEST
DTSTART:20230326T010000
END:DAYLIGHT
BEGIN:STANDARD
TZOFFSETFROM:+0200
TZOFFSETTO:+0100
TZNAME:CET
DTSTART:20231029T010000
END:STANDARD
END:VTIMEZONE
BEGIN:VEVENT
DTSTART;TZID=Europe/Berlin:20220510T193000
DTEND;TZID=Europe/Berlin:20220510T213000
DTSTAMP:20260426T000250
CREATED:20220429T114722Z
LAST-MODIFIED:20220506T174842Z
UID:26709-1652211000-1652218200@hirschau-aktuell.de
SUMMARY:Ortschaftsratssitzung
DESCRIPTION:Die nächste öffentliche Sitzung des Ortschaftsrates Hirschau findet am\nDienstag\, den 10. Mai 2022 um 19.30 Uhr in der Turnhalle statt. \nTagesordnung\n\nMitteilungen\nOrtsdurchfahrt Hirschau\, Erörterung Vorschläge des Ortschaftsrates\nVergabekriterien für Plätze in Kindertageseinrichtungen\nFragestunde für Einwohner\nFragen und Anregungen aus der Mitte des Ortschaftsrats\nBaugesuche\nSonstiges\n7.1 Bericht zum Umsetzungsstand von Ausgleichsmaßnahmen und Ökokonto\n7.2 Bericht über die Photovoltaik-Pflicht-Verordnung\n7.3 Zustandserfassung der städtischen Verkehrsinfrastruktur\n\nEingang und Ausgang sind getrennt.\nDie Mitglieder des Gremiums werden in ausreichendem Abstand zueinander sitzen. Für Zuhörer wird ein Bereich eingerichtet\, in dem die Stühle ebenfalls mit ausreichendem Abstand zueinander aufgestellt\nwerden. Beim Betreten und Verlassen der Halle ist der erforderliche Sicherheitsabstand von mindestens 1\,50 Meter einzuhalten. Es besteht eine Maskenpflicht (medizinische Maske oder FFP2-Standard).
URL:https://hirschau-aktuell.de/event/ortschaftsratssitzung-8/
LOCATION:Turn- und Festhallehalle\, Schulstr. 28\, Tübingen\, 72070\, Deutschland
ORGANIZER;CN="Verwaltung":MAILTO:rathaus-hirschau@tuebingen
END:VEVENT
BEGIN:VEVENT
DTSTART;TZID=Europe/Berlin:20220513T193000
DTEND;TZID=Europe/Berlin:20220513T213000
DTSTAMP:20260426T000250
CREATED:20220411T194838Z
LAST-MODIFIED:20220411T194859Z
UID:26555-1652470200-1652477400@hirschau-aktuell.de
SUMMARY:Mitgliederversammlung der Nachbarschaftshilfe
DESCRIPTION:Einladung zur ordentlichen Mitgliederversammlung am Freitag\, 13.05.2022 um 19.30 Uhr in der Turnhalle Hirschau \nTagesordnung\nBegrüßung\nFeststellung der Beschlussfähigkeit und der ordnungsgemäßen Einladung\nBericht des 1. Vorsitzenden\nBericht des Kassenwart\nBericht der Kassenprüfer\nAussprache zu den Berichten\nEntlastung des Vorstandes\nWahl eines Vorstandsmitgliedes\nWünsche und Anregungen\, Anträge\nSonstiges \nWünsche\, Anregungen und Anträge bitten wir in schriftlicher Form bis zum 06.05.2022 bei der Geschäftsstelle in der Kingersheimerstr. 46 oder per Email (info@nachbarschaftshilfe-hirschau.de) einzureichen. \nAlle Mitglieder und Interessenten sind herzlich eingeladen. \nVorsitzender \nDr. Gernot Ehrmann \nDie Mitgliederversammlung findet unter Einhaltung der aktuell gültigen Corona-Verordnung statt. \n 
URL:https://hirschau-aktuell.de/event/mitgliederversammlung-der-nachbarschaftshilfe/
LOCATION:Turn- und Festhallehalle\, Schulstr. 28\, Tübingen\, 72070\, Deutschland
ATTACH;FMTTYPE=image/jpeg:https://hirschau-aktuell.de/wp-content/uploads/2022/04/nbh_Nachbarschaftshilfe_Header.jpg
END:VEVENT
BEGIN:VEVENT
DTSTART;TZID=Europe/Berlin:20220514T100000
DTEND;TZID=Europe/Berlin:20220514T130000
DTSTAMP:20260426T000250
CREATED:20220430T050005Z
LAST-MODIFIED:20220316T103808Z
UID:26238-1652522400-1652533200@hirschau-aktuell.de
SUMMARY:Kleidertauschtag
DESCRIPTION:Wann: Am 14. Mai 2022 von 10:00 Uhr bis 13:00 Uhr \nWo: Im Ratsstüble Hirschau\, Kingersheimer Str. 46 \nNehmt euch die Kleidung\, die euch gefällt und bringt auch gerne gut erhaltene Kleidungsstücke mit. \n  \nInformation und Kontakt: Ratsstüble Hirschau e.V. Kingersheimerstr. 46 72070 Tübingen\ninfo@ratsstüble-hirschau.de\, Tel.: 07071-9955733\, Bürozeiten: Di. 10-12 Uhr und Do. 16-18 Uhr \n 
URL:https://hirschau-aktuell.de/event/kleidertauschtag/
LOCATION:Ratsstüble Hirschau\, Kingersheimer Straße 46
ATTACH;FMTTYPE=image/png:https://hirschau-aktuell.de/wp-content/uploads/2021/09/rsh_Logo_Ratsstueble_als_Beitragsbild.png
END:VEVENT
BEGIN:VEVENT
DTSTART;TZID=Europe/Berlin:20220517T193000
DTEND;TZID=Europe/Berlin:20220517T213000
DTSTAMP:20260426T000250
CREATED:20220507T163653Z
LAST-MODIFIED:20220509T154333Z
UID:26718-1652815800-1652823000@hirschau-aktuell.de
SUMMARY:Was bringt uns die EU?
DESCRIPTION:Krieg in der Ukraine\, Klimakrise\, Pandemie \nEs wird immer klarer\, dass einzelne Staaten von den großen Krisen der heutigen Zeit hoffnungslos überfordert sind. Es braucht eine wirkungsstarke EU\, um die Krisen erfolgreich angehen zu können. \nGleichzeitig sind antieuropäische Kräfte insbesondere am rechten Spektrum unserer Gesellschaft erstarkt. Sie versuchen nationalstaatliche Eigeninteressen auf Kosten der EU zu stärken. \nNoch nie war die EU so wichtig wie heute\, – und noch nie so gefährdet. \n\nWie wirken sich die Krisen auf das komplizierte politische System der EU aus?\nWelche Einflussmöglichkeiten für Bürger*innen gibt es überhaupt?\nWas können wir tun\, um die EU „zu den Menschen zu bringen“?\n\nBerlin – weit weg? Brüssel – noch weiter? \n(Wie) Können wir den Politikgestaltungsprozess\, in dem wir leben\, aktiv mitgestalten? \nEs diskutieren miteinander und mit Ihnen: \nProf. Dr. Annegret Eppler\, Professorin für öffentliches Recht an der Hochschule für öffentliche Verwaltung Kehl und Inhaberin eines von\nder EU geförderten „Jean Monnet Lehrstuhls“ \nAnni Schlumberger\, Geschäftsführerin der Human IT Services GmbH\, Tübingen\, Betreuerin der Online Plattform „PolitAktiv“ und Veranstalterin kommunaler Bürgerbeteiligungsprozesse \nDienstag\, 17.05.22\, 19.30 Uhr \nOrt: Ratsstüble Dorfkneipe \n Der Eintritt ist kostenlos\, über Spenden freuen wir uns. \n 
URL:https://hirschau-aktuell.de/event/was-bringt-uns-die-eu/
LOCATION:Ratsstüble Hirschau\, Kingersheimer Straße 46
ORGANIZER;CN="Ratsst%C3%BCble Hirschau e. V.":MAILTO:info@ratsstueble-hirschau.de
END:VEVENT
BEGIN:VEVENT
DTSTART;TZID=Europe/Berlin:20220519T200000
DTEND;TZID=Europe/Berlin:20220519T220000
DTSTAMP:20260426T000250
CREATED:20220429T090023Z
LAST-MODIFIED:20220430T112508Z
UID:26706-1652990400-1652997600@hirschau-aktuell.de
SUMMARY:Veranstaltung zum Geburtstag von Gerhard Polt
DESCRIPTION:Liebes Lesepublikum!\nwir freuen uns ausgesprochen\, mit Ihnen am Donnerstag\, den 19. Mai 2022 ab 20 Uhr den 80sten Geburtstag von Gerhard Polt im LiLA Laden feiern zu können mit:\nWerner Schärdel und Tuba Libre und ihrem Programm Reschbeggd\n\n \nDieses Programm beinhaltet beste und berühmteste Stücke von Gerhard Polt\, ganz nah am Original dargebracht von Werner Schärdel sowie musikalisch untermalt von Tuba Libre\, d.s. Michael Niethammer und Joachim Stahl. \nDer Eintritt beträgt 12\,80 €.  Für gute Stimmung ist gesorgt. \nWir freuen uns auf diesen Abend und auf Sie / Euch\nAgatha und Andreas Truniger
URL:https://hirschau-aktuell.de/event/veranstaltung-zum-geburtstag-von-gerhard-polt/
LOCATION:LilA Laden\, Im Öschle 2\, Hirschau\, 72070
ATTACH;FMTTYPE=image/png:https://hirschau-aktuell.de/wp-content/uploads/2022/04/lila_Laden_Header.png
ORGANIZER;CN="Agatha und Andreas Truniger":MAILTO:derlilaladen@t-online.de
END:VEVENT
BEGIN:VEVENT
DTSTART;TZID=Europe/Berlin:20220524T193000
DTEND;TZID=Europe/Berlin:20220524T213000
DTSTAMP:20260426T000250
CREATED:20220514T141323Z
LAST-MODIFIED:20220522T130230Z
UID:26772-1653420600-1653427800@hirschau-aktuell.de
SUMMARY:Wir fahren nach San Francisco
DESCRIPTION:Szenen einer deutsch-amerikanischen Familie \nLesung mit Musik \n„Wir fahren nach San Francisco“\, d.h.\, hauptsächlich zum Flughafen. Nicht ganz alltägliche Szenen einer deutsch-amerikanischen Familie\, deren Mitglieder immer wieder hin- und herfliegen\, um sich und die alte Heimat – was auch immer die einzelnen Personen damit verbinden – zu besuchen. \n \nEdna Grasshorn liest aus ihrem Manuskript\, das in einem Projekt mit Schwerpunkt interkulturelle Spannungen und Familiendynamiken entstand und vom Ministerium für Wissenschaft\, Forschung und Kunst Baden-Württemberg gefördert wurde. \nFür die Musikalische Umrahmung sorgt Andreas Gebhardt am e-piano. \nDienstag\, 24.05.22\, 19.30 Uhr \nOrt: Ratsstüble Dorfkneipe \n Der Eintritt ist kostenlos\, über Spenden freuen wir uns.
URL:https://hirschau-aktuell.de/event/wir-fahren-nach-san-francisco/
LOCATION:Ratsstüble Hirschau\, Kingersheimer Straße 46
ORGANIZER;CN="Ratsst%C3%BCble Hirschau e. V.":MAILTO:info@ratsstueble-hirschau.de
END:VEVENT
BEGIN:VEVENT
DTSTART;TZID=Europe/Berlin:20220526T160000
DTEND;TZID=Europe/Berlin:20220526T180000
DTSTAMP:20260426T000250
CREATED:20220521T120008Z
LAST-MODIFIED:20220521T235024Z
UID:26926-1653580800-1653588000@hirschau-aktuell.de
SUMMARY:TSV Hirschau Fußball Bezirkspokal Finale
DESCRIPTION:Finale Bezirkspokal in Eningen/Achalm: Donnerstag\, 26.05.2022\, 16.00 Uhr:\nSV Zainingen – TSV Hirschau \nWirklich nochmals ALLES in die Waagschale werfen wird der TSV beim Bezirkspokalfinale am Vatertag nächsten Donnerstag in Eningen/Achalm. Fast auf den Tag genau 30 Jahre nachdem der TSV letztmals das Endspiel erreicht (und damals im Elfmeterschießen gegen Wannweil verloren hat) wäre der Titel die Krönung einer überragenden Saison. Aufgrund der aktuellen personellen Situation sind die Voraussetzungen zwar nicht die besten\, aber das Hirschauer Team hat die Klasse\, den Teamgeist und auch den Willen\, den Pokal nach Hirschau zu holen\, egal welche Spieler letztendlich auf dem Platz stehen.\nEs wäre deshalb super\, wenn zahlreiche Hirschauer Fans an Himmelfahrt ihren Ausflug nach Eningen machen oder dort beenden und die Hirschauer Jungs lautstark unterstützen würden. \nDer TSV wird einen Bus zum Spiel nach Eningen chartern\, Anmeldung bei Manfred Gottschalk unter 0163/3456080 (Unkostenbeitrag 10 €).\nNähere Infos dann noch im nächsten Mitteilungsblatt am kommenden Mittwoch. \nWeitere aktuelle Informationen zu den Fußballern auf der TSV Homepage
URL:https://hirschau-aktuell.de/event/tsv-hirschau-fussball-bezirkspokal-finale/
LOCATION:Sportplatz Eningen unter Achalm\, Pfullinger Straße 5\, Eningen unter Achalm\, 72800
ATTACH;FMTTYPE=image/png:https://hirschau-aktuell.de/wp-content/uploads/2021/09/tsv_fussball.png
ORGANIZER;CN="TSV Hirschau":MAILTO:kontakt@tsv-hirschau.de
END:VEVENT
BEGIN:VEVENT
DTSTART;TZID=Europe/Berlin:20220531T193000
DTEND;TZID=Europe/Berlin:20220531T213000
DTSTAMP:20260426T000250
CREATED:20220521T100015Z
LAST-MODIFIED:20220530T172807Z
UID:26783-1654025400-1654032600@hirschau-aktuell.de
SUMMARY:Was ist eigentlich Traditionelle Chinesische Medizin?
DESCRIPTION:Vortrag mit Gespräch  \nDie Traditionelle Chinesische Medizin (TCM) ist über 2500 Jahre alt und wird heute in der ganzen Welt erfolgreich praktiziert. Viele verbinden diese Heilkunst lediglich mit Akupunktur\, aber sie ist sehr viel mehr. \nDie Erläuterung von Basisbegriffen wie Yin und Yang\, Qi\, Meridiane etc. steht am Anfang des Vortrags. Im Anschluss daran werden die besonderen Stärken der Diagnostik und Therapie in der TCM im Vergleich zur Schulmedizin aufgezeigt und konkret am Beispiel einer Patientin erläutert. \nBiografische Daten: \nDr. Bärbel Häusermann-Barnekow ist praktische Ärztin\, Ärztin für Naturheilverfahren und Traditionelle Chinesische Medizin (TCM) sowie Psychosomatikerin. \nSie begann 1988 mit ihrer TCM-Ausbildung u.a. bei Prof. Li Bo Ning (Sichuan/China). Seit 1999 praktiziert sie als niedergelassene Ärztin in Tübingen und ist seit vielen Jahren Lehrbeauftragte an der Medizinischen Fakultät der Universität Tübingen. \nDonnerstag\, 31.05.2022\, 19.30 Uhr \nOrt: Ratsstüble Dorfkneipe \nDer Eintritt ist kostenlos\, über Spenden freuen wir uns.
URL:https://hirschau-aktuell.de/event/was-ist-eigentlich-traditionelle-chinesische-medizin/
LOCATION:Ratsstüble Hirschau\, Kingersheimer Straße 46
ORGANIZER;CN="Ratsst%C3%BCble Hirschau e. V.":MAILTO:info@ratsstueble-hirschau.de
END:VEVENT
END:VCALENDAR