BEGIN:VCALENDAR
VERSION:2.0
PRODID:-//Hirschau Aktuell - ECPv6.15.20//NONSGML v1.0//EN
CALSCALE:GREGORIAN
METHOD:PUBLISH
X-WR-CALNAME:Hirschau Aktuell
X-ORIGINAL-URL:https://hirschau-aktuell.de
X-WR-CALDESC:Veranstaltungen für Hirschau Aktuell
REFRESH-INTERVAL;VALUE=DURATION:PT1H
X-Robots-Tag:noindex
X-PUBLISHED-TTL:PT1H
BEGIN:VTIMEZONE
TZID:Europe/Berlin
BEGIN:DAYLIGHT
TZOFFSETFROM:+0100
TZOFFSETTO:+0200
TZNAME:CEST
DTSTART:20210328T010000
END:DAYLIGHT
BEGIN:STANDARD
TZOFFSETFROM:+0200
TZOFFSETTO:+0100
TZNAME:CET
DTSTART:20211031T010000
END:STANDARD
BEGIN:DAYLIGHT
TZOFFSETFROM:+0100
TZOFFSETTO:+0200
TZNAME:CEST
DTSTART:20220327T010000
END:DAYLIGHT
BEGIN:STANDARD
TZOFFSETFROM:+0200
TZOFFSETTO:+0100
TZNAME:CET
DTSTART:20221030T010000
END:STANDARD
BEGIN:DAYLIGHT
TZOFFSETFROM:+0100
TZOFFSETTO:+0200
TZNAME:CEST
DTSTART:20230326T010000
END:DAYLIGHT
BEGIN:STANDARD
TZOFFSETFROM:+0200
TZOFFSETTO:+0100
TZNAME:CET
DTSTART:20231029T010000
END:STANDARD
END:VTIMEZONE
BEGIN:VEVENT
DTSTART;TZID=Europe/Berlin:20220806T170000
DTEND;TZID=Europe/Berlin:20220806T220000
DTSTAMP:20260425T190236
CREATED:20220724T080021Z
LAST-MODIFIED:20220724T090626Z
UID:27440-1659805200-1659823200@hirschau-aktuell.de
SUMMARY:1 Jahr Ratsstüble - wir feiern!
DESCRIPTION:Wer hätte es gedacht? Schon wieder 1 Jahr vorbei und in diesem einen Jahr haben wir Erstaunliches im Ratsstüble auf die Beine gestellt! Das wollen wir feiern und zwar \nam Samstag\, den 6.8.2022 ab 17 Uhr am und im Ratsstüble. \nWir laden alle Hirschauerinnen und Hirschauer herzlich dazu ein\, mit uns zu feiern. \nUnser Programm: \n\n17 Uhr Begrüßung\ndann Musik mit den Guitar Girls\ngleichzeitig Kinderschminken im Stadtteiltreff\n18 Uhr Zaubern für Kinder\ndann Vorführung der Theatergruppe\nund Ausklang mit der Musik der Guitar Girls\n\nThe GUITAR GIRLS \nspielen und singen bekannte Rock-\, Pop- und Folksongs\, von romantischen Balladen für Herz und Seele bis hin zu groovigen Hits. Das Zusammentreffen von Gesang\, rhythmischer Gitarrenbegleitung sowie abwechslungsreichen Gitarren-Solis bringen den Sommer erst so richtig in Schwung. \nPia Sommer: Gesang\, Rhythmusgitarre\, Querflöte\nNicole Milde: Rhythmus- und Sologitarre\, Melodica \n  \nU. Sichau\nRatsstüble Hirschau e. V.
URL:https://hirschau-aktuell.de/event/1-jahr-ratsstueble-wir-feiern/
LOCATION:Ratsstüble Hirschau\, Kingersheimer Straße 46
ATTACH;FMTTYPE=image/png:https://hirschau-aktuell.de/wp-content/uploads/2022/07/1-jaehriges-Plakat4.png
ORGANIZER;CN="Ratsst%C3%BCble Hirschau e. V.":MAILTO:info@ratsstueble-hirschau.de
END:VEVENT
BEGIN:VEVENT
DTSTART;TZID=Europe/Berlin:20220818T190000
DTEND;TZID=Europe/Berlin:20220818T210000
DTSTAMP:20260425T190236
CREATED:20220817T083613Z
LAST-MODIFIED:20220817T083613Z
UID:27680-1660849200-1660856400@hirschau-aktuell.de
SUMMARY:Gute-Nacht-Geschichten am Donnerstag\, den 18.8.2022
DESCRIPTION:Wir freuen uns auf den nächsten Abend mit Gute-Nacht-Geschichten im Ratsstüble\n \nWann:   am Donnerstag\, den 18.8.2022 um 19 Uhr 30. Einlass ab 19 Uhr \nEs lesen: \n\n\n\nRegine Wilke-Schweizerhof\nRobert Seethaler:\nDie weiteren Aussichten\n\n\nEdna Grasshorn\nEdna Grasshorn :\nWir fahren nach San Francisco\n\n\n\nDavor und in der Pause dazwischen kann man sich bei den Getränken bedienen.
URL:https://hirschau-aktuell.de/event/gute-nacht-geschichten-am-donnerstag-den-18-8-2022/
LOCATION:Ratsstüble Hirschau\, Kingersheimer Straße 46
ATTACH;FMTTYPE=image/png:https://hirschau-aktuell.de/wp-content/uploads/2022/08/rsh-Gute-Nacht-Geschichten2.png
ORGANIZER;CN="Ratsst%C3%BCble Hirschau e. V.":MAILTO:info@ratsstueble-hirschau.de
END:VEVENT
END:VCALENDAR