BEGIN:VCALENDAR
VERSION:2.0
PRODID:-//Hirschau Aktuell - ECPv6.15.20//NONSGML v1.0//EN
CALSCALE:GREGORIAN
METHOD:PUBLISH
X-ORIGINAL-URL:https://hirschau-aktuell.de
X-WR-CALDESC:Veranstaltungen für Hirschau Aktuell
REFRESH-INTERVAL;VALUE=DURATION:PT1H
X-Robots-Tag:noindex
X-PUBLISHED-TTL:PT1H
BEGIN:VTIMEZONE
TZID:Europe/Berlin
BEGIN:DAYLIGHT
TZOFFSETFROM:+0100
TZOFFSETTO:+0200
TZNAME:CEST
DTSTART:20210328T010000
END:DAYLIGHT
BEGIN:STANDARD
TZOFFSETFROM:+0200
TZOFFSETTO:+0100
TZNAME:CET
DTSTART:20211031T010000
END:STANDARD
BEGIN:DAYLIGHT
TZOFFSETFROM:+0100
TZOFFSETTO:+0200
TZNAME:CEST
DTSTART:20220327T010000
END:DAYLIGHT
BEGIN:STANDARD
TZOFFSETFROM:+0200
TZOFFSETTO:+0100
TZNAME:CET
DTSTART:20221030T010000
END:STANDARD
BEGIN:DAYLIGHT
TZOFFSETFROM:+0100
TZOFFSETTO:+0200
TZNAME:CEST
DTSTART:20230326T010000
END:DAYLIGHT
BEGIN:STANDARD
TZOFFSETFROM:+0200
TZOFFSETTO:+0100
TZNAME:CET
DTSTART:20231029T010000
END:STANDARD
END:VTIMEZONE
BEGIN:VEVENT
DTSTART;TZID=Europe/Berlin:20221009T080000
DTEND;TZID=Europe/Berlin:20221009T103000
DTSTAMP:20260425T153636
CREATED:20220930T095913Z
LAST-MODIFIED:20220930T102314Z
UID:27997-1665302400-1665311400@hirschau-aktuell.de
SUMMARY:Vogelexkursion in Hirschau am 09.10.22 um 08:00
DESCRIPTION:Neuntöter – Quelle: nabu.de\nDas Umweltzentrum Tübingen bietet eine weitere Vogelexkursion in Hirschau an\, bei der es um die Vogelwelt im Neckartal in Flussnähe und rund um die Baggerseen gehen wird. Die Exkursion leitet der Biologe Konstantin Bock\, der auch schon unsere Vogelführung im April sehr interessant und sachkundig gestaltet hat. Die Teilnahme setzt eine Anmeldung beim Umweltzentrum voraus. \nBraunkehlchen – Quelle: nabu.de\nTermin: Sonntag 9.10.2022\, 8 Uhr\nTreffpunkt: Hirschau\, Haltestelle Rittweg West \nAlter: ab 12 Jahren\nLeitung: Konstantin Bock \nAnmeldung: uwz@umweltzentrum-tuebingen.de
URL:https://hirschau-aktuell.de/event/vogelexkursion-in-hirschau-am-09-10-22-um-0800/
END:VEVENT
BEGIN:VEVENT
DTSTART;TZID=Europe/Berlin:20221009T140000
DTEND;TZID=Europe/Berlin:20221009T160000
DTSTAMP:20260425T153636
CREATED:20220916T080038Z
LAST-MODIFIED:20220915T230346Z
UID:27882-1665324000-1665331200@hirschau-aktuell.de
SUMMARY:Hirschauer Seniorenfeier
DESCRIPTION:Die Mitglieder des Ortschaftsrates laden traditionell alle Hirschauer Mitbürgerinnen und Mitbürger ab dem 70. Lebensjahr zur Seniorenfeier am Sonntag\, den 9. Oktober 2022\, ab 14.00 Uhr in die Turn- und Festhalle ein. Die Einladungen wurden in den letzten Tagen verschickt.\nSollten Sie 70 Jahre oder älter sein\, und keine persönliche Einladung bekommen\, so sind auch Sie\, gemeinsam mit Ihrem Partner/Ihrer Partnerin herzlich eingeladen.
URL:https://hirschau-aktuell.de/event/hirschauer-seniorenfeier-2/
LOCATION:Turn- und Festhallehalle\, Schulstr. 28\, Tübingen\, 72070\, Deutschland
ORGANIZER;CN="Verwaltung":MAILTO:rathaus-hirschau@tuebingen
END:VEVENT
BEGIN:VEVENT
DTSTART;TZID=Europe/Berlin:20221010T193000
DTEND;TZID=Europe/Berlin:20221010T210000
DTSTAMP:20260425T153636
CREATED:20221003T173919Z
LAST-MODIFIED:20221002T174215Z
UID:28019-1665430200-1665435600@hirschau-aktuell.de
SUMMARY:Offenes Plenum am 10.10.22 um 19:30 im Stadtteiltreff im Ratsstüble
DESCRIPTION:Der für Montag 10. Oktober vorgesehene Vortrags- und Gesprächsabend „Gemeinwohl-Ökonomie – alternatives Wirtschaften in Kooperation und Solidarität“ muss verschoben werden. Er wird am Montag 28. November im Ratsstüble stattfinden. \nStattdessen nutzen wir den Abend für unser nächstes Offenes Plenum – am Montag 10. Oktober um 19.30 Uhr im Stadtteiltreff im Ratsstüble. Als Themen sind u.a. vorgesehen: Stadtteilentwicklung mit Nachhaltigkeit\, Verkehr und Nahversorgung\, die OB-Wahl am 23. Oktober sowie die Planung der nächsten Veranstaltungen. Wie immer sind weitere Themen und Anregungen willkommen. \nHerzliche Einladung an Interessierte\, Freunde und Mitglieder der Grünen Liste Hirschau! \nZum OB-Wahlkampf noch zwei Terminhinweise:\n\nNach ihrem Ortsrundgang am 8. Juni kommt Uli Baumgärtner am Samstag 8. Oktober von 9.30 bis 10.30 Uhr noch einmal mit einem Infostand nach Hirschau\, vsl. beim Metzger und Bäcker.\nUnd am Donnerstag 13. Oktober um 15.30 Uhr startet Boris Palmer zu einem Ortsrundgang am Rathaus. Seinem Wahlprogramm entnehmen wir:\n\n\n„In Hirschau sollte die ganze Ortsdurchfahrt auf Tempo 30 umgebaut werden.“\n\nEine gute Gelegenheit\, die beiden kritisch zu befragen und grüne Anliegen einzubringen!
URL:https://hirschau-aktuell.de/event/offenes-plenum-am-10-10-22-um-1930-im-stadtteiltreff-im-ratsstueble/
LOCATION:Ratsstüble Hirschau\, Kingersheimer Straße 46
ATTACH;FMTTYPE=image/jpeg:https://hirschau-aktuell.de/wp-content/uploads/2021/01/glh-grueneListeHirschauBeitragsbild.jpg
ORGANIZER;CN="Gr%C3%BCne Liste Hirschau":MAILTO:anmeldung@gruenelistehirschau.de
END:VEVENT
BEGIN:VEVENT
DTSTART;TZID=Europe/Berlin:20221010T193000
DTEND;TZID=Europe/Berlin:20221010T210000
DTSTAMP:20260425T153636
CREATED:20221008T083931Z
LAST-MODIFIED:20221008T083931Z
UID:28074-1665430200-1665435600@hirschau-aktuell.de
SUMMARY:Offenes Plenum am 10.10.22 um 19:30 im Stadtteiltreff im Ratsstüble
DESCRIPTION:Der für Montag 10. Oktober vorgesehene Vortrags- und Gesprächsabend „Gemeinwohl-Ökonomie – alternatives Wirtschaften in Kooperation und Solidarität“ muss verschoben werden. Er wird am Montag 28. November im Ratsstüble stattfinden. \nStattdessen nutzen wir den Abend für unser nächstes Offenes Plenum – am Montag 10. Oktober um 19.30 Uhr im Stadtteiltreff im Ratsstüble. Als Themen sind u.a. vorgesehen: Stadtteilentwicklung mit Nachhaltigkeit\, Verkehr und Nahversorgung\, die OB-Wahl am 23. Oktober sowie die Planung der nächsten Veranstaltungen. Wie immer sind weitere Themen und Anregungen willkommen. \nHerzliche Einladung an Interessierte\, Freunde und Mitglieder der Grünen Liste Hirschau! \nZum OB-Wahlkampf noch zwei Terminhinweise:\n\nNach ihrem Ortsrundgang am 8. Juni kommt Uli Baumgärtner am Samstag 8. Oktober von 9.30 bis 10.30 Uhr noch einmal mit einem Infostand nach Hirschau\, vsl. beim Metzger und Bäcker.\nUnd am Donnerstag 13. Oktober um 15.30 Uhr startet Boris Palmer zu einem Ortsrundgang am Rathaus. Seinem Wahlprogramm entnehmen wir:\n\n\n„In Hirschau sollte die ganze Ortsdurchfahrt auf Tempo 30 umgebaut werden.“\n\nEine gute Gelegenheit\, die beiden kritisch zu befragen und grüne Anliegen einzubringen!
URL:https://hirschau-aktuell.de/event/offenes-plenum-am-10-10-22-um-1930-im-stadtteiltreff-im-ratsstueble-2/
LOCATION:Ratsstüble Hirschau\, Kingersheimer Straße 46
ATTACH;FMTTYPE=image/jpeg:https://hirschau-aktuell.de/wp-content/uploads/2021/01/glh-grueneListeHirschauBeitragsbild.jpg
ORGANIZER;CN="Gr%C3%BCne Liste Hirschau":MAILTO:anmeldung@gruenelistehirschau.de
END:VEVENT
BEGIN:VEVENT
DTSTART;TZID=Europe/Berlin:20221011T193000
DTEND;TZID=Europe/Berlin:20221011T210000
DTSTAMP:20260425T153636
CREATED:20221006T155517Z
LAST-MODIFIED:20221006T155517Z
UID:28050-1665516600-1665522000@hirschau-aktuell.de
SUMMARY:Seelische Gesundheit - seelische Krankheit. Was ist das eigentlich?
DESCRIPTION:Veranstaltung des Stadtteiltreffs im Rahmen der Gesundheitswoche \nVortrag mit Gespräch \nFrau Dr. Friederike Wernz (Oberärztin an der Universitätsklinik für Psychiatrie und Psychotherapie) erarbeitet gemeinsam mit den Anwesenden\, was der Begriff psychische Krankheit meint\, wie Diagnosen gestellt werden\, welche Behandlungsmöglichkeiten es gibt und was Prävention in diesem Zusammenhang bedeuten kann\, damit wir uns am Ende dem Motto des diesjährigen Welttages der seelischen Gesundheit annähern: \n„Reden hebt die Stimmung – seelisch gesund in unserer Gesellschaft“ \nZeit:    Dienstag\, 11.10.22\, 19.30 Uhr\nOrt:     Ratsstüble Dorfkneipe \nDer Eintritt ist kostenlos\, über Spenden freuen wir uns.
URL:https://hirschau-aktuell.de/event/seelische-gesundheit-seelische-krankheit-was-ist-das-eigentlich/
LOCATION:Ratsstüble Hirschau\, Kingersheimer Straße 46
ATTACH;FMTTYPE=image/png:https://hirschau-aktuell.de/wp-content/uploads/2022/09/rsh-selische-Gesundheit.png
ORGANIZER;CN="Ratsst%C3%BCble Hirschau e. V.":MAILTO:info@ratsstueble-hirschau.de
END:VEVENT
BEGIN:VEVENT
DTSTART;TZID=Europe/Berlin:20221016T110000
DTEND;TZID=Europe/Berlin:20221016T130000
DTSTAMP:20260425T153636
CREATED:20221009T073054Z
LAST-MODIFIED:20221009T201924Z
UID:28046-1665918000-1665925200@hirschau-aktuell.de
SUMMARY:Vernissage "im umland" mit Anja Winker
DESCRIPTION:Neue Ausstellung im Ratsstüble:\nim umland\nAnja Winker\, Öl- und Acrylbilder und Druckgrafiken \nMit ihren Öl- und Acrylbildern zeigt uns Anja Winker Landschaften „im umland“. Es sind Orte\, die sie anziehen und die sie häufig besucht. Wenn sie malt\, geht es ihr nicht um den Wiedererkennungswert dieser Orte. Ihr ist es wichtig\, die Stimmung einzufangen und das sinnliche Erleben vor Ort im Bild zum Ausdruck zu bringen. Die Farbe ist dabei das wesentliche Vehikel\, um dem Betrachter etwas von ihrem Erleben zu vermitteln.\nAnja Winker experimentiert außerdem mit Druckgrafiken. Sie arbeitet dabei assoziativ\, schaut\, was entsteht und was der Zufall bringt. Das Zufallsprodukt wird zum Initiator des weiteren künstlerischen Prozesses und letzten Endes zum künstlerischen Werk. \nAusstellungseröffnung:\nSonntag\, 16.10.2022 um 11 Uhr im Ratsstüble\nAlle sind herzlich eingeladen\, der Eintritt ist frei! \nBeitragsbild: Grafik\, Anja Winker
URL:https://hirschau-aktuell.de/event/vernissage-im-umland-mit-anja-winker/
LOCATION:Ratsstüble Hirschau\, Kingersheimer Straße 46
ORGANIZER;CN="Ratsst%C3%BCble Hirschau e. V.":MAILTO:info@ratsstueble-hirschau.de
END:VEVENT
BEGIN:VEVENT
DTSTART;TZID=Europe/Berlin:20221018T193000
DTEND;TZID=Europe/Berlin:20221018T213000
DTSTAMP:20260425T153636
CREATED:20221007T215515Z
LAST-MODIFIED:20221013T212417Z
UID:28066-1666121400-1666128600@hirschau-aktuell.de
SUMMARY:Ortschaftsratssitzung
DESCRIPTION:Die nächste Öffentliche Sitzung des Ortschaftsrats Hirschau findet am\nDienstag\, 18. Oktober 2022 um 19.30 Uhr im Rathaus\, Sitzungssaal\, Kingersheimer Straße 57 statt. \nTagesordnung:\n\nMitteilungen\nSatzung über ein besonderes Vorkaufsrecht (Verkaufssatzung) für die Erweiterung des Gewerbegebiets „Rittweg Nord“\nFragestunde für Einwohner\nFragen und Anregungen aus der Mitte des Ortschaftsrats\nBaugesuche\nSonstiges\nBericht über neue Möglichkeiten zur Wohnraumschaffung aufgrund des Baulandmobilisierungsgesetzes
URL:https://hirschau-aktuell.de/event/ortschaftsratssitzung-11/
LOCATION:Rathaus Hirschau\, Kingersheimerstr. 57\, Tübingen\, 72070\, Deutschland
ORGANIZER;CN="Verwaltung":MAILTO:rathaus-hirschau@tuebingen
END:VEVENT
BEGIN:VEVENT
DTSTART;TZID=Europe/Berlin:20221020T193000
DTEND;TZID=Europe/Berlin:20221020T210000
DTSTAMP:20260425T153636
CREATED:20221015T194146Z
LAST-MODIFIED:20221015T194635Z
UID:28136-1666294200-1666299600@hirschau-aktuell.de
SUMMARY:Der Körper sagt mehr als Worte – ob wir wollen oder nicht.
DESCRIPTION:Vortrag mit Gespräch \n Diplompädagogin Claudia Stöckl führt ein in die Grundlagen der Kommunikation und erklärt\, warum Kommunikation immer auf mehreren Ebenen geschieht. \nSie verdeutlicht\, dass sie weit über das gesprochene Wort hinaus geht. \nMit anschaulichen Beispielen erläutert sie die gewollte und manchmal ungewollte Wirkung der Körpersprache. \nDonnerstag\, 20.10.22\, 19.30 Uhr\nOrt: Ratsstüble Dorfkneipe \nDer Eintritt ist kostenlos\, über Spenden freuen wir uns. \nBeitragsbild oben: Pixabay.com
URL:https://hirschau-aktuell.de/event/der-koerper-sagt-mehr-als-worte-ob-wir-wollen-oder-nicht-2/
LOCATION:Ratsstüble Hirschau\, Kingersheimer Straße 46
ATTACH;FMTTYPE=image/jpeg:https://hirschau-aktuell.de/wp-content/uploads/2022/10/gestures-g337787a21_640_pixabay.jpg
ORGANIZER;CN="Ratsst%C3%BCble Hirschau e. V.":MAILTO:info@ratsstueble-hirschau.de
END:VEVENT
BEGIN:VEVENT
DTSTART;TZID=Europe/Berlin:20221024T200000
DTEND;TZID=Europe/Berlin:20221024T220000
DTSTAMP:20260425T153636
CREATED:20220908T131417Z
LAST-MODIFIED:20220908T131417Z
UID:27803-1666641600-1666648800@hirschau-aktuell.de
SUMMARY:der LiLA Laden im Herbst
DESCRIPTION:Veranstaltung mit:\nArno Camenisch\n24. Oktober 22 \n  \nerzählt in seinem neuen Roman „Die Welt“ von\nden Jahren\, als er in seinen Zwanzigern war\, sein\nLeben auf den Kopf stellte und über die Kontinente\nzog\, die Sorgen fern waren und das Leben um die\nLiebe kreiste. Es waren die Nullerjahre\, die Welt\nwar im Wandel\, die Orte wechselten sich ab und\ndie Tage wurden zu Nächten. Moby und die Rolling\nStones lieferten den Soundtrack zu dieser Zeit. Und\nimmer wieder waren da dieses Gefühl der Enge\nund die Neugier auf die Welt\, die am Anfang jedes\nneuen Aufbruchs standen.\nBeginn 20 Uhr \n 
URL:https://hirschau-aktuell.de/event/der-lila-laden-im-herbst-2/
LOCATION:LilA Laden\, Im Öschle 2\, Hirschau\, 72070
ATTACH;FMTTYPE=image/png:https://hirschau-aktuell.de/wp-content/uploads/2022/04/lila_Laden_Header.png
ORGANIZER;CN="Agatha und Andreas Truniger":MAILTO:derlilaladen@t-online.de
END:VEVENT
BEGIN:VEVENT
DTSTART;TZID=Europe/Berlin:20221024T200000
DTEND;TZID=Europe/Berlin:20221024T220000
DTSTAMP:20260425T153636
CREATED:20221014T083344Z
LAST-MODIFIED:20221014T083344Z
UID:28123-1666641600-1666648800@hirschau-aktuell.de
SUMMARY:Liebes Lesepublikum!
DESCRIPTION:wir freuen uns\, dass wir Ihnen für den Oktober eine weitere spannende Veranstaltung ankündigen können:\nam Montag\, den 24. um 20 Uhr liest Arno Camenisch aus seinem neuen Band „Die Welt“ \n \nDer Graubündner Autor hat sich als Thema seines neuen Romans nichts Geringeres ausgesucht\, als seinen Auszug in die Welt! Er erzählt von den Jahren\, als er in seinen Zwanzigern war\, sein Leben auf den Kopf stellte und über die Kontinente zog\, die Sorgen fern waren und das Leben um die Liebe kreiste. Es waren die Nullerjahre\, die Welt war im Wandel\, die Orte wechselten sich ab\, und die Tage wurden zu Nächten\, Moby und die Rolling Stones lieferten den Soundtrack zu dieser Zeit. Und immer wieder waren da dieses Gefühl der Enge und die Neugier auf die Welt\, die am Anfang jedes neuen Aufbruchs standen.\nDie Neue Zürcher Zeitung (NZZ) schreibt:\n“ Wer Arno Camenischs im vergangenen Jahr erschienenen Roman «Der Schatten über dem Dorf» gelesen hatte\, wurde Zeuge eines kleinen literarischen Erdbebens. Man wusste sofort: Hier geht etwas zu Ende. Der Camenisch\, wie wir ihn kannten\, würde nicht noch einmal die Bühne betreten. Am Schluss des Buches stand eine unscheinbare Szene: Der Erzähler fuhr aus seinem Dorf in der Surselva weg. Buch um Buch hatte Camenisch über seine Herkunftswelt geschrieben; jedes beklagte den Untergang einer alten Welt\, jedes war ein kleines Requiem auf eine verschwundene Welt. Und nun verschwand der Erzähler selbst. Camenischs neustes Buch bestätigt nun\, was sich damals ahnen liess: Der Sänger der Surselva brach aus und auf. Nicht irgendwohin\, nein: «Die Welt» heisst sein jüngstes Buch.“\nFreuen Sie sich mit uns auf diesen spannenden\, literarischen Abend mit Arno Camenisch im LiLA Laden. Eintritt 12 Euro \nViele Grüsse und eine gute Woche wünschen\nAgatha und Andreas Truniger\nder LiLA Laden
URL:https://hirschau-aktuell.de/event/liebes-lesepublikum/
LOCATION:LilA Laden\, Im Öschle 2\, Hirschau\, 72070
ATTACH;FMTTYPE=image/png:https://hirschau-aktuell.de/wp-content/uploads/2022/04/lila_Laden_Header.png
ORGANIZER;CN="Agatha und Andreas Truniger":MAILTO:derlilaladen@t-online.de
END:VEVENT
BEGIN:VEVENT
DTSTART;TZID=Europe/Berlin:20221028T193000
DTEND;TZID=Europe/Berlin:20221028T220000
DTSTAMP:20260425T153636
CREATED:20221023T070040Z
LAST-MODIFIED:20221023T071320Z
UID:28185-1666985400-1666994400@hirschau-aktuell.de
SUMMARY:Guitar Girls im Ratsstüble
DESCRIPTION:Eigentlich sollten sie bei unserem Einjährigen-Fest im Sommer spielen. Leider musste das ausfallen. Jetzt kommen Sie live und leibhaftig ins Ratsstüble und zwar \nam Freitag\, 28.10.2022 um 19:30 Uhr \nDie beiden Musikerinnen spielen und singen bekannte Rock-\, Pop- und Folksongs\, von romantischen Balladen für Herz und Seele bis hin zu groovigen Hits. \nDer Eintritt ist frei\, um eine Spende wird gebeten. \nBeitragsbild: Nicole Milde
URL:https://hirschau-aktuell.de/event/guitar-girls-im-ratsstueble/
LOCATION:Ratsstüble Hirschau\, Kingersheimer Straße 46
ATTACH;FMTTYPE=image/jpeg:https://hirschau-aktuell.de/wp-content/uploads/2022/10/20210709-DSC_0174_2-scaled-e1666271759178.jpg
ORGANIZER;CN="Ratsst%C3%BCble Hirschau e. V.":MAILTO:info@ratsstueble-hirschau.de
END:VEVENT
END:VCALENDAR