BEGIN:VCALENDAR
VERSION:2.0
PRODID:-//Hirschau Aktuell - ECPv6.15.20//NONSGML v1.0//EN
CALSCALE:GREGORIAN
METHOD:PUBLISH
X-WR-CALNAME:Hirschau Aktuell
X-ORIGINAL-URL:https://hirschau-aktuell.de
X-WR-CALDESC:Veranstaltungen für Hirschau Aktuell
REFRESH-INTERVAL;VALUE=DURATION:PT1H
X-Robots-Tag:noindex
X-PUBLISHED-TTL:PT1H
BEGIN:VTIMEZONE
TZID:Europe/Berlin
BEGIN:DAYLIGHT
TZOFFSETFROM:+0100
TZOFFSETTO:+0200
TZNAME:CEST
DTSTART:20220327T010000
END:DAYLIGHT
BEGIN:STANDARD
TZOFFSETFROM:+0200
TZOFFSETTO:+0100
TZNAME:CET
DTSTART:20221030T010000
END:STANDARD
BEGIN:DAYLIGHT
TZOFFSETFROM:+0100
TZOFFSETTO:+0200
TZNAME:CEST
DTSTART:20230326T010000
END:DAYLIGHT
BEGIN:STANDARD
TZOFFSETFROM:+0200
TZOFFSETTO:+0100
TZNAME:CET
DTSTART:20231029T010000
END:STANDARD
BEGIN:DAYLIGHT
TZOFFSETFROM:+0100
TZOFFSETTO:+0200
TZNAME:CEST
DTSTART:20240331T010000
END:DAYLIGHT
BEGIN:STANDARD
TZOFFSETFROM:+0200
TZOFFSETTO:+0100
TZNAME:CET
DTSTART:20241027T010000
END:STANDARD
END:VTIMEZONE
BEGIN:VEVENT
DTSTART;TZID=Europe/Berlin:20230613T193000
DTEND;TZID=Europe/Berlin:20230613T213000
DTSTAMP:20260425T015251
CREATED:20230601T222239Z
LAST-MODIFIED:20230608T222012Z
UID:30472-1686684600-1686691800@hirschau-aktuell.de
SUMMARY:Ortschaftsratssitzung
DESCRIPTION:Die nächste öffentliche Sitzung des Ortschaftsrates Hirschau findet am Dienstag\, 13. Juni 2023 um 19.30 Uhr im Sitzungssaal des Rathauses statt. \nTagesordnung:\n\nMitteilungen\nVorstellung Masterarbeit „DEMENZsensiebles Wohnen in der Pflege“\nSchulwegplan 2023/2023; „sicherer Schulweg“\nZuschüsse Schulkindbetreuung in freier Trägerschaft ab Schuljahr 2023/2024\, Grundsatzbeschluss\nStraßenname „Lämmleweg“; weiteres Vorgehen\nEinwohnerfragestunde\nAnregungen und Fragen aus der Mitte des Ortschaftsrates\nBauanträge\nSonstiges\n\nDie Einwohnerschaft ist zu dieser Ortschaftsratssitzung recht herzlich eingeladen.
URL:https://hirschau-aktuell.de/event/ortschaftsratssitzung-16/
LOCATION:Rathaus Hirschau\, Kingersheimerstr. 57\, Tübingen\, 72070\, Deutschland
ORGANIZER;CN="Verwaltung":MAILTO:rathaus-hirschau@tuebingen
END:VEVENT
BEGIN:VEVENT
DTSTART;TZID=Europe/Berlin:20230616T193000
DTEND;TZID=Europe/Berlin:20230616T213000
DTSTAMP:20260425T015251
CREATED:20230610T070014Z
LAST-MODIFIED:20230611T150220Z
UID:30500-1686943800-1686951000@hirschau-aktuell.de
SUMMARY:Skiclub Hirschau: Mitgliederversammlung
DESCRIPTION:Liebe Skiclubmitglieder und Freunde des Ski- und Bergsports\,\nendlich konnten wir letzte Woche bei tollem Wetter in unser Sommerprogramm starten. So konnten einige von uns einen schönen Abend auf dem Neckar und bei einer Stocherkahnfahrt genießen.\nLetztes Wochenende fand dann unsere Bergwanderung im Tannheimer Tal mit Übernachtung auf der Otto-Mayr-Hütte statt.\nUnsere Mitgliederversammlung findet wie bereits angekündigt am Freitag den 16.06.2023 um 19:30 Uhr (Einlass 19:00) im Feuerwehrhaus Hirschau statt. \nDazu ist folgende Tagesordnung geplant: \n\nEröffnung der Versammlung\nBericht der Vorsitzenden\nBericht des Skischulleiters\nBericht der Finanzreferentin\nBericht der Kassenprüfer\nAussprache über alle Berichte\nEntlastung des Vorstandes\nNeuwahl (1. und 2. Vorstand\, Schriftführer\, Skischul- und Jugendleiter)\nEhrungen\nAnträge und allgemeine Diskussion\n\nAnträge zu Punkt 10. der Tagesordnung und auch Wahlvorschläge zu Punkt 8. sollten gerne noch kurzfristig und schriftlich an den Vorstand (auch per email möglich: center@skiclub-hirschau.de) erfolgen. \nBitte zeigt Euer Interesse an unserem Verein auch über die Teilnahme an der Mitgliederversammlung und würden uns freuen\, Euch dort begrüßen zu dürfen. \nDie Vorstandschaft des Skiclub Hirschau e. V.
URL:https://hirschau-aktuell.de/event/30500/
LOCATION:Feuerwehrhaus\, Wehrstr. 8\, Tübingen\, 72070\, Deutschland
ORGANIZER;CN="Skiclub Hirschau e.V.":MAILTO:center@skiclub-hirschau.de
END:VEVENT
BEGIN:VEVENT
DTSTART;TZID=Europe/Berlin:20230616T193000
DTEND;TZID=Europe/Berlin:20230616T230000
DTSTAMP:20260425T015251
CREATED:20230525T141330Z
LAST-MODIFIED:20230611T093839Z
UID:30414-1686943800-1686956400@hirschau-aktuell.de
SUMMARY:Das Ratsstüble wird (fast) 2 Jahre alt!
DESCRIPTION:Zu unserem 2-jährigen Bestehen lassen wir die Korken knallen. \n\nEin kleines\, kostenloses Begrüßungsgetränk sorgt für einen lockeren Start.\nDie Guitar Girls werden uns in Schwung bringen. Wer will kann auch schwofen.\nNatürlich gibt es auch was zu essen.\nDurstig bleiben muss keiner.\n\nSie sind herzlich eingeladen\, mit uns zu feiern. \n  \n 
URL:https://hirschau-aktuell.de/event/das-ratsstueble-wird-fast-2-jahre-alt/
LOCATION:Ratsstüble Hirschau\, Kingersheimer Straße 46
ORGANIZER;CN="Ratsst%C3%BCble Hirschau e. V.":MAILTO:info@ratsstueble-hirschau.de
END:VEVENT
BEGIN:VEVENT
DTSTART;TZID=Europe/Berlin:20230616T200000
DTEND;TZID=Europe/Berlin:20230616T220000
DTSTAMP:20260425T015251
CREATED:20230611T091425Z
LAST-MODIFIED:20230611T091425Z
UID:30517-1686945600-1686952800@hirschau-aktuell.de
SUMMARY:Bloomsday Im LiLA Laden
DESCRIPTION:gleich nach den Pfingstferien vom 30. Mai bis einschließlich 14. Juni wird der LiLA Laden mit neuem Schwung und original italienischen Zitronen-Seifen am 16. Juni den Bloomsday würdig und angemessen begehen. \nDer Bloomsday wird weltweit als Event mit literarischem Hintergrund begangen und mit Sicherheit wäre es ausgesprochen erstrebenswert\, diesen Tag in Dublin zu erleben. Nachdem uns und vielen anderen Menschen auf dieser Erde das aber leider nicht möglich ist\, holen wir den Bloomsday mit Textpassagen aus dem Ulysses*\, Gogonzola-Schnittchen\, Guinness und Live-Musik der Gmünder MusikerInnen von Est-Ovest nach Hirschau in den LiLA Laden. \nKommen Sie am Freitag\, 16. Juni um 20 Uhr in den LiLA Laden\, \nwir freuen uns auf Sie ! \nEs grüßen herzlich\nAgatha und Andreas Truniger \n* Der Ulysses beschreibt diesen einen Tag im Leben des Leopold Bloom (genannt Bloomsday) und wird mit über 1000 Seiten als eines der wichtigsten Werke der Welt-Literatur eingestuft. Wir erzählen über die Entstehung\, lesen Textstellen aus dem Opus Magnum von James Joyce in Orignal und Übesetzung\, damit sich Stimmung und Atmosphäre auf hoffentlich wundersame Weise im LiLA Laden einstellen.\nJames Joyce jetzt bestellen: www.derlilaladen.de\nder LiLA Laden\nInh. Agatha und Andreas Truniger\nIm Öschle 2\nD-72070 Tübingen-Hirschau\nTel.: 07071/7501491\nE-Mail: derlilaladen@t-online.de\nHomepage: www.derlilaladen.de
URL:https://hirschau-aktuell.de/event/bloomsday-im-lila-laden/
LOCATION:LilA Laden\, Im Öschle 2\, Hirschau\, 72070
ATTACH;FMTTYPE=image/png:https://hirschau-aktuell.de/wp-content/uploads/2022/04/lila_Laden_Header.png
ORGANIZER;CN="Agatha und Andreas Truniger":MAILTO:derlilaladen@t-online.de
END:VEVENT
BEGIN:VEVENT
DTSTART;TZID=Europe/Berlin:20230627T193000
DTEND;TZID=Europe/Berlin:20230627T213000
DTSTAMP:20260425T015251
CREATED:20230423T171100Z
LAST-MODIFIED:20230620T060323Z
UID:30104-1687894200-1687901400@hirschau-aktuell.de
SUMMARY:Jungen brauchen klare Ansagen!
DESCRIPTION:Vortrag mit Reinhard Winter\nEltern können viel dazu beitragen\, damit Jungen gut in der Schule\, in Medienwelten\, Kindheit und Pubertät zurechtkommen: Jungen brauchen klare Ansagen und eine liebevolle Führung! Um das leisten zu können benötigen Eltern eine stabile und verlässliche Haltung. Sie hilft ihnen\, um gelassen mit Jungen klar zu kommen. Und sie nützt den Jungen\, denn sie brauchen die elterliche Führung für ihre Entwicklung. Eine Haltung der Klarheit muss gut „rüber kommen“. Aber wie machen Eltern das\, wie kann das heute gehen? Wir wollen doch nicht in eine veraltete „Basta-Erziehung“ zurückfallen! \nIm Vortrag wird dargestellt\, warum und wie Jungen (mehr) auf klare Eltern angewiesen sind. Dann gibt es eine Reihe von praktischen Tipps: Was können und sollten Eltern tun\, um für ihre Jungen eine gute „Führungskraft“ zu sein? Anschließend bleibt noch Zeit und Gelegenheit für Fragen und Diskussion. \nDr. Reinhard Winter ist Diplompädagoge. Er arbeitet mit Jungen\, mit Eltern und mit Menschen\, die mit Jungen arbeiten. Reinhard Winter ist verheiratet und hat zwei erwachsene Kinder\, eine Tochter und einen Sohn. \nBuchveröffentlichung zum Vortrag:\nJungen brauchen klare Ansagen. Ein Ratgeber für Kindheit\, Schule und die wilden Jahre (Neuauflage\, Beltz Verlag\, 2019) \n    Datum: Dienstag 27.06.23\, 19.30 Uhr\n    Ort:       Ratsstüble Dorfkneipe \nDer Eintritt ist kostenlos\, über Spenden freuen wir uns. \n 
URL:https://hirschau-aktuell.de/event/jungen-brauchen-klare-ansagen/
LOCATION:Ratsstüble Hirschau\, Kingersheimer Straße 46
ATTACH;FMTTYPE=image/jpeg:https://hirschau-aktuell.de/wp-content/uploads/2023/04/rsh-jungen-brauchen-klare-ansagen-56141700n.jpg
ORGANIZER;CN="Ratsst%C3%BCble Hirschau e. V.":MAILTO:info@ratsstueble-hirschau.de
END:VEVENT
BEGIN:VEVENT
DTSTART;TZID=Europe/Berlin:20230628T150000
DTEND;TZID=Europe/Berlin:20230628T170000
DTSTAMP:20260425T015251
CREATED:20230611T095506Z
LAST-MODIFIED:20230615T161016Z
UID:30523-1687964400-1687971600@hirschau-aktuell.de
SUMMARY:Besuch der Ausstellung "Daniel Richter" in der Kunsthalle
DESCRIPTION:Wer hat Lust und Zeit an einer interessanten Führung „Daniel Richter“ in der Kunsthalle Tübingen mitzugehen? \nAm Mittwoch\, den 28.06.2023 um 15.00 Uhr gehen wir an der Führung 60 + mit. \nAnschließend an die Führung gibt es die Möglichkeit\, sich bei Kaffee und Kuchen im Kunsthallencafé über die Ausstellung auszutauschen. \nAbfahrt mit Fahrgemeinschaften am Ratsstüble: 14.15 Uhr. \nWir bitten um Rückmeldung bis spätestens 20.06.23: info@ratsstueble-hirschau.de \nGeben Sie bitte eine Telefonnummer und Ihre E-Mailadresse an und auch\, ob sie direkt zur Kunsthalle kommen oder mit der Fahrgemeinschaft fahren möchten. \nKurz vorher geben wir an die teilnehmenden Personen eine Rückmeldung. \nDie Kosten der Führung sind 4\,00 Euro. (zuzüglich 10 Euro ermäßigter Eintritt).
URL:https://hirschau-aktuell.de/event/besuch-der-ausstellung-daniel-richter-in-der-kunsthalle/
LOCATION:Kunsthalle Tübingen\, Philosophenweg 76\, Tübingen\, 72070\, Deutschland
ATTACH;FMTTYPE=image/png:https://hirschau-aktuell.de/wp-content/uploads/2023/06/rsh-kunsthalle-richter.png
ORGANIZER;CN="Ratsst%C3%BCble Hirschau e. V.":MAILTO:info@ratsstueble-hirschau.de
END:VEVENT
END:VCALENDAR