BEGIN:VCALENDAR
VERSION:2.0
PRODID:-//Hirschau Aktuell - ECPv6.15.20//NONSGML v1.0//EN
CALSCALE:GREGORIAN
METHOD:PUBLISH
X-ORIGINAL-URL:https://hirschau-aktuell.de
X-WR-CALDESC:Veranstaltungen für Hirschau Aktuell
REFRESH-INTERVAL;VALUE=DURATION:PT1H
X-Robots-Tag:noindex
X-PUBLISHED-TTL:PT1H
BEGIN:VTIMEZONE
TZID:Europe/Berlin
BEGIN:DAYLIGHT
TZOFFSETFROM:+0100
TZOFFSETTO:+0200
TZNAME:CEST
DTSTART:20220327T010000
END:DAYLIGHT
BEGIN:STANDARD
TZOFFSETFROM:+0200
TZOFFSETTO:+0100
TZNAME:CET
DTSTART:20221030T010000
END:STANDARD
BEGIN:DAYLIGHT
TZOFFSETFROM:+0100
TZOFFSETTO:+0200
TZNAME:CEST
DTSTART:20230326T010000
END:DAYLIGHT
BEGIN:STANDARD
TZOFFSETFROM:+0200
TZOFFSETTO:+0100
TZNAME:CET
DTSTART:20231029T010000
END:STANDARD
BEGIN:DAYLIGHT
TZOFFSETFROM:+0100
TZOFFSETTO:+0200
TZNAME:CEST
DTSTART:20240331T010000
END:DAYLIGHT
BEGIN:STANDARD
TZOFFSETFROM:+0200
TZOFFSETTO:+0100
TZNAME:CET
DTSTART:20241027T010000
END:STANDARD
END:VTIMEZONE
BEGIN:VEVENT
DTSTART;TZID=Europe/Berlin:20230903T160000
DTEND;TZID=Europe/Berlin:20230903T190000
DTSTAMP:20260424T210448
CREATED:20230806T084734Z
LAST-MODIFIED:20230806T084734Z
UID:31047-1693756800-1693767600@hirschau-aktuell.de
SUMMARY:Archäologische Wanderung „In Höhen und Tiefen“
DESCRIPTION:Sonntag 3. September\, 16.00 – 19.00 Uhr\, ca. 8 km\nTreffpunkt: kath. Kindergarten\, Wehrstraße 3
URL:https://hirschau-aktuell.de/event/archaeologische-wanderung-in-hoehen-und-tiefen/
ATTACH;FMTTYPE=image/jpeg:https://hirschau-aktuell.de/wp-content/uploads/2023/08/admin-ajax.jpg
ORGANIZER;CN="Gr%C3%BCne Liste Hirschau":MAILTO:anmeldung@gruenelistehirschau.de
END:VEVENT
BEGIN:VEVENT
DTSTART;TZID=Europe/Berlin:20230903T160000
DTEND;TZID=Europe/Berlin:20230903T190000
DTSTAMP:20260424T210448
CREATED:20230902T102505Z
LAST-MODIFIED:20230902T102505Z
UID:31154-1693756800-1693767600@hirschau-aktuell.de
SUMMARY:Archäologische Wanderung „In Höhen und Tiefen“
DESCRIPTION: \n\nSonntag 3. September\, 16.00 – 19.00 Uhr\, ca. 8 km\nTreffpunkt: kath. Kindergarten\, Wehrstraße 3\n\nDie frühgeschichtliche Besiedelung des Tübinger Raums durch Kelten\, Römer und Alamannen hat auch auf Hirschauer Gemarkung Spuren hinterlassen\, und auch aus dem Mittelalter gibt es archäologische Zeugnisse. Mit kundiger Begleitung durch Stefan Wettengl und Anna Rösch führt unser Weg über die Burgäcker und das Gewann (Auf) Mauern steil hinauf zum Burgstall gegenüber der Wurmlinger Kapelle. Auf der mit 468\,8 m zweithöchsten Erhebung des Spitzbergs\, dem Buß\, stoßen wir auf mehrere vorgeschichtliche Grabhügel. Rückweg über die Ammersteige oder die Ödenburg. \nMitbringen: gutes Schuhwerk\, Getränk und Proviant\, ggf. Sonnen- und Wetterschutz \nFührung: Stefan Wettengl und Anna Rösch aus Hirschau\, beide M.A. in Archäologie \n\nHerzliche Einladung! Wetterbedingte Änderungen ggf. im DorfFunk oder auf www.gruenelistehirschau.de
URL:https://hirschau-aktuell.de/event/archaeologische-wanderung-in-hoehen-und-tiefen-2/
LOCATION:kath. Kindergarten Wehrstraße
ATTACH;FMTTYPE=image/jpeg:https://hirschau-aktuell.de/wp-content/uploads/2023/08/admin-ajax.jpg
ORGANIZER;CN="Gr%C3%BCne Liste Hirschau":MAILTO:anmeldung@gruenelistehirschau.de
END:VEVENT
BEGIN:VEVENT
DTSTART;TZID=Europe/Berlin:20230916T193000
DTEND;TZID=Europe/Berlin:20230917T040000
DTSTAMP:20260424T210448
CREATED:20230701T151711Z
LAST-MODIFIED:20230701T153611Z
UID:30690-1694892600-1694923200@hirschau-aktuell.de
SUMMARY:Papi´s Pumpels Party in der Stefan-Hartmann-Halle 100 Jahre TSV Hirschau
DESCRIPTION:Online Kartenvorverkauf für Papi´s Pumpel Party auf der Homepage des TSV Hirschau
URL:https://hirschau-aktuell.de/event/papis-pumpels-party-in-der-stefan-hartmann-halle-100-jahre-tsv-hirschau/
LOCATION:Stefan Hartmann-Halle\, Im Gehrnfeld 15\, 72070 Tübingen/Hirschau\, 72070
ATTACH;FMTTYPE=image/png:https://hirschau-aktuell.de/wp-content/uploads/2022/12/tsv_100Jahre-Header.png
ORGANIZER;CN="TSV Hirschau":MAILTO:kontakt@tsv-hirschau.de
END:VEVENT
BEGIN:VEVENT
DTSTART;TZID=Europe/Berlin:20230921T193000
DTEND;TZID=Europe/Berlin:20230921T213000
DTSTAMP:20260424T210448
CREATED:20230709T084953Z
LAST-MODIFIED:20230913T193203Z
UID:30765-1695324600-1695331800@hirschau-aktuell.de
SUMMARY:Unterwegs auf neuen Pfaden - Reisevortrag Australien\, Neuseeland\, Vietnam
DESCRIPTION:Susanne Maier-Haag und Gerold Haag berichten von ihrer 4 Monate langen Reise. Diese führte sie vom Norden der australischen Ostküste bis nach Sydney. Die imposante Südinsel Neuseelands war Ziel der nächsten Etappe. Die Reise endete in Vietnam\, das die beiden von Nord nach Süd durchquerten. \nIn ihrem Vortrag werden beide über ihre Highlights von der Reise berichten. Fotos von beeindruckenden Landschaften\, den spannenden Städten Australiens\, atemberaubenden Wanderungen in den Weiten Neuseelands und von der Vielfältigkeit Vietnams untermalen den Vortrag. \nDatum: Donnerstag 21.09.23\, 19.30 Uhr\nOrt:       Ratsstüble Dorfkneipe \nDer Eintritt ist kostenlos\, über Spenden freuen wir uns. \n  \n 
URL:https://hirschau-aktuell.de/event/unterwegs-auf-neuen-pfaden-reisevortrag-australien-neuseeland-vietnam/
LOCATION:Ratsstüble Hirschau\, Kingersheimer Straße 46
ORGANIZER;CN="Ratsst%C3%BCble Hirschau e. V.":MAILTO:info@ratsstueble-hirschau.de
END:VEVENT
BEGIN:VEVENT
DTSTART;TZID=Europe/Berlin:20230923T160000
DTEND;TZID=Europe/Berlin:20230923T230000
DTSTAMP:20260424T210448
CREATED:20230812T155426Z
LAST-MODIFIED:20230812T155426Z
UID:31065-1695484800-1695510000@hirschau-aktuell.de
SUMMARY:Festwochenende in Kingersheim
DESCRIPTION:Samstag 23. September 2023 \n\n\n\n16.00 Uhr\nBegrüßung mit Partnerschaft-Ausstellung Spaziergang durch das historische Zentrum für Diejenigen\, die es wünschen\n\n\nAb 18.30 Uhr\nGala Abend für das 60. Jubiläum der Partnerschaft\n\n\n19.00 Uhr\nAnsprachen; Musikalische Präsentation von 60 Jahren Freundschaft zwischen unseren beiden Gemeinden\n\n\n\nAbendessen mit Musik (verschiedene Gruppen)
URL:https://hirschau-aktuell.de/event/festwochenende-in-kingersheim/
LOCATION:[Amtlicher Beitrag] Kingersheim\, Kingersheim\, Frankreich
ATTACH;FMTTYPE=image/jpeg:https://hirschau-aktuell.de/wp-content/uploads/2023/03/vsh_60-Jahre-Partnerschaft-Header.jpg
END:VEVENT
BEGIN:VEVENT
DTSTART;TZID=Europe/Berlin:20230924T100000
DTEND;TZID=Europe/Berlin:20230924T170000
DTSTAMP:20260424T210448
CREATED:20230812T155725Z
LAST-MODIFIED:20230812T155834Z
UID:31071-1695549600-1695574800@hirschau-aktuell.de
SUMMARY:Festwochenende in Kingersheim
DESCRIPTION:Sonntag 24. September 2023 \n\n\n\n10.00 Uhr\nÖkumenischer Gottesdienst\n\n\n10.00 -14.00 Uhr\nPetanque-Turniere\n\n\n10.30-12.30 Uhr\nGemischte Mini-Fußballturniere\n\n\n11.00 Uhr\nAperitif mit der elsässischen Volksgruppe „Maiakafer“.\n\n\n12.00 Uhr\nMittagsessen\n\n\n14.00 Uhr\nFlying Dunkers (akrobatischer Basketball)\n\n\n14.30 Uhr\nPreisverleihung beim Mini-Fußballturnier\n\n\n15.00 Uhr\nMusikalisches Finale mit der Concorde
URL:https://hirschau-aktuell.de/event/festwochenende-in-kingersheim-2/
LOCATION:[Amtlicher Beitrag] Kingersheim\, Kingersheim\, Frankreich
ATTACH;FMTTYPE=image/jpeg:https://hirschau-aktuell.de/wp-content/uploads/2023/03/vsh_60-Jahre-Partnerschaft-Header.jpg
END:VEVENT
BEGIN:VEVENT
DTSTART;TZID=Europe/Berlin:20230929T193000
DTEND;TZID=Europe/Berlin:20230929T213000
DTSTAMP:20260424T210448
CREATED:20230917T150302Z
LAST-MODIFIED:20230923T073007Z
UID:31281-1696015800-1696023000@hirschau-aktuell.de
SUMMARY:Keeponfolkin
DESCRIPTION:Rebellenlieder und Gedichte\nAn Inspiration mangelt es Klaus Zeh & Adeline nicht. Es ist der tiefe Blick in die Welt und in die Nischen der Gesellschaft\, der ihre Musik einzigartig macht. Die Lieder und Gedichte aus eigener Feder sprechen für viele\, für den Einzelnen\, und für sich selbst. Durch das gesamte Repertoire zieht sich ein leuchtend roter Faden: die Zuversicht!\nMit Gitarre\, Bodhrán und ihren außergewöhnlichen Stimmen erzeugen sie einen Klang\, der unter die Haut geht. Klaus Zeh & Adeline berühren und wühlen auf. \n„Ein kultureller Höhepunkt!“ (Markgräfler Tagblatt)\n„Klaus Zeh und Adeline haben sich in der Folkszene etabliert!“ (Teckbote)\n  \nam Freitag\, 29.09.2023 um 19:30 Uhr \n\nder Eintritt ist frei\, über Spenden freuen wir uns.\nFür eine Kleinigkeit zum Essen ist gesorgt.\nReservierung empfohlen.
URL:https://hirschau-aktuell.de/event/keeponfolkin/
LOCATION:Ratsstüble Hirschau\, Kingersheimer Straße 46
ORGANIZER;CN="Ratsst%C3%BCble Hirschau e. V.":MAILTO:info@ratsstueble-hirschau.de
END:VEVENT
END:VCALENDAR