BEGIN:VCALENDAR
VERSION:2.0
PRODID:-//Hirschau Aktuell - ECPv6.15.20//NONSGML v1.0//EN
CALSCALE:GREGORIAN
METHOD:PUBLISH
X-WR-CALNAME:Hirschau Aktuell
X-ORIGINAL-URL:https://hirschau-aktuell.de
X-WR-CALDESC:Veranstaltungen für Hirschau Aktuell
REFRESH-INTERVAL;VALUE=DURATION:PT1H
X-Robots-Tag:noindex
X-PUBLISHED-TTL:PT1H
BEGIN:VTIMEZONE
TZID:Europe/Berlin
BEGIN:DAYLIGHT
TZOFFSETFROM:+0100
TZOFFSETTO:+0200
TZNAME:CEST
DTSTART:20220327T010000
END:DAYLIGHT
BEGIN:STANDARD
TZOFFSETFROM:+0200
TZOFFSETTO:+0100
TZNAME:CET
DTSTART:20221030T010000
END:STANDARD
BEGIN:DAYLIGHT
TZOFFSETFROM:+0100
TZOFFSETTO:+0200
TZNAME:CEST
DTSTART:20230326T010000
END:DAYLIGHT
BEGIN:STANDARD
TZOFFSETFROM:+0200
TZOFFSETTO:+0100
TZNAME:CET
DTSTART:20231029T010000
END:STANDARD
BEGIN:DAYLIGHT
TZOFFSETFROM:+0100
TZOFFSETTO:+0200
TZNAME:CEST
DTSTART:20240331T010000
END:DAYLIGHT
BEGIN:STANDARD
TZOFFSETFROM:+0200
TZOFFSETTO:+0100
TZNAME:CET
DTSTART:20241027T010000
END:STANDARD
END:VTIMEZONE
BEGIN:VEVENT
DTSTART;TZID=Europe/Berlin:20231005T190000
DTEND;TZID=Europe/Berlin:20231005T210000
DTSTAMP:20260424T191403
CREATED:20230928T112449Z
LAST-MODIFIED:20230928T112449Z
UID:31390-1696532400-1696539600@hirschau-aktuell.de
SUMMARY:Mitgliederversammlung des Vereins Grüne Liste Hirschau • Do 05.10.23\, 19:00
DESCRIPTION:Liebe Vereinsmitglieder\, liebe Unterstützer:innen und Interessierte\, \nzur diesjährigen Mitgliederversammlung laden wir nochmals herzlich ein \n\nam Donnerstag 5. Oktober 2023 um 19.00 Uhr\nim Stadtteiltreff „Ratsstüble“\n\nund schlagen als Tagesordnung vor: \n\nBegrüßung und Eröffnung der Mitgliederversammlung\, Bestimmung der Schriftführung\nFeststellung der ordnungsgemäßen Einladung und der Beschlussfähigkeit\, Genehmigung der Tagesordnung\nJahresbericht des Vorstands und Aussprache über den Bericht\, Genehmigung des Berichts und Entlastung des Vorstands\nBericht über die Vereinsziele für das laufende Jahr und Aussprache\nAnträge (sofern vorhanden)\nVerschiedenes\, Fragen und Anregungen aus der Mitte der Mitgliedschaft\nSchlusswort\n\nÜber Anträge\, Fragen oder Anregungen freuen wir uns\, ebenso sind uns Freunde der Grünen Liste Hirschau als Gäste willkommen. \nIm Anschluss an die Mitgliederversammlung findet unser offenes Plenum statt. Unsere Themen sind u.a. die Kommunal- und Europawahl 2024 sowie die Schwerpunkte des kommenden Jahresprogramms – z.B. Energie\, Ökologie\, Verkehr\, Soziales und Demokratie. \nGunter und Uli
URL:https://hirschau-aktuell.de/event/mitgliederversammlung-des-vereins-gruene-liste-hirschau-do-05-10-23-1900/
LOCATION:Ratsstüble Hirschau\, Kingersheimer Straße 46
ATTACH;FMTTYPE=image/jpeg:https://hirschau-aktuell.de/wp-content/uploads/2023/08/admin-ajax.jpg
ORGANIZER;CN="Gr%C3%BCne Liste Hirschau":MAILTO:anmeldung@gruenelistehirschau.de
END:VEVENT
BEGIN:VEVENT
DTSTART;TZID=Europe/Berlin:20231006T193000
DTEND;TZID=Europe/Berlin:20231006T213000
DTSTAMP:20260424T191403
CREATED:20230922T095640Z
LAST-MODIFIED:20231002T075438Z
UID:31330-1696620600-1696627800@hirschau-aktuell.de
SUMMARY:Homo idioticus kommt
DESCRIPTION:Kabarettist Udo Renner mit aktualisiertem Programm\nim Ratsstüble Hirschau. \nWirre Wahrnehmungen und depperte Denkfehler – der Mensch tickt nicht ganz richtig. Millionen Raucher sind felsenfest überzeugt: Lungenkrebs\, ich doch nicht. Begründung: Helmut Schmidt ist 96 geworden. Ein Beispiel für den Bestätigungsfehler. Die Ausnahme wird gern zum Normallfall erklärt\, um die eigene Weltsicht zu bestätigen. Solche aus der Psychologie bekannten Rohrkrepierer im Oberstübchen ziehen sich als roter Faden durch das Kabarett-Programm Homo idioticus von Udo Renner. Neben dem Erkenntnisgewinn in Sachen Psychologie verspricht das Programm eine Bestandsaufnahme einer aus den Fugen geratenen Welt. Das Ganze flankiert von einem feinen Maß an Tief-\, Hinter- und Unsinnigem. Der Homo idioticus gastiert \n  \nam Freitag\, 6. Oktober um  19.30 Uhr\n im Ratsstüble in Hirschau. \nDer Eintritt ist frei\, über Spenden freuen wir uns.\nFür eine Kleinigkeit zum Essen ist gesorgt.\nReservierung empfohlen.\nFoto: Udo Renner
URL:https://hirschau-aktuell.de/event/homo-idioticus-kommt/
LOCATION:Ratsstüble Hirschau\, Kingersheimer Straße 46
ORGANIZER;CN="Ratsst%C3%BCble Hirschau e. V.":MAILTO:info@ratsstueble-hirschau.de
END:VEVENT
BEGIN:VEVENT
DTSTART;TZID=Europe/Berlin:20231009T193000
DTEND;TZID=Europe/Berlin:20231009T213000
DTSTAMP:20260424T191403
CREATED:20230929T100738Z
LAST-MODIFIED:20231008T112913Z
UID:31404-1696879800-1696887000@hirschau-aktuell.de
SUMMARY:Energetische Gebäudesanierung - Ihr Weg zu mehr Effizienz
DESCRIPTION:Wie kann ich mein Haus mit einem begrenzten Budget so sanieren\, dass ich möglichst viel Energie einspare? In einer Zeit\, in der der Schutz unseres Planeten und die Senkung der Energiekosten eine immer größere Rolle spielen\, ist die energetische Sanierung von Gebäuden ein Schlüsselthema. \nBild: Klaus-Uwe Gerhardt von Pixabay\nVon Seiten der Bundesregierung gibt es vielfältige Fördermöglichkeiten. Darüber hinaus können EigentümerInnen auch eine Sanierungsprämie der Universitätsstadt Tübingen erhalten. Was muss man bei einer Gebäudesanierung beachten? Wie kann man die energetische Qualität eines Gebäudes verbessern? Wie kann man von einer Förderung profitieren? \nDie Grüne Liste Hirschau lädt ein zu einem Vortrag mit Herrn Bearzatto\, Geschäftsführer der Tübinger Agentur für Klimaschutz. Er wird uns darlegen\, mit welchen Maßnahmen sich am besten Energie und Kosten einsparen lassen\, was dabei zu beachten ist und welche Fördermitteln Sie nutzen können. \nNach dem Vortrag wird Zeit für Diskussion und Fragen sein. \nDatum:           Montag\, 9.10.2023 um 19.30 Uhr\nOrt:                  Ratsstüble Hirschau\, Dorfkneipe\nReferent:        Daniel Bearzatto\, Geschäftsführer der Tübinger Agentur für Klimaschutz \n  \n 
URL:https://hirschau-aktuell.de/event/energetische-gebaeudesanierung-ihr-weg-zu-mehr-effizienz/
LOCATION:Ratsstüble Hirschau\, Kingersheimer Straße 46
ATTACH;FMTTYPE=image/jpeg:https://hirschau-aktuell.de/wp-content/uploads/2023/09/glh-solar-2955285_1280.jpg
END:VEVENT
BEGIN:VEVENT
DTSTART;TZID=Europe/Berlin:20231013T193000
DTEND;TZID=Europe/Berlin:20231013T220000
DTSTAMP:20260424T191403
CREATED:20230922T143251Z
LAST-MODIFIED:20231009T130620Z
UID:31354-1697225400-1697234400@hirschau-aktuell.de
SUMMARY:Dorfkino im Ratsstüble
DESCRIPTION:Wir machen Dorfkino \nFrüher hatte fast jedes kleine Nest sein „Dorfkino“\, heute gibt es nur noch die ganz großen Kinos in der Stadt. Wir starten den Versuch\, das Dorfkino wiederzubeleben und zwar in unserem Ratsstüble. Die Wege sind kurz\, die Atmosphäre gemütlich\, man kennt sich und kann beim Filmeschauen sogar ein Getränk zu sich nehmen. \nWir starten unser Programm mit dem Film: \n \nAlle reden übers Wetter ist ein Filmdrama von Annika Pinske\, das im Februar 2022 im Rahmen der Filmfestspiele in Berlin seine Premiere feierte und am 15. September 2022 in die deutschen Kinos kam. In dem Film spielt Anne Schäfer eine Doktorandin mit ostdeutscher Biografie\, die beim Besuch der Geburtstagsfeierlichkeiten ihrer Mutter in Identitätskonflikte gerät. \n  \nKinostart am:\nFreitag\, den 13.10.2023 um 19:30\nim Ratsstüble\nEintritt 5\,00 €
URL:https://hirschau-aktuell.de/event/dorfkino-im-ratsstueble/
LOCATION:Ratsstüble Hirschau\, Kingersheimer Straße 46
ATTACH;FMTTYPE=image/png:https://hirschau-aktuell.de/wp-content/uploads/2021/09/rsh_Logo_Ratsstueble_als_Beitragsbild.png
ORGANIZER;CN="Ratsst%C3%BCble Hirschau e. V.":MAILTO:info@ratsstueble-hirschau.de
END:VEVENT
BEGIN:VEVENT
DTSTART;TZID=Europe/Berlin:20231015T140000
DTEND;TZID=Europe/Berlin:20231015T160000
DTSTAMP:20260424T191403
CREATED:20231012T205742Z
LAST-MODIFIED:20231012T205947Z
UID:31516-1697378400-1697385600@hirschau-aktuell.de
SUMMARY:Hirschauer Seniorenfeier
DESCRIPTION:Die Mitglieder des Ortschaftsrates laden traditionell alle Hirschauer Mitbürgerinnen und Mitbürger ab dem 70. Lebensjahr zur Seniorenfeier am Sonntag\, den 15. Oktober 2023\, ab 14.00 Uhr in die Turn- und Festhalle ein. Die Einladungen wurden in den letzten Tagen verschickt. Die Anmeldezettel\nkönnen Sie bis Freitag\, den 13. Oktober 2023 bei der Verwaltungsstelle abgeben oder in den Rathausbriefkasten einwerfen. Sollten Sie 70 Jahre oder älter sein\, und keine persönliche Einladung bekommen\, so sind auch Sie gemeinsam mit Ihrem Partner/Ihrer Partnerin herzlich eingeladen.\nGerne dürfen Sie auch das Hirschauer Bus’le anrufen (Tel. 0177 773 8222).\nDas Team fährt Sie zur Seniorenfeier und wieder nach Hause.
URL:https://hirschau-aktuell.de/event/hirschauer-seniorenfeier-3/
LOCATION:Turn- und Festhallehalle\, Schulstr. 28\, Tübingen\, 72070\, Deutschland
ORGANIZER;CN="Verwaltung":MAILTO:rathaus-hirschau@tuebingen
END:VEVENT
BEGIN:VEVENT
DTSTART;TZID=Europe/Berlin:20231022T103000
DTEND;TZID=Europe/Berlin:20231022T123000
DTSTAMP:20260424T191403
CREATED:20231018T105636Z
LAST-MODIFIED:20231018T105636Z
UID:31569-1697970600-1697977800@hirschau-aktuell.de
SUMMARY:Gilbert Fels im LiLA Laden
DESCRIPTION:Sonntags-Matinée\n22. Oktober 10 Uhr 30\nDer Gebrauch von Gärten\nder LiLA Laden in Hirschau\nT 07071 7501491 * www.derlilaladen.de
URL:https://hirschau-aktuell.de/event/gilbert-fels-im-lila-laden/
LOCATION:LilA Laden\, Im Öschle 2\, Hirschau\, 72070
ATTACH;FMTTYPE=image/png:https://hirschau-aktuell.de/wp-content/uploads/2022/04/lila_Laden_Header.png
END:VEVENT
BEGIN:VEVENT
DTSTART;TZID=Europe/Berlin:20231022T110000
DTEND;TZID=Europe/Berlin:20231022T130000
DTSTAMP:20260424T191403
CREATED:20230922T140202Z
LAST-MODIFIED:20231016T124744Z
UID:31348-1697972400-1697979600@hirschau-aktuell.de
SUMMARY:Vernissage mit Hans Mendler\, Leonberg
DESCRIPTION:Hans Mendler ist es während seines langen künstlerischen Schaffens gelungen\, eine eigenständige\, unverwechselbare Handschrift zu entwickeln. Seine erste Leonberger Ausstellung fand bereits unmittelbar nach seinem Studium an der Stuttgarter Kunstakademie 1981 in der legendären Galerie LeonArt statt. \n  \nDie Bildschöpfungen des Malers sind abstrakt. Gleichzeitig spielt auch Inhaltliches und frei Assoziierbares mit. Leuchtende und kontrastreiche Farben überwiegen. Schon vor 3 Jahrzehnten – am Beginn des künstlerischen Weges von Hans Mendler – fanden sich in seinen expressiv abstrakten Bildern zeichnerische Fragmente von menschlichen Figuren oder von Gegenständen – wage Anspielungen auf die reale Welt. Auffällig ist jedoch\, dass die von ihm selbst so bezeichnete »Restfigur« immer noch in seiner Bildwelt auftaucht. Besonders seine Skizzenbücher zeugen von der Kraft visueller Erfahrungen\, die Mendlers Bildfantasie befeuert und in farbintensiven Bildern Auferstehung feiern. Sie leben vom freien Spiel mit Farben und Formen der realen Welt\, von der Unbekümmertheit ihrer Umwandlung in vielschichtige Zeichen. Neben figürlichen Motiven zeigen sie in schönem Einklang die gegenstandslosen Bildfindungen\, genau so\, wie es diese beiden Pole auch in der großformatigen Malerei auf Leinwand gibt. Neuerdings spielen auch die ornamental eingesetzten Linien und von historischen Vorbildern inspirierte Porträts eine Rolle in seiner Malerei.\nSeine Werke waren zuletzt in Compiègne\, Singapur\, Moskau\, Florida\, Stuttgart und in ungarischen Galerien ausgestellt. \n(Zitiert nach: Einführung zu einer Ausstellung der Werke Hans Mendlers in der Stadt Leonberg im Jahr 2000 von Christina Ossowski\, Kulturamtsleiterin der Stadt Leonberg von 1991 bis 2018)\nHans Mendler zeigt in Hirschau seine Hinterglasbilder\, eine Maltechnik\, die er sehr schätzt und die in ihrer eigenen Art wirklich sehenswert ist. Dazu stellt er in unsere Räume auch noch ein paar kleinere Skulpturen.\nWir freuen uns sehr\, dass Hans Mendler mit seinem Werk zu uns nach Hirschau kommt und laden ein zur \nVernissage\nam Sonntag\, 22.10.2023 um 11 Uhr\nim Ratsstüble Hirschau \nEintritt frei\nFoto: Hans Mendler\, das Geheimnis\, 2021
URL:https://hirschau-aktuell.de/event/vernissage-mit-hans-mendler-leonberg/
LOCATION:Ratsstüble Hirschau\, Kingersheimer Straße 46
ATTACH;FMTTYPE=image/png:https://hirschau-aktuell.de/wp-content/uploads/2021/09/rsh_Logo_Ratsstueble_als_Beitragsbild.png
ORGANIZER;CN="Ratsst%C3%BCble Hirschau e. V.":MAILTO:info@ratsstueble-hirschau.de
END:VEVENT
BEGIN:VEVENT
DTSTART;TZID=Europe/Berlin:20231024T190000
DTEND;TZID=Europe/Berlin:20231024T210000
DTSTAMP:20260424T191403
CREATED:20231012T210530Z
LAST-MODIFIED:20231012T210530Z
UID:31522-1698174000-1698181200@hirschau-aktuell.de
SUMMARY:Potentialstudie Wärmeversorgungsvarianten in Hirschau
DESCRIPTION:Einladung zur Informationsveranstaltung:\nPotentialstudie Wärmeversorgungsvarianten in Hirschau\nDienstag\, 24.10.2023 um 19.00 Uhr im Ratsstüble Hirschau\nDer kommunale Wärmeplan (KWP) zeigt auf\, dass die Universitätsstadt Tübingen theoretisch sehr viele Ansatzpunkte und Potenziale für die Wärmewende im Stadtgebiet hat. Ein Gebiet\, das im Wärmeplan aufgrund der hohen Energiemengen heraussticht\, ist das Industrie- und Gewerbegebiet Rittweg in Hirschau.\nIn Zusammenarbeit der Universitätsstadt Tübingen\, der Hochschule Rottenburg und dem Tübinger Ingenieurbüro ebök GmbH\, wird von Herrn Knut Völkel eine Masterarbeit zum Potential der Wärmeversorgungsvarianten in Hirschau erstellt. Die Ergebnisse sollen bei dieser Veranstaltung erörtert und gemeinsam diskutiert werden.
URL:https://hirschau-aktuell.de/event/potentialstudie-waermeversorgungsvarianten-in-hirschau/
LOCATION:Ratsstüble Hirschau\, Kingersheimer Straße 46
ORGANIZER;CN="Verwaltung":MAILTO:rathaus-hirschau@tuebingen
END:VEVENT
BEGIN:VEVENT
DTSTART;TZID=Europe/Berlin:20231026T153000
DTEND;TZID=Europe/Berlin:20231026T173000
DTSTAMP:20260424T191403
CREATED:20231020T120058Z
LAST-MODIFIED:20231018T104355Z
UID:31567-1698334200-1698341400@hirschau-aktuell.de
SUMMARY:Flamenco-Tanz in Hirschau!!!
DESCRIPTION:Wir freuen uns sehr\, diese Tanzgruppe bei uns im Seniorenkreis begrüßen zu dürfen! Und genauso freuen wir uns auf Sie!! \nLiebe Seniorinnen und Senioren!! Es ist immer wieder ein angenehmes und schönes Zusammensein!\nGerne dürfen auch andere Interessierte zu diesem Nachmittag am 26.10. um 14.30 Uhr in St. Urban kommen:\nSeniorinnen tanzen für Seniorinnen und Senioren! Zuerst stärken wir uns mit Kaffee\, Tee\, Kranzbrot oder Brezel – tauschen das Neueste aus und dann kann es losgehen. \nHerzliche Grüße \nBott-Ruhnau und E. Piendl\nmit der ganzen Mitarbeiterinnenschar: B. Elsässer\, M. Endreß\, M. Häussler\, K. Kittel\, K. Latus (G 1) \nBusle: 0177 773 82222
URL:https://hirschau-aktuell.de/event/flamenco-tanz-in-hirschau/
LOCATION:Gemeindehaus St. Urban\, Kirchplatz 11\, 72070 Tübingen/Hirschau\, 72070\, Deutschland
ATTACH;FMTTYPE=image/png:https://hirschau-aktuell.de/wp-content/uploads/2022/01/oek_Header.png
END:VEVENT
BEGIN:VEVENT
DTSTART;TZID=Europe/Berlin:20231027T193000
DTEND;TZID=Europe/Berlin:20231027T213000
DTSTAMP:20260424T191403
CREATED:20230922T125446Z
LAST-MODIFIED:20231022T120945Z
UID:31333-1698435000-1698442200@hirschau-aktuell.de
SUMMARY:Lieder\, wie sie das Leben schreibt
DESCRIPTION:Lemonpepper im Ratssstüble \nMike und Conny heben ab als Singer/Songwriter Duo. Auf Mandoline\, Gitarre\, Banjo und Mundharmonika begleiten sie Ihre Lieder\, die von erlebten und gefühlten Situationen aus ihrem Leben erzählen. Das sympathische Paar berührt mit leidenschaftlicher und einfühlsamer Stimme ihre Zuhörer. Die Harmonie zwischen den beiden drückt sich eindrucksvoll durch ihren zweistimmigen Gesang aus. Musik spielt eine große Rolle im Leben des Paares\, beinahe jeder Abend wird mit Musik beendet.\nLemonpepper‘s Musikstil ist inspiriert durch ihre Liebe zu Folk\, Country und Bluegrass und auch durch den 5-jährigen Aufenthalt mit ihren 4 Jungs in Charleston\, SC. Sie sind jetzt live zu sehen und zu hören und zwar am: \nam Freitag\, 27. Oktober um  19.30 Uhr\n im Ratsstüble in Hirschau. \nDer Eintritt ist frei\, über Spenden freuen wir uns.\nFür eine Kleinigkeit zum Essen ist gesorgt.\nReservierung empfohlen.\n\nSeit 2020 hat Lemonpepper 2 CDs produziert und veröffentlicht.\nHolding Hands  (2020) und  Lange Unterwegs(2021)\nHomepage: www.lemonpeppermusic.de\nhttps://youtube.com/@lemonpeppermusic6712\nhttps://www.facebook.com/Lemonpeppermusic\nFoto: Lemonpepper
URL:https://hirschau-aktuell.de/event/lieder-wie-sie-das-leben-schreibt/
LOCATION:Ratsstüble Hirschau\, Kingersheimer Straße 46
ORGANIZER;CN="Ratsst%C3%BCble Hirschau e. V.":MAILTO:info@ratsstueble-hirschau.de
END:VEVENT
BEGIN:VEVENT
DTSTART;TZID=Europe/Berlin:20231031T193000
DTEND;TZID=Europe/Berlin:20231031T213000
DTSTAMP:20260424T191403
CREATED:20231015T175544Z
LAST-MODIFIED:20231027T212623Z
UID:31548-1698780600-1698787800@hirschau-aktuell.de
SUMMARY:Nachhaltige Entwicklung jenseits von ‚Überfluss‘ und ‚Verzicht‘:
DESCRIPTION:Ethische und umweltpolitische Perspektiven \nWie kann angesichts von Biodiversitäts- und Klimakrise\, von Auseinandersetzungen um Energie- und Agrarwende Nachhaltige Entwicklung gelingen? Dafür liegen gut begründete Zielsetzungen und Vereinbarungen vor. \nDoch es bedarf nicht nur angemessener politischer Regelwerke\, sondern zugleich eines neuen Nachdenkens über Bedürfnisse\, insbesondere in ‚reichen‘ Ländern. Es geht nicht um ‚Verzicht‘ statt ‚Überfluss‘\, sondern um neue Antworten auf die Frage: „Was brauchen wir wirklich?“ \nDer Vortrag erörtert dieses Thema der Suffizienz aus ethischer und umweltpolitischer Perspektive. \n  \nWann:             31. Oktober 2023\,  19:30 Uhr\nWo:                 Ratsstüble Hirschau\nReferent:        Prof. Dr. Thomas Potthast\, Ethikzentrum der Universität Tübingen \n 
URL:https://hirschau-aktuell.de/event/nachhaltige-entwicklung-jenseits-von-ueberfluss-und-verzicht/
LOCATION:Ratsstüble Hirschau\, Kingersheimer Straße 46
ATTACH;FMTTYPE=image/jpeg:https://hirschau-aktuell.de/wp-content/uploads/2023/10/rsh-nachhaltigkeit-pixabay-background-1637197_960_720.jpg
ORGANIZER;CN="Ratsst%C3%BCble Hirschau e. V.":MAILTO:info@ratsstueble-hirschau.de
END:VEVENT
END:VCALENDAR