BEGIN:VCALENDAR
VERSION:2.0
PRODID:-//Hirschau Aktuell - ECPv6.15.20//NONSGML v1.0//EN
CALSCALE:GREGORIAN
METHOD:PUBLISH
X-WR-CALNAME:Hirschau Aktuell
X-ORIGINAL-URL:https://hirschau-aktuell.de
X-WR-CALDESC:Veranstaltungen für Hirschau Aktuell
REFRESH-INTERVAL;VALUE=DURATION:PT1H
X-Robots-Tag:noindex
X-PUBLISHED-TTL:PT1H
BEGIN:VTIMEZONE
TZID:Europe/Berlin
BEGIN:DAYLIGHT
TZOFFSETFROM:+0100
TZOFFSETTO:+0200
TZNAME:CEST
DTSTART:20220327T010000
END:DAYLIGHT
BEGIN:STANDARD
TZOFFSETFROM:+0200
TZOFFSETTO:+0100
TZNAME:CET
DTSTART:20221030T010000
END:STANDARD
BEGIN:DAYLIGHT
TZOFFSETFROM:+0100
TZOFFSETTO:+0200
TZNAME:CEST
DTSTART:20230326T010000
END:DAYLIGHT
BEGIN:STANDARD
TZOFFSETFROM:+0200
TZOFFSETTO:+0100
TZNAME:CET
DTSTART:20231029T010000
END:STANDARD
BEGIN:DAYLIGHT
TZOFFSETFROM:+0100
TZOFFSETTO:+0200
TZNAME:CEST
DTSTART:20240331T010000
END:DAYLIGHT
BEGIN:STANDARD
TZOFFSETFROM:+0200
TZOFFSETTO:+0100
TZNAME:CET
DTSTART:20241027T010000
END:STANDARD
END:VTIMEZONE
BEGIN:VEVENT
DTSTART;TZID=Europe/Berlin:20231201T193000
DTEND;TZID=Europe/Berlin:20231201T213000
DTSTAMP:20260424T155534
CREATED:20231120T134041Z
LAST-MODIFIED:20231125T134457Z
UID:31886-1701459000-1701466200@hirschau-aktuell.de
SUMMARY:Bella Rosa
DESCRIPTION:Ida Ott im Ratsstüble \nEine flotte Spätburgunderin im Rock – das ist Ida Ott.\n„Lieber trocken trinken\, als an trockene Hals!“ ist ihre Devise im rotkarierten Dirndl.\nNatürlich kommen Weinkenner*innen und Weintrinker*innen voll in den Genuss kabarettistischer Verstoffwechselungen! Alles vollmundig noch im Abgang. „Im Wein liegt Wahrheit – der Schwindel liegt im Etikett“\, räsoniert Bella Rosa. „I wett it wissa\, was do in manch einer Flasch’ inna dinna dinn ischt\, was ussa dussa gar et druff stoht!“\nSo süffisant mäandert sie von hiesigen Steilhanglagen auch in andere Weinanbaugebiete\, liebäugelt mit dem slowenischen Winzer\, der auf seinen Weinbergen die Reben mit Musik beschallt\, und kommt bis ins ferne Moldawien mit den ältesten Weinkellern der Welt. Finessenreich und selten lieblich\, moussiert Rosa in so manche Spontangärung\, sprüht Funken und landet schließlich im „Feuerschein der Reben“ und zwar am: \nFreitag\, 1.12.2023 um 19:30\nim Ratsstüble \nEintritt frei\, über Spenden freuen wir uns!\nFür eine Kleinigkeit zum Essen ist gesorgt.\nReservierung empfohlen.
URL:https://hirschau-aktuell.de/event/bella-rosa/
LOCATION:Ratsstüble Hirschau\, Kingersheimer Straße 46
ORGANIZER;CN="Ratsst%C3%BCble Hirschau e. V.":MAILTO:info@ratsstueble-hirschau.de
END:VEVENT
BEGIN:VEVENT
DTSTART;TZID=Europe/Berlin:20231212T193000
DTEND;TZID=Europe/Berlin:20231212T213000
DTSTAMP:20260424T155534
CREATED:20231118T091921Z
LAST-MODIFIED:20231210T154238Z
UID:31848-1702409400-1702416600@hirschau-aktuell.de
SUMMARY:Grenzen des Wachstums?
DESCRIPTION:Ohne Wachstum geht es nicht – \naber mit Wachstum auch nicht \nViele ahnen es längst\, so weiter geht es nicht?\nVor allem unser Wirtschaftssystem scheint uns gefangen zu halten. Der Kapitalismus steht unter Wachstumszwang\, doch unsere Erde hält das nicht aus. \nRomeo Edel stellt das Dilemma unserer derzeitigen Entwicklungen dar und gibt Hinweise\, wie wir vielleicht aus dieser Not herauskommen können. \nWir freuen uns auf die anschließende Diskussion. \nRomeo Edel ist Theologe und Physiker\, er war zuletzt Wirtschafts- und Sozialpfarrer in Stuttgart\, zugleich Studienleiter an der Evang. Akademie Bad Boll für die Bereiche Wirtschaft\, Globalisierung\, Nachhaltigkeit und viele Jahre im Umweltrat der Evang. Landeskirche in Württemberg. Zurzeit ist er Sprecher der Allianz Mobilitätswende für Baden-Württemberg. \nWann:           Dienstag\, 12.12.2023\, 19.30 Uhr\nWo:                Ratsstüble Dorfkneipe \nDer Eintritt ist kostenlos\, über Spenden freuen wir uns.
URL:https://hirschau-aktuell.de/event/grenzen-des-wachstums-ohne-wachstum-geht-es-nicht-aber-mit-wachstum-auch-nicht/
LOCATION:Ratsstüble Hirschau\, Kingersheimer Straße 46
ORGANIZER;CN="Ratsst%C3%BCble Hirschau e. V.":MAILTO:info@ratsstueble-hirschau.de
END:VEVENT
BEGIN:VEVENT
DTSTART;TZID=Europe/Berlin:20231212T193000
DTEND;TZID=Europe/Berlin:20231212T213000
DTSTAMP:20260424T155534
CREATED:20231130T202215Z
LAST-MODIFIED:20231206T220853Z
UID:31979-1702409400-1702416600@hirschau-aktuell.de
SUMMARY:Ortschaftsratsitzung
DESCRIPTION:Die nächste öffentliche Sitzung des Ortschaftsrates Hirschau findet am Dienstag\, 12. Dezember 2023 um 19.30 Uhr im Sitzungssaal des Rathauses statt. \nTagesordnung: \nÖffentlich:  \n\nMitteilungen\nStraßenname „Lämmleweg“; Beschlussfassung\nOrtsbehörde für Rentenangelegenheiten: Einblick und aktuelle Entwicklungen\nAntrag der Kommunikationsgruppe Hirschau auf Verlängerung der Finanzierung DorfNews und DorfFunk\nAntrag Zuschuss für das Bürgerbusle\nHaushaltsplan-Entwurf 2024\, Berücksichtigung Anträge aus dem Ortschaftsrat\nErhöhung Gebühren Hirschauer Mitteilungsblatt\nZustandserfassung auf KI-basierend und Sanierungsplanung der Verkehrsinfrastruktur\nEinwohnerfragestunde\nAnregungen und Fragen aus der Mitte des Ortschaftsrates\nBauanträge\nSonstiges\n\nDie Einwohnerschaft ist zu dieser Ortschaftsratssitzung recht herzlich eingeladen.
URL:https://hirschau-aktuell.de/event/ortschaftsratsitzung/
LOCATION:Rathaus Hirschau\, Kingersheimerstr. 57\, Tübingen\, 72070\, Deutschland
ATTACH;FMTTYPE=image/png:https://hirschau-aktuell.de/wp-content/uploads/2023/09/vsh_header_Rathaus.png
ORGANIZER;CN="Verwaltung":MAILTO:rathaus-hirschau@tuebingen
END:VEVENT
BEGIN:VEVENT
DTSTART;TZID=Europe/Berlin:20231215T193000
DTEND;TZID=Europe/Berlin:20231215T213000
DTSTAMP:20260424T155534
CREATED:20231116T112018Z
LAST-MODIFIED:20231116T112018Z
UID:31835-1702668600-1702675800@hirschau-aktuell.de
SUMMARY:Dorfkino: Wir können auch anders ...
DESCRIPTION:In unserem Dorfkino zeigen wir \nam Freitag\, 15.12.2023 um 19:30 Uhr den Film: \nWir können auch anders …\n(D\, 1993)\, Komödie von Filmregisseur Detlev Buck.\nEintritt 5\,00 € \nDer Film zeigt in satirisch zugespitzter Form die Umbruchsituationen in Ostdeutschland nach der Wende des Jahres 1989.\nZwei westdeutsche Analphabeten\, die Brüder Rudi und Moritz Kipp („Kipp“ und „Most“)\, fahren mit einem alten Pritschenwagen Hanomag L 28 zu dem Haus ihrer Großmutter in Mecklenburg-Vorpommern\, welches sie geerbt haben. Da sie Autokarten und Straßenschilder nicht entziffern können und der ohnehin langsame Wagen technische Probleme bereitet\, zieht sich die Fahrt länger hin als erwartet. An einer Tankstelle zwingt der flüchtige sowjetische Soldat Wiktor die Protagonisten mit vorgehaltener Kalaschnikow\, ihn mitzunehmen. Einer tätlichen Bedrohung durch fünf Wegelagerer auf einer einsamen Landstraße entkommt das Gespann nur durch Wiktors Einschreiten. Sie drehen den Spieß um und zwingen die Banditen\, in ihr Auto einzusteigen und es in einen See zu fahren. Nur zwei von ihnen gelingt der Ausstieg aus dem sinkenden Auto.
URL:https://hirschau-aktuell.de/event/dorfkino-wir-koennen-auch-anders/
LOCATION:Ratsstüble Hirschau\, Kingersheimer Straße 46
ATTACH;FMTTYPE=image/png:https://hirschau-aktuell.de/wp-content/uploads/2021/09/rsh_Logo_Ratsstueble_als_Beitragsbild.png
ORGANIZER;CN="Ratsst%C3%BCble Hirschau e. V.":MAILTO:info@ratsstueble-hirschau.de
END:VEVENT
BEGIN:VEVENT
DTSTART;TZID=Europe/Berlin:20231217T170000
DTEND;TZID=Europe/Berlin:20231217T190000
DTSTAMP:20260424T155534
CREATED:20231215T104929Z
LAST-MODIFIED:20231215T104929Z
UID:32089-1702832400-1702839600@hirschau-aktuell.de
SUMMARY:Adventskonzert
DESCRIPTION:Liebe Hirschauerinnen und Hirschauer\, \nzu unserem Adventskonzert am 17. Dezember 2023 um 17 Uhr in der Katholischen Kirche St. Ägidius laden wir recht herzlich ein. \nUnter der Leitung unseres Chorleiters\, Thimo Härter\, möchten wir Sie mit unseren Weihnachtsliedern auf die besinnliche Zeit einstimmen. \nNeben den Sängerinnen und Sängern des Liederkranz wirken das Ziehblech\, der Schulchor Hirschau\, der Akkordeonclub und der Musikverein mit. Wie gewohnt wird Uwe Kaltenmark das Konzert mit seinen Beiträgen bereichern. \nFreuen Sie sich mit uns auf ein abwechslungsreiches Adventskonzert. \nIhr Liederkranz Hirschau \nDer Eintritt ist frei. Spenden sind erwünscht\, die wir der Orgelsanierung von St. Ägidius zukommen lassen. \nUnterstützt von:
URL:https://hirschau-aktuell.de/event/adventskonzert/
LOCATION:Katholische Kirche St. Ägidius\, Kirchplatz\, 72070 Tübingen/Hirschau
ATTACH;FMTTYPE=image/png:https://hirschau-aktuell.de/wp-content/uploads/2023/08/lkh-Logo2-Liederkranz.png
END:VEVENT
END:VCALENDAR