BEGIN:VCALENDAR
VERSION:2.0
PRODID:-//Hirschau Aktuell - ECPv6.15.20//NONSGML v1.0//EN
CALSCALE:GREGORIAN
METHOD:PUBLISH
X-WR-CALNAME:Hirschau Aktuell
X-ORIGINAL-URL:https://hirschau-aktuell.de
X-WR-CALDESC:Veranstaltungen für Hirschau Aktuell
REFRESH-INTERVAL;VALUE=DURATION:PT1H
X-Robots-Tag:noindex
X-PUBLISHED-TTL:PT1H
BEGIN:VTIMEZONE
TZID:Europe/Berlin
BEGIN:DAYLIGHT
TZOFFSETFROM:+0100
TZOFFSETTO:+0200
TZNAME:CEST
DTSTART:20230326T010000
END:DAYLIGHT
BEGIN:STANDARD
TZOFFSETFROM:+0200
TZOFFSETTO:+0100
TZNAME:CET
DTSTART:20231029T010000
END:STANDARD
BEGIN:DAYLIGHT
TZOFFSETFROM:+0100
TZOFFSETTO:+0200
TZNAME:CEST
DTSTART:20240331T010000
END:DAYLIGHT
BEGIN:STANDARD
TZOFFSETFROM:+0200
TZOFFSETTO:+0100
TZNAME:CET
DTSTART:20241027T010000
END:STANDARD
BEGIN:DAYLIGHT
TZOFFSETFROM:+0100
TZOFFSETTO:+0200
TZNAME:CEST
DTSTART:20250330T010000
END:DAYLIGHT
BEGIN:STANDARD
TZOFFSETFROM:+0200
TZOFFSETTO:+0100
TZNAME:CET
DTSTART:20251026T010000
END:STANDARD
END:VTIMEZONE
BEGIN:VEVENT
DTSTART;TZID=Europe/Berlin:20240110T190000
DTEND;TZID=Europe/Berlin:20240110T210000
DTSTAMP:20260424T141746
CREATED:20240108T122130Z
LAST-MODIFIED:20240108T122130Z
UID:32225-1704913200-1704920400@hirschau-aktuell.de
SUMMARY:Erstes Plenum 2024 am Mittwoch im Ratsstüble
DESCRIPTION:Liebe Mitglieder\, liebe Unterstützerinnen und Unterstützer\, \nwir treffen uns wie gewohnt zum Austausch im offenen Plenum \n\nam Mittwoch 10. Januar 2024 um 19.00 Uhr\nim Stadtteiltreff im Ratsstüble\n\nWir wollen das Plenum nutzen\, um unsere Liste für die Ortschaftsratswahl am 9. Juni – offiziell „Wahlvorschlag“ – aufzustellen. Außerdem wird das Wahlkampfteam berichten und wir werden Programmatik\, Wahlkampf und Terminplanung zusammen weitertreiben. Auch für weitere Anliegen ist sicher noch Platz. \nDie kleine Ente als Krafttier …\nHerzliche Einladung und auf ein nicht nur politisch erfolgreiches neues Jahr \nUli und Gunter \nP.S.: Das Müllpendel am Baggersee zeigt wieder seine Erfolge und wird noch ein paar Tage stehen bleiben. Wer noch nicht dazugekommen ist\, kann sich also noch betätigen – z.B. am Arbach aufwärts in westliche Richtung.
URL:https://hirschau-aktuell.de/event/erstes-plenum-2024-am-mittwoch-im-ratsstueble/
LOCATION:Ratsstüble Hirschau\, Kingersheimer Straße 46
ATTACH;FMTTYPE=image/jpeg:https://hirschau-aktuell.de/wp-content/uploads/2023/08/admin-ajax.jpg
ORGANIZER;CN="Gr%C3%BCne Liste Hirschau":MAILTO:anmeldung@gruenelistehirschau.de
END:VEVENT
BEGIN:VEVENT
DTSTART;TZID=Europe/Berlin:20240112T193000
DTEND;TZID=Europe/Berlin:20240112T213000
DTSTAMP:20260424T141746
CREATED:20231208T162557Z
LAST-MODIFIED:20240107T140623Z
UID:32051-1705087800-1705095000@hirschau-aktuell.de
SUMMARY:Rock im Ratsstüble
DESCRIPTION:Wolf Abromeit und Frank Bierl\, zwei musikalische Tübinger Urgesteine\, haben sich vor ca. vier Jahren zum Duo „Gutenacht“ zusammen gefunden. Ihr Musikstil\, so sagen sie selbst\, lässt sich am besten als „aggressive Lagerfeuermusik“ beschreiben. Seit Jahrzehnten sind die beiden in Tübinger Bands\, wie „7Up“\, „Treat me like a dog“ oder „Retired Soon“ unterwegs. Sie spielen Songs von Crosby\, Stills\, Nash & Young\, Tom Petty\, Elton John\, CCR oder auch den Bee Gees. Zu sehen und zu hören sind sie: \nam Freitag\, 12. Januar 2024 um 19:30 Uhr\nim Ratsstüble \nDer Eintritt ist frei.\nÜber eine Spende freuen wir uns.\nFür eine Kleinigkeit zum Essen ist gesorgt.
URL:https://hirschau-aktuell.de/event/rock-im-ratsstueble/
LOCATION:Ratsstüble Hirschau\, Kingersheimer Straße 46
ORGANIZER;CN="Ratsst%C3%BCble Hirschau e. V.":MAILTO:info@ratsstueble-hirschau.de
END:VEVENT
BEGIN:VEVENT
DTSTART;TZID=Europe/Berlin:20240116T193000
DTEND;TZID=Europe/Berlin:20240116T213000
DTSTAMP:20260424T141746
CREATED:20240104T173313Z
LAST-MODIFIED:20240111T205201Z
UID:32191-1705433400-1705440600@hirschau-aktuell.de
SUMMARY:Ortschaftsratsitzung
DESCRIPTION:Die nächste öffentliche Sitzung des Ortschaftsrates Hirschau findet am Dienstag\, 16. Januar 2024 um 19.30 Uhr im Sitzungssaal des Rathauses statt. \nTagesordnung: \nÖffentlich:  \n\nMitteilungen\nSchulsozialarbeit in der Grundschule Hirschau\, Bericht Schulsozialarbeiterin und Schulleiterin\nSituation der Naturschutzgebiete „Hirschauer Berg“ und „Spitzberg / Ödenburg“\nBericht Prof. Gottschalk zu Antrag Grüne Liste Hirschau\nNeukalkulation Bestattungsgebühren\, Satzung zur Änderung der Gebührensatzung für das Bestattungswesen\nEinwohnerfragestunde\nAnregungen und Fragen aus der Mitte des Ortschaftsrates\nBauanträge\nSonstiges
URL:https://hirschau-aktuell.de/event/ortschaftsratsitzung-2/
LOCATION:Rathaus Hirschau\, Kingersheimerstr. 57\, Tübingen\, 72070\, Deutschland
ATTACH;FMTTYPE=image/jpeg:https://hirschau-aktuell.de/wp-content/uploads/2024/01/vsh_Header-Ortschaftsrat.jpg
ORGANIZER;CN="Verwaltung":MAILTO:rathaus-hirschau@tuebingen
END:VEVENT
BEGIN:VEVENT
DTSTART;TZID=Europe/Berlin:20240118T193000
DTEND;TZID=Europe/Berlin:20240118T213000
DTSTAMP:20260424T141746
CREATED:20231216T135629Z
LAST-MODIFIED:20240114T132308Z
UID:32104-1705606200-1705613400@hirschau-aktuell.de
SUMMARY:Kabarett trifft Malerei
DESCRIPTION:Der Künstler Hans Mendler stellt seit Ende Oktober seine Werke im Ratsstüble in Hirschau aus. Seine langjährige Freundschaft mit Josef Brustmann machte es möglich\, dass wir den mehrfach ausgezeichneten bayerischen Kabarettisten\, Musiker und Lyriker für einen Abend ins Ratsstüble verpflichten konnten.\nJosef Brustmann erhielt u.a. den Deutschen Kabarettpreis\, den Gutedel-Kabarettpreis\, den Hamburger Comedy Pokal und die TUTTLINGER KRÄHE.\nSeine Kabarettprogramme sind zum Lachen\, das einem manchmal vergeht. Fuchsschlau zieht er dem Publikum das Fell über die Ohren und schaut nach\, was darunter ist. Wenn es zu tragisch wird\, singt er was Schönes oder schlägt die Zither oder seine Wanderwunderorgel. „Reuefreies Lachen ist  garantiert“ schreibt die AZ (Abendzeitung München)\, als „tröstlichen Stern am konfusen Kabaretthimmel“  beschreibt ihn die SZ (Süddeutsche Zeitung).\nJosef Brustmann ist wie eine Katze\, er hat mehrere Leben. Neben seinem Kabarettlebensverlauf schreibt er schon lange und leidenschaftlich Gedichte und Prosa und vertont Texte zeitgenössischer Schriftsteller. Dass seine Zither mal nach Franz Schubert mal nach Tom Waits oder ACDC oder J.S. Bach oder dem „Dritten Mann“ klingt\, klingt unwahrscheinlich und ist aber wahr.\nEr wird uns mit seinem Programm „Best of …“ sicherlich bestens unterhalten und zwar am \nDonnerstag\, 18.01.2024 um 19:30\nim Ratsstüble Hirschau \nDer Eintritt ist frei\, über Spenden freuen wir uns.\nReservierung empfohlen.
URL:https://hirschau-aktuell.de/event/kabarett-trifft-malerei/
LOCATION:Ratsstüble Hirschau\, Kingersheimer Straße 46
ORGANIZER;CN="Ratsst%C3%BCble Hirschau e. V.":MAILTO:info@ratsstueble-hirschau.de
END:VEVENT
BEGIN:VEVENT
DTSTART;TZID=Europe/Berlin:20240127T183000
DTEND;TZID=Europe/Berlin:20240127T203000
DTSTAMP:20260424T141746
CREATED:20240120T105842Z
LAST-MODIFIED:20240120T105842Z
UID:32214-1706380200-1706387400@hirschau-aktuell.de
SUMMARY:Alle Farben des Lebens
DESCRIPTION:Vernissage mit Ingo Riemenschneider\n(Hirschau)\nAusdrucksstarke Farben und abstrakte Formen machen seine Bilder zu wahren Inspirationsquellen. Bei jedem Blick eröffnet sich dem Betrachter ein anderes Detail – begünstigt auch durch verschiedene Techniken – und bietet damit den idealen Nährboden der individuellen Kreativität.\nDie Ausstellungseröffnung findet statt am \nSamstag\, 27.01.2024 um 18:30 im Ratsstüble\nfür musikalische Unterhaltung ist gesorgt.
URL:https://hirschau-aktuell.de/event/alle-farben-des-lebens/
LOCATION:Ratsstüble Hirschau\, Kingersheimer Straße 46
ATTACH;FMTTYPE=image/jpeg:https://hirschau-aktuell.de/wp-content/uploads/2024/01/Ingo_Riemenschneider-scaled.jpg
ORGANIZER;CN="Ratsst%C3%BCble Hirschau e. V.":MAILTO:info@ratsstueble-hirschau.de
END:VEVENT
END:VCALENDAR