BEGIN:VCALENDAR
VERSION:2.0
PRODID:-//Hirschau Aktuell - ECPv6.15.20//NONSGML v1.0//EN
CALSCALE:GREGORIAN
METHOD:PUBLISH
X-ORIGINAL-URL:https://hirschau-aktuell.de
X-WR-CALDESC:Veranstaltungen für Hirschau Aktuell
REFRESH-INTERVAL;VALUE=DURATION:PT1H
X-Robots-Tag:noindex
X-PUBLISHED-TTL:PT1H
BEGIN:VTIMEZONE
TZID:Europe/Berlin
BEGIN:DAYLIGHT
TZOFFSETFROM:+0100
TZOFFSETTO:+0200
TZNAME:CEST
DTSTART:20240331T010000
END:DAYLIGHT
BEGIN:STANDARD
TZOFFSETFROM:+0200
TZOFFSETTO:+0100
TZNAME:CET
DTSTART:20241027T010000
END:STANDARD
BEGIN:DAYLIGHT
TZOFFSETFROM:+0100
TZOFFSETTO:+0200
TZNAME:CEST
DTSTART:20250330T010000
END:DAYLIGHT
BEGIN:STANDARD
TZOFFSETFROM:+0200
TZOFFSETTO:+0100
TZNAME:CET
DTSTART:20251026T010000
END:STANDARD
BEGIN:DAYLIGHT
TZOFFSETFROM:+0100
TZOFFSETTO:+0200
TZNAME:CEST
DTSTART:20260329T010000
END:DAYLIGHT
BEGIN:STANDARD
TZOFFSETFROM:+0200
TZOFFSETTO:+0100
TZNAME:CET
DTSTART:20261025T010000
END:STANDARD
END:VTIMEZONE
BEGIN:VEVENT
DTSTART;TZID=Europe/Berlin:20250201T090000
DTEND;TZID=Europe/Berlin:20250201T153000
DTSTAMP:20260423T183815
CREATED:20250130T100439Z
LAST-MODIFIED:20250130T110827Z
UID:35590-1738400400-1738423800@hirschau-aktuell.de
SUMMARY:Naturschutz- und Pflegeeinsatz im Kleb
DESCRIPTION:Unser Projekt im Kleb geht am Samstag ab 9 Uhr weiter. Wir haben nur noch wenige Samstage für die Winterarbeiten\, denn ab 1. März ist ja nach § 39 Bundesnaturschutzgesetz das Fällen untersagt.\nDie Fläche liegt am Radweg von Tübingen nach Hirschau. https://vebtil.de/projekte/kleb/ \nMotorsäger können eventuell beim Zerlegen von gefällten Bäumen mitmachen\, denn die Fällungen am Hang sind für Anfänger eher schwierig. Eigene Schutzkleidung ist nötig\, Helme und Sägen haben wir.\nKleine Bäume und Büsche werden mit der Handsäge gelegt. Wir versuchen hauptsächlich das Unterholz auf den oberen Terrassen raus zu holen. Das Holz und Reisig muss von der Fläche geschafft werden\, so dass viele Hände gebraucht werden. Auch die vielen Trockenmauern und Stäffle brauchen ab und an eine Pflege und damit haben wir ein vielfältiges Aufgabenspektrum zu bieten. \nDer Wetterbericht sagt kalt\, aber trocken und wir sollten das Wetter nutzen und wenn möglich auch am Nachmittag noch viel Material von der Fläche holen. \nWir bitten um kurze Rückmeldung\, damit wir Vesper und Werkzeug einplanen können.
URL:https://hirschau-aktuell.de/event/naturschutz-und-pflegeeinsatz-im-kleb/
LOCATION:Kleb\, 48.503658\, 9.017407\, Hirschau\, Baden-Württemberg\, 72070\, Germany
ATTACH;FMTTYPE=image/jpeg:https://hirschau-aktuell.de/wp-content/uploads/2025/01/Kleb-2024-03-02-m-k.jpg
ORGANIZER;CN="VEbTiL":MAILTO:info@vebtil.de
END:VEVENT
BEGIN:VEVENT
DTSTART;TZID=Europe/Berlin:20250204T193000
DTEND;TZID=Europe/Berlin:20250204T213000
DTSTAMP:20260423T183815
CREATED:20250113T130641Z
LAST-MODIFIED:20250127T085553Z
UID:35416-1738697400-1738704600@hirschau-aktuell.de
SUMMARY:Informationsabend zu Photovoltaik-Anlagen
DESCRIPTION:Tragen Sie sich mit dem Gedanken eine Photovoltaik Anlage auf Ihrem Dach zu installieren? \nPhotovoltaikanlagen haben in der Regel eine Lebensdauer von 25 Jahren oder mehr. In dieser Zeit können Sie eine beträchtliche Menge an Strom produzieren\, was sich langfristig rentiert. Die Anschaffungskosten amortisieren sich häufig nach 10 bis 15 Jahren. \nAm 4. Februar um 19 Uhr 30 informieren die Tübinger PV-Mentoren im Ratsstüble Hirschau zum Thema Photovoltaik. \nReferenten sind: \n\nHerr Jacobi\, viele Jahre Energieberater bei den Stadtwerken und der Stadt Tübingen.\nHerr Löffelhardt ist Lehrer und – wie Herr Jacobi – einer der Tübinger PV-Mentoren.\n\nWenn Sie unsicher sind\, ob Sie das Thema Photovoltaik angehen sollen oder schon Angebote vorliegen haben\, aber nicht wissen\, welches Angebot Sie nehmen sollen\, dann sind Sie an diesen Abend richtig im Ratsstüble. \nNach dem Vortrag können Fragen rund ums Energiesparen gestellt werden. Herzliche Einladung an alle Interessierten. \nWann: Dienstag\, 4.2.2025 um 19 Uhr 30\nWo:     Ratsstüble Hirschau \n  \nDie Teilnahme ist kostenlos. Wir freuen uns auf Sie!
URL:https://hirschau-aktuell.de/event/informationsabend-zu-photovoltaik-anlagen/
LOCATION:Ratsstüble Hirschau\, Kingersheimer Straße 46
ATTACH;FMTTYPE=image/jpeg:https://hirschau-aktuell.de/wp-content/uploads/2025/01/rsh-photovoltaic-6239423_1280.jpg
ORGANIZER;CN="Ratsst%C3%BCble Hirschau e. V.":MAILTO:info@ratsstueble-hirschau.de
END:VEVENT
BEGIN:VEVENT
DTSTART;TZID=Europe/Berlin:20250205T183000
DTEND;TZID=Europe/Berlin:20250205T190000
DTSTAMP:20260423T183815
CREATED:20250130T100156Z
LAST-MODIFIED:20250130T110631Z
UID:35601-1738780200-1738782000@hirschau-aktuell.de
SUMMARY:Lämmle oder Hölderlin
DESCRIPTION:Mit Rezitation und Ansprache erinnern wir am Lämmle-Knoten an die Benennung des Lämmlewegs durch den Hirschauer Gemeinderat vor 66 Jahren. Zugleich benannte der Gemeinderat den Feldweg 52 als Hölderlinstraße. Die Ehrung Lämmles und diese  Gleichzeitigkeit wirken heute befremdlich – August Lämmle war Propagandist eines schwäbischen Nationalsozialismus: https://www.tuebingen.de/strassennamen#/35941/35949 \nDer Ortschaftsrat Hirschau hat sich im Dezember 2023 gegen eine Umbenennung des Lämmlewegs und für die Kommentierung durch einen „Knoten“ ausgesprochen. Außerdem wurde seinerzeit angeregt\, den verbleibenden Lämmleweg auch in Zukunft als Aufforderung zur kritischen Auseinandersetzung und Erinnerung zu verstehen. \nHeute vor 65 Jahren: Der Hirschauer Gemeinderat benennt den Lämmleweg
URL:https://hirschau-aktuell.de/event/laemmle-oder-hoelderlin/
LOCATION:Lämmle-Knoten\, Lämmleweg\, Hirschau\, Baden-Württemberg\, 72070\, Germany
ATTACH;FMTTYPE=image/jpeg:https://hirschau-aktuell.de/wp-content/uploads/2025/01/Laemmleweg.jpg
ORGANIZER;CN="Gr%C3%BCne Liste Hirschau":MAILTO:anmeldung@gruenelistehirschau.de
END:VEVENT
BEGIN:VEVENT
DTSTART;TZID=Europe/Berlin:20250211T193000
DTEND;TZID=Europe/Berlin:20250211T213000
DTSTAMP:20260423T183815
CREATED:20250130T213832Z
LAST-MODIFIED:20250206T225256Z
UID:35615-1739302200-1739309400@hirschau-aktuell.de
SUMMARY:Ortschaftsratssitzung
DESCRIPTION:Die nächste öffentliche Sitzung des Ortschaftsrates Hirschau findet am Dienstag\, 11. Februar 2025 um 19.30 Uhr im Sitzungssaal des Rathauses statt. \nTagesordnung:  \n\nMitteilungen\nFörderung für Wein-Obst- und Naturlehrpfad Wurmlingen-Hirschau\nKurzbericht aus den Gemeinderatsausschüssen\nEinwohnerfragestunde\nAnregungen und Fragen aus der Mitte des Ortschaftsrates\nBauanträge\nSonstiges\n\nDie Einwohnerschaft ist zu Ortschaftsratssitzungen recht herzlich eingeladen.
URL:https://hirschau-aktuell.de/event/ortschaftsratssitzung-27/
LOCATION:Rathaus Hirschau\, Kingersheimerstr. 57\, Tübingen\, 72070\, Deutschland
ATTACH;FMTTYPE=image/jpeg:https://hirschau-aktuell.de/wp-content/uploads/2024/01/vsh_Header-Ortschaftsrat.jpg
ORGANIZER;CN="Verwaltung":MAILTO:rathaus-hirschau@tuebingen
END:VEVENT
BEGIN:VEVENT
DTSTART;TZID=Europe/Berlin:20250216T113000
DTEND;TZID=Europe/Berlin:20250216T130000
DTSTAMP:20260423T183815
CREATED:20250211T104215Z
LAST-MODIFIED:20250211T104540Z
UID:35713-1739705400-1739710800@hirschau-aktuell.de
SUMMARY:Asli zapft
DESCRIPTION:
URL:https://hirschau-aktuell.de/event/asli-zapft/
LOCATION:Ratsstüble Hirschau\, Kingersheimer Straße 46
ATTACH;FMTTYPE=image/jpeg:https://hirschau-aktuell.de/wp-content/uploads/2025/02/Asli_zapft.jpeg
ORGANIZER;CN="Gr%C3%BCne Liste Hirschau":MAILTO:anmeldung@gruenelistehirschau.de
END:VEVENT
BEGIN:VEVENT
DTSTART;TZID=Europe/Berlin:20250218T193000
DTEND;TZID=Europe/Berlin:20250218T213000
DTSTAMP:20260423T183815
CREATED:20250125T102858Z
LAST-MODIFIED:20250125T102858Z
UID:35576-1739907000-1739914200@hirschau-aktuell.de
SUMMARY:Älterwerden - oder das Beste kommt noch?!
DESCRIPTION:Welche Wünsche haben wir für unser Alter und was hilft uns diese in Erfüllung gehen zu lassen. Wir alle wissen\, es gibt kein Älterwerden ohne Einbußen und Verluste.  Und dennoch wollen (und sollen?) wir aktiv sein bis ins hohe Alter – ein Widerspruch? \n\nReferentin:            Barbara Raff\, Dipl. Soz.-Päd. FH\nDatum:                   Dienstag\, den 18.2.2025 um 19:30\nOrt:                          Ratsstüble Hirschau
URL:https://hirschau-aktuell.de/event/aelterwerden-oder-das-beste-kommt-noch/
LOCATION:Ratsstüble Hirschau\, Kingersheimer Straße 46
ATTACH;FMTTYPE=image/jpeg:https://hirschau-aktuell.de/wp-content/uploads/2025/01/2048px-BS-Alter_Mann_mit_Fisch.jpg
ORGANIZER;CN="Ratsst%C3%BCble Hirschau e. V.":MAILTO:info@ratsstueble-hirschau.de
END:VEVENT
BEGIN:VEVENT
DTSTART;TZID=Europe/Berlin:20250221T193000
DTEND;TZID=Europe/Berlin:20250221T213000
DTSTAMP:20260423T183815
CREATED:20250122T101905Z
LAST-MODIFIED:20250217T101356Z
UID:35537-1740166200-1740173400@hirschau-aktuell.de
SUMMARY:2 Gitarren - das Huber-Frangenberg-Duo
DESCRIPTION:Klare elegante Melodieführung und ein warmer\, lyrischer Ton. Das zeichnet die Musik von Bernd Huber an der Jazzgitarre aus. Sein Handwerk hat er unter anderem\, während des Studiums (2004 – 2008) bei Peter O’Mara an der Hochschule für Musik in München gelernt und in den Jahren danach bei unzähligen Auftritten in und um München (u.a. Unterfahrt\, Mister B’s\, Night Club Bayerischer Hof\, Jazzclub Augsburg\, Mautnerschloss Jazzkeller) verfeinert. Er ist u.a. festes Mitglied bei Kiesewetters GammaRama\, SP2 und Lights Out Orchestra. Seit Mitte 2019 lebt Bernd in Reutlingen. \nSein musikalischer Partner Guido Frangenberg ist seit über 30 Jahren in Reutlingen und Tübingen; in verschiedenen kleinen und größeren Besetzungen (Big Yellow Taxi\, Late Payment\, On Cue\, Echaz Jazz u.a.) musikalisch aktiv. Guido schafft es auf seiner Gitarre auch mit wenigen Tönen atmosphärisch dichte Klangwelten zu erschaffen. \nBeide Musiker haben sich auf einer Jam Session kennengelernt und teilen die Begeisterung für das klassische Jazz Repertoire. Die Darbietung bekannter Jazz-Standards im Duo lässt der Musik viel Raum zum Atmen und erlaubt spontane Interaktion. Dabei ergänzen sich sowohl die Spielweisen von Guido und Bernd als auch die unterschiedlichen Klänge von akustischer und elektrischer Gitarre. Die beiden Jazzer sind zu hören am: \nFreitag\, 21.02.2025 um 19:30 Uhr\nim Ratsstüble Hirschau\nEintritt frei\, Spenden sehr erwünscht.\nFür eine Kleinigkeit zum Essen ist gesorgt.\nReservierung empfohlen.
URL:https://hirschau-aktuell.de/event/2-gitarren-das-huber-frangenberg-duo/
LOCATION:Ratsstüble Hirschau\, Kingersheimer Straße 46
ATTACH;FMTTYPE=image/jpeg:https://hirschau-aktuell.de/wp-content/uploads/2025/01/rsh_Huber_Frangenber_omp.jpg
ORGANIZER;CN="Ratsst%C3%BCble Hirschau e. V.":MAILTO:info@ratsstueble-hirschau.de
END:VEVENT
END:VCALENDAR