BEGIN:VCALENDAR
VERSION:2.0
PRODID:-//Hirschau Aktuell - ECPv6.15.20//NONSGML v1.0//EN
CALSCALE:GREGORIAN
METHOD:PUBLISH
X-ORIGINAL-URL:https://hirschau-aktuell.de
X-WR-CALDESC:Veranstaltungen für Hirschau Aktuell
REFRESH-INTERVAL;VALUE=DURATION:PT1H
X-Robots-Tag:noindex
X-PUBLISHED-TTL:PT1H
BEGIN:VTIMEZONE
TZID:Europe/Berlin
BEGIN:DAYLIGHT
TZOFFSETFROM:+0100
TZOFFSETTO:+0200
TZNAME:CEST
DTSTART:20240331T010000
END:DAYLIGHT
BEGIN:STANDARD
TZOFFSETFROM:+0200
TZOFFSETTO:+0100
TZNAME:CET
DTSTART:20241027T010000
END:STANDARD
BEGIN:DAYLIGHT
TZOFFSETFROM:+0100
TZOFFSETTO:+0200
TZNAME:CEST
DTSTART:20250330T010000
END:DAYLIGHT
BEGIN:STANDARD
TZOFFSETFROM:+0200
TZOFFSETTO:+0100
TZNAME:CET
DTSTART:20251026T010000
END:STANDARD
BEGIN:DAYLIGHT
TZOFFSETFROM:+0100
TZOFFSETTO:+0200
TZNAME:CEST
DTSTART:20260329T010000
END:DAYLIGHT
BEGIN:STANDARD
TZOFFSETFROM:+0200
TZOFFSETTO:+0100
TZNAME:CET
DTSTART:20261025T010000
END:STANDARD
END:VTIMEZONE
BEGIN:VEVENT
DTSTART;TZID=Europe/Berlin:20250301T090000
DTEND;TZID=Europe/Berlin:20250301T153000
DTSTAMP:20260423T164946
CREATED:20250227T172137Z
LAST-MODIFIED:20250228T075811Z
UID:35854-1740819600-1740843000@hirschau-aktuell.de
SUMMARY:Pflegeeinsatz im Kleb: Aufräumen vor dem Sommer
DESCRIPTION:Liebe Interessierte und Mithelfende\, \nunser Projekt im Kleb geht am Samstag ab 9 Uhr in die Aufräumphase und wird für den Sommer fertig gemacht. Bei den letzten Einsätzen wurden kleinere Bäume und viel Gebüsch umgelegt. Wir müssen die Fläche jetzt vollständig abräumen und oben noch Robinien ringeln. Dann lassen wir die Terrassen bis zum ersten Mäheinsatz im Juni auch in Ruhe und freuen uns an dem\, was im Fühling aus dem Boden sprießt. \nDie Fläche liegt am Radweg von Tübingen nach Hirschau. https://vebtil.de/projekte/kleb/ \nAlle die mithelfen möchten bitten wir um eine kurze Rückmeldung an frank@vebtil.org\, damit wir Vesper und Werkzeug einplanen können. Der Wetterbericht sagt kalt\, aber trocken und wir sollten das Wetter nutzen. Wenn je am Nachmittag noch Energie da wäre\, könnte man in den Hirschauer Riedweingärten auch noch Brombeeren raushacken  ⛏️⛏️⛏️
URL:https://hirschau-aktuell.de/event/pflegeeinsatz-im-kleb-aufraeumen-vor-dem-sommer/
LOCATION:Kleb\, 48.503658\, 9.017407\, Hirschau\, Baden-Württemberg\, 72070\, Germany
ATTACH;FMTTYPE=image/jpeg:https://hirschau-aktuell.de/wp-content/uploads/2025/01/Kleb-2024-03-02-m-k.jpg
ORGANIZER;CN="VEbTiL":MAILTO:info@vebtil.de
END:VEVENT
BEGIN:VEVENT
DTSTART;TZID=Europe/Berlin:20250311T193000
DTEND;TZID=Europe/Berlin:20250311T213000
DTSTAMP:20260423T164946
CREATED:20250223T180716Z
LAST-MODIFIED:20250305T180752Z
UID:35810-1741721400-1741728600@hirschau-aktuell.de
SUMMARY:Pflegebedürftig im Alter - und dann?
DESCRIPTION:Im Prozess des Älteren-Werdens kann es dazu kommen\, auf Hilfen und Pflege angewiesen zu sein. Es stellt sich dann die Frage\, welche Hilfsangebote es gibt\, und wie diese finanzierbar sind. \nDer Vortrag gibt dazu einen Überblick\, sowie zu den aktuellen Änderungen der Pflegeversicherung. Die individuellen Beratungsangebote werden vorgestellt. \nIm Anschluss an den Vortrag bleibt Zeit für Fragen. \nReferentin:    Andrea Seitz\, Pflegestützpunkt Landkreis Tübingen \nTermin:          11. März 2025 19:30 – 21:00 Uhr\nOrt:                 Ratsstüble Hirschau
URL:https://hirschau-aktuell.de/event/pflegebeduerftig-im-alter-und-dann/
LOCATION:Ratsstüble Hirschau\, Kingersheimer Straße 46
ATTACH;FMTTYPE=image/jpeg:https://hirschau-aktuell.de/wp-content/uploads/2025/02/dependent-441408_1280.jpg
ORGANIZER;CN="Ratsst%C3%BCble Hirschau e. V.":MAILTO:info@ratsstueble-hirschau.de
END:VEVENT
BEGIN:VEVENT
DTSTART;TZID=Europe/Berlin:20250311T193000
DTEND;TZID=Europe/Berlin:20250311T213000
DTSTAMP:20260423T164946
CREATED:20250227T230033Z
LAST-MODIFIED:20250306T200047Z
UID:35858-1741721400-1741728600@hirschau-aktuell.de
SUMMARY:Ortschaftsratssitzung
DESCRIPTION:Die nächste öffentliche Sitzung des Ortschaftsrates Hirschau findet am Dienstag\, 11. März 2025 um 19.30 Uhr im Sitzungssaal des Rathauses statt. \nTagesordnung\n\nMitteilungen\nBericht der Ammertal-Schönbuchgruppe über die Trinkwasserversorgung in Hirschau\nHaushaltskonsolidierung\nAntrag der Kommunikationsgruppe Hirschau auf Verlängerung der Finanzierung DorfNews und DorfFunk\nKurzbericht aus den Gemeinderatsausschüssen\nEinwohnerfragestunde\nAnregungen und Fragen aus der Mitte des Ortschaftsrates\nBauanträge\nSonstiges\n\nDie Einwohnerschaft ist zu Ortschaftsratssitzungen recht herzlich eingeladen.
URL:https://hirschau-aktuell.de/event/ortschaftsratssitzung-28/
LOCATION:Rathaus Hirschau\, Kingersheimerstr. 57\, Tübingen\, 72070\, Deutschland
ATTACH;FMTTYPE=image/jpeg:https://hirschau-aktuell.de/wp-content/uploads/2024/01/vsh_Header-Ortschaftsrat.jpg
END:VEVENT
BEGIN:VEVENT
DTSTART;TZID=Europe/Berlin:20250318T193000
DTEND;TZID=Europe/Berlin:20250318T213000
DTSTAMP:20260423T164946
CREATED:20250227T235048Z
LAST-MODIFIED:20250227T235217Z
UID:35873-1742326200-1742333400@hirschau-aktuell.de
SUMMARY:Frühjahrs-Vereinsbesprechung
DESCRIPTION:Auf die Frühjahrs-Vereinsbesprechung am Dienstag\, den 18. März 2025 im Ratsstüble\, Kingersheimer Str. 46\, Beginn: 19.30 Uhr\, dürfen wir heute schon hinweisen.\nZur Vervollständigung unseres Veranstaltungskalenders bitten wir die Vereine\, Gruppen\, Schule\, Kindergärten und Kirchen\, uns die Termine schon vorab schriftlich mitzuteilen (gerne auch per Email: rathaus-hirschau@tuebingen.de)\, damit der Veranstaltungskalender ergänzt werden kann.
URL:https://hirschau-aktuell.de/event/fruehjahrs-vereinsbesprechung/
LOCATION:Ratsstüble Hirschau\, Kingersheimer Straße 46
ATTACH;FMTTYPE=image/jpeg:https://hirschau-aktuell.de/wp-content/uploads/2024/01/vsh_Verwaltungsstelle-Header.jpg
ORGANIZER;CN="Verwaltung":MAILTO:rathaus-hirschau@tuebingen
END:VEVENT
BEGIN:VEVENT
DTSTART;TZID=Europe/Berlin:20250320T193000
DTEND;TZID=Europe/Berlin:20250320T210000
DTSTAMP:20260423T164946
CREATED:20250302T180244Z
LAST-MODIFIED:20250302T180244Z
UID:35921-1742499000-1742504400@hirschau-aktuell.de
SUMMARY:Hitze – die unterschätzte Gefahr. Vortrag von Dr. med. Klaus Wild\, Tübingen
DESCRIPTION:Hitze und Hitzewellen stellen das größte klimawandelbedingte Gesundheitsrisiko für Menschen in Deutschland dar. Hitzeerschöpfung\, Dehydrierung und lebensbedrohlicher Hitzschlag sind mögliche Auswirkungen\, bereits bestehende Krankheiten können sich verschlimmern. \nBereits heute kommt es zu mehreren Tausend hitzebedingten Todesfällen pro Jahr – in Rekordsommern schätzungsweise bis zu 10.000. \nDabei können hitzebedingte Schädigungen der Gesundheit besonders bei kleinen Kindern\, älteren und kranken Menschen weitgehend vermieden werden. Dazu gehören Maßnahmen der Klimawandelanpassung wie Verschattung\, Begrünung oder Trinkwasserbrunnen. \nDoch Kommunen\, das Gesundheitswesen und die Versorgungssysteme in Deutschland sind auf Hitzewellen noch nicht hinreichend vorbereitet. \nWas ist zu tun? \nDarüber wird Dr. med. Klaus Wild am 20. März in seinem Vortrag im Hirschauer Ratsstüble sprechen. Der erfahrene Geriater und Facharzt für Innere Medizin wird nicht nur individuelle Tipps für das eigene Verhalten geben\, sondern auch auf die Aktivitäten des Tübinger „Arbeitskreis Hitzeschutzbündnis“ und den entstehende kommunalen Hitzeaktionsplan eingehen.
URL:https://hirschau-aktuell.de/event/hitze-die-unterschaetzte-gefahr-vortrag-von-dr-med-klaus-wild-tuebingen/
LOCATION:Ratsstüble Hirschau\, Kingersheimer Straße 46
ATTACH;FMTTYPE=image/jpeg:https://hirschau-aktuell.de/wp-content/uploads/2025/03/Heisse-Tage-in-B-W.jpeg
ORGANIZER;CN="Gr%C3%BCne Liste Hirschau":MAILTO:anmeldung@gruenelistehirschau.de
END:VEVENT
BEGIN:VEVENT
DTSTART;TZID=Europe/Berlin:20250321T193000
DTEND;TZID=Europe/Berlin:20250321T213000
DTSTAMP:20260423T164946
CREATED:20250221T101019Z
LAST-MODIFIED:20250320T160809Z
UID:35798-1742585400-1742592600@hirschau-aktuell.de
SUMMARY:Dorfkino muss leider ausfallen!
DESCRIPTION:CLEO \nCleo ist ein deutscher Spielfilm des Regisseurs Erik Schmitt aus dem Jahr 2019. Er wurde bei den Internationalen Filmfestspielen Berlin 2019 als Eröffnungsfilm uraufgeführt. Marleen Lohse spielt die Titelrolle. \nCleo arbeitet für ein Touristenbüro in Berlin und lebt ein einsames\, abgeschottetes Leben\, seit ihr Vater starb\, als Cleo zehn Jahre alt war. Cleo gibt sich selbst die Schuld am Tod des Vaters und hofft seit ihrer Kindheit\, dass eine magische Uhr\, die im verschollenen Schatz der Brüder Sass versteckt sein soll\, ihr dabei helfen wird\, die Zeit zurückzudrehen und ihren Vater zu retten. Als sie eines Tages den jungen Abenteurer Paul kennenlernt\, der eine Karte gefunden hat\, die zum Schatz führen soll\, schließt sie sich ihm an\, und für Cleo beginnt eine Reise durch Berlins Geschichte\, zurück zum Anfang der Zeit. \nDer Film erhielt überwiegend positive Kritiken. So schreibt Holger Heiland für kunstundfilm\, dass der Film keinen Moment an Charme und Drive verliere. „Das liegt vor allem an der überbordenden Fülle von Einfällen\, die die Handlung umspielen\, kommentieren und einbetten.“ Er empfindet die visuellen Einfälle nicht als „Leistungsshow filmischen Kunsthandwerks; stattdessen kitzelt der Film überraschende Assoziationen und Kurzschlüsse hervor\, die entstehen lassen\, was deutschem Kino allzu oft fehlt: Poesie auf der Höhe technischer Möglichkeiten.“ \nDer Film ist in unserem Dorfkino zu sehen\, und zwar am \nFreitag\, 21.03.2025 um 19:30\nim Ratsstüble\nEintritt 5 €\nFSK 6 Jahre
URL:https://hirschau-aktuell.de/event/dorfkino-2/
LOCATION:Ratsstüble Hirschau\, Kingersheimer Straße 46
ATTACH;FMTTYPE=image/jpeg:https://hirschau-aktuell.de/wp-content/uploads/2025/02/rsh_Cleo_Film_klein.jpg
ORGANIZER;CN="Ratsst%C3%BCble Hirschau e. V.":MAILTO:info@ratsstueble-hirschau.de
END:VEVENT
BEGIN:VEVENT
DTSTART;TZID=Europe/Berlin:20250327T193000
DTEND;TZID=Europe/Berlin:20250327T213000
DTSTAMP:20260423T164946
CREATED:20250226T100014Z
LAST-MODIFIED:20250323T082110Z
UID:35833-1743103800-1743111000@hirschau-aktuell.de
SUMMARY:Zwei Wege in die Freiheit !
DESCRIPTION:Zwei Frauen mit ganz unterschiedlichen Hintergründen berichten über Verfolgung\, Überwachung\, Gefängnis und Zersetzung durch die Staatssicherheit in der DDR. \nKonstanze Helber (Jahrgang 1954)\, wohnhaft in Rottenburg\, wurde 1977 wegen versuchter Republikflucht zu einer mehrjährigen Haftstrafe verurteilt und war bis zu ihrem Freikauf 1979 durch die BRD im berüchtigten Frauengefängnis Hoheneck inhaftiert und gezielter Entmenschlichung und Zwangsarbeit ausgesetzt. \nAntje Fleischer (Jahrgang 1968)\, wohnhaft in Tübingen-Hirschau\, erhielt aufgrund ihrer kritischen politischen Haltung trotz Bestnoten nach dem Abitur keine Zulassung zum Studium\, wurde zu einem operativen „Zersetzungsfall“ für die Stasi und entging 1989 nach der DDR-Flucht des Vaters nur knapp einer Inhaftierung. \nBeide berichten sehr persönlich\, wie wenig es brauchte\, um in der DDR als eigensinnig zu gelten und dem Staat ein Dorn im Auge zu sein. \n36 Jahre nach der Wende wird die DDR mittlerweile zu Teilen verklärt und glorifiziert\, die geschichtlichen Zusammenhänge gegenüber der jungen Generation nicht ausreichend vermittelt und die Spätfolgen der Opfer des DDR-Unrechtsstaats oft ignoriert. Der diktatorische Charakter der DDR\, der seine Bürger demütigte\, Familien zerstörte und Menschrechte missachtete\, gerät häufig in Vergessenheit. \nZwei Frauen auf zwei unterschiedlichen Wegen nach Deutschland – und heute ehrenamtlich engagiert gegen das Vergessen und für den demokratischen Diskurs. \nWann: Dienstag\, 11.3.2025 um 19 Uhr 30\nWo:     Ratsstüble Hirschau \n  \nDie Teilnahme ist kostenlos. Wir freuen uns auf Sie!
URL:https://hirschau-aktuell.de/event/zwei-wege-in-die-freiheit/
LOCATION:Ratsstüble Hirschau\, Kingersheimer Straße 46
ATTACH;FMTTYPE=image/jpeg:https://hirschau-aktuell.de/wp-content/uploads/2025/02/rsh-SED.jpg
ORGANIZER;CN="Ratsst%C3%BCble Hirschau e. V.":MAILTO:info@ratsstueble-hirschau.de
END:VEVENT
END:VCALENDAR