BEGIN:VCALENDAR
VERSION:2.0
PRODID:-//Hirschau Aktuell - ECPv6.15.20//NONSGML v1.0//EN
CALSCALE:GREGORIAN
METHOD:PUBLISH
X-WR-CALNAME:Hirschau Aktuell
X-ORIGINAL-URL:https://hirschau-aktuell.de
X-WR-CALDESC:Veranstaltungen für Hirschau Aktuell
REFRESH-INTERVAL;VALUE=DURATION:PT1H
X-Robots-Tag:noindex
X-PUBLISHED-TTL:PT1H
BEGIN:VTIMEZONE
TZID:Europe/Berlin
BEGIN:DAYLIGHT
TZOFFSETFROM:+0100
TZOFFSETTO:+0200
TZNAME:CEST
DTSTART:20240331T010000
END:DAYLIGHT
BEGIN:STANDARD
TZOFFSETFROM:+0200
TZOFFSETTO:+0100
TZNAME:CET
DTSTART:20241027T010000
END:STANDARD
BEGIN:DAYLIGHT
TZOFFSETFROM:+0100
TZOFFSETTO:+0200
TZNAME:CEST
DTSTART:20250330T010000
END:DAYLIGHT
BEGIN:STANDARD
TZOFFSETFROM:+0200
TZOFFSETTO:+0100
TZNAME:CET
DTSTART:20251026T010000
END:STANDARD
BEGIN:DAYLIGHT
TZOFFSETFROM:+0100
TZOFFSETTO:+0200
TZNAME:CEST
DTSTART:20260329T010000
END:DAYLIGHT
BEGIN:STANDARD
TZOFFSETFROM:+0200
TZOFFSETTO:+0100
TZNAME:CET
DTSTART:20261025T010000
END:STANDARD
END:VTIMEZONE
BEGIN:VEVENT
DTSTART;TZID=Europe/Berlin:20250603T193000
DTEND;TZID=Europe/Berlin:20250603T213000
DTSTAMP:20260423T121006
CREATED:20250427T213816Z
LAST-MODIFIED:20250530T105859Z
UID:36401-1748979000-1748986200@hirschau-aktuell.de
SUMMARY:OMAS GEGEN RECHTS
DESCRIPTION:Die OMAS GEGEN RECHTS sind eine zivilgesellschaftliche\, überparteiliche Initiative\, die sich bundesweit aktiv für den Schutz der Demokratie einsetzt. Die OGR stehen für die Vielfalt aller Kulturen und Nationalitäten\, für Toleranz und ein respektvolles Miteinander in unserer Gesellschaft. \nSeit Dezember 2024 gibt es auch in Rottenburg eine stetig wachsende Gruppe der OGR. \nGerti Boos und Petra Sinn\, berichten über die Omas und deren Projekte in Rottenburg. \nTermin:          3. Juni 2025 um 19 Uhr 30\nOrt:                 Ratsstüble Hirschau \nDer Eintritt ist kostenlos. Wir freuen uns über Spenden.
URL:https://hirschau-aktuell.de/event/omas-gegen-rechts/
LOCATION:Ratsstüble Hirschau\, Kingersheimer Straße 46
ATTACH;FMTTYPE=image/jpeg:https://hirschau-aktuell.de/wp-content/uploads/2025/03/rsh-omasgegenrechts1.jpeg
ORGANIZER;CN="Ratsst%C3%BCble Hirschau e. V.":MAILTO:info@ratsstueble-hirschau.de
END:VEVENT
BEGIN:VEVENT
DTSTART;TZID=Europe/Berlin:20250605T193000
DTEND;TZID=Europe/Berlin:20250605T210000
DTSTAMP:20260423T121006
CREATED:20250509T093224Z
LAST-MODIFIED:20250531T111439Z
UID:36453-1749151800-1749157200@hirschau-aktuell.de
SUMMARY:Vernissage: Raúl Lopez Garcia - Fragmente
DESCRIPTION:„Fragmente“ ist der Titel seines neuen Ausstellungskonzepts\, das Raúl Lopez Garcia erstmals in seiner Wahlheimat Hirschau präsentiert. Die gezeigten Arbeiten – eine Serie von Assemblagen und Malereien –\, die 2025 entstanden sind\, verbinden aktuelle Werke mit früheren Stücken seines künstlerischen Weges. \nIn dieser Ausstellung zeigt der Künstler abstrakte Kompositionen im kleinen und mittleren Format\, in denen Zeichen\, Spuren\, Schriftfragmente und Texturen aufeinandertreffen – inspiriert von Geschichte\, Literatur und Natur. Er beschäftigt sich mit der Idee symbolischer Kartografien\, die persönliche Erfahrungen mit kulturellen und natürlichen Bezügen verknüpfen. Jedes Fragment begreift Garcia dabei als eine Koordinate innerhalb einer offenen\, visuellen Erzählung. \nEin Teil seiner Arbeiten entsteht aus dem Recycling: Objekte\, Materialien und unvollendete Werke aus seinem persönlichen Fundus werden transformiert und in neue Kontexte überführt. Manche Stücke enthalten gerettete Elemente\, andere basieren auf gezielter Dekontextualisierung – als Form der Neuinterpretation und konzeptuellen Umdeutung. Auf diese Weise wird sein künstlerischer Prozess zugleich zu einem Dialog mit seiner eigenen Vergangenheit. Die Ausstellung wird eröffnet am: \nDonnerstag\, 5. Juni um 19:30 Uhr\nim Ratsstüble
URL:https://hirschau-aktuell.de/event/vernissage-raul-lopez-garcia-fragmente/
LOCATION:Ratsstüble Hirschau\, Kingersheimer Straße 46
ATTACH;FMTTYPE=image/jpeg:https://hirschau-aktuell.de/wp-content/uploads/2025/05/rsh_Raul_Garcia.jpg
ORGANIZER;CN="Ratsst%C3%BCble Hirschau e. V.":MAILTO:info@ratsstueble-hirschau.de
END:VEVENT
BEGIN:VEVENT
DTSTART;TZID=Europe/Berlin:20250624T193000
DTEND;TZID=Europe/Berlin:20250624T213000
DTSTAMP:20260423T121006
CREATED:20250619T125848Z
LAST-MODIFIED:20250619T125848Z
UID:36797-1750793400-1750800600@hirschau-aktuell.de
SUMMARY:Ortschaftsratssitzung
DESCRIPTION:am Dienstag\, 24. Juni 2025 um 19.30 Uhr im Rathaus\nDie nächste öffentliche Sitzung des Ortschaftsrates Hirschau findet am\nDienstag\, 24. Juni 2025 um 19.30 Uhr im Sitzungssaal des Rathauses statt. \nTagesordnung:\n1. Mitteilungen\n2. Kurzberichte aus den Gemeinderatsausschüssen\n3. Einwohnerfragestunde\n4. Anregungen und Fragen aus der Mitte des Ortschaftsrates\n5. Bauanträge\n6. Sonstiges \nDie Einwohnerschaft ist zu Ortschaftsratssitzungen recht herzlich eingeladen.
URL:https://hirschau-aktuell.de/event/ortschaftsratssitzung-31/
LOCATION:Rathaus Hirschau\, Kingersheimerstr. 57\, Tübingen\, 72070\, Deutschland
ATTACH;FMTTYPE=image/jpeg:https://hirschau-aktuell.de/wp-content/uploads/2024/01/vsh_Header-Ortschaftsrat.jpg
ORGANIZER;CN="Verwaltung":MAILTO:rathaus-hirschau@tuebingen
END:VEVENT
BEGIN:VEVENT
DTSTART;TZID=Europe/Berlin:20250626T183000
DTEND;TZID=Europe/Berlin:20250626T210000
DTSTAMP:20260423T121006
CREATED:20250613T063551Z
LAST-MODIFIED:20250613T205039Z
UID:36740-1750962600-1750971600@hirschau-aktuell.de
SUMMARY:Historische Führung durch Hirschau
DESCRIPTION:Wussten Sie\, \n\ndass Hirschau einstmals dreigeteilt war?\ndass Hirschau ein reiches österreichisches Dorf war?\ndass Hirschau ein beliebter Weinlieferant für südliche Länder war?\n\nNoch viele weitere spannende Fakten und Geschichten über unser Hirschau kennt der Historiker Prof. Mark Mersiowsky und nimmt uns mit auf eine interessante Zeitreise durch 800 Jahre. Die Führung findet statt am: \nDo.\, 26. Juni\, um 18:30 Uhr\,\nDauer ca. anderthalb Stunden. Wir treffen uns am Ratsstüble.\nNach der Führung besteht noch die Möglichkeit\, im Ratsstüble zusammenzusitzen.
URL:https://hirschau-aktuell.de/event/historische-fuehrung-durch-hirschau/
LOCATION:Ratsstüble Hirschau\, Kingersheimer Straße 46
ATTACH;FMTTYPE=image/jpeg:https://hirschau-aktuell.de/wp-content/uploads/2025/06/rsh-hirschau-hist_restored.jpeg
ORGANIZER;CN="Ratsst%C3%BCble Hirschau e. V.":MAILTO:info@ratsstueble-hirschau.de
END:VEVENT
BEGIN:VEVENT
DTSTART;TZID=Europe/Berlin:20250627T193000
DTEND;TZID=Europe/Berlin:20250627T213000
DTSTAMP:20260423T121006
CREATED:20250521T132641Z
LAST-MODIFIED:20250622T092258Z
UID:36581-1751052600-1751059800@hirschau-aktuell.de
SUMMARY:Nacho Eguía (Argentinien)
DESCRIPTION:Nacho Eguía ist ein argentinischer Gitarrist\, Komponist und Lehrer.\nDerzeit arbeitet er als Professor am „Manuel de Falla Conservatory of Music“ in Buenos Aires. Als Solist spielt er eigene Gitarrenwerke mit Einflüssen aus dem Tango und der Volksmusik aus Argentinien. Er konzertierte auf verschiedenen internationalen Bühnen\, u.a. in Portugal\, Frankreich\, Deutschland und Luxemburg.\nIm Jahr 2020 wurden seine Werke “El aire en juego” und “Caprichos porteños” unter 80 Werken aus aller Welt für das Finale des 1. internationalen Kompositionswettbewerbs in Seixal (Portugal) ausgewählt.\nIm Juni 2021 veröffentlichte er sein zweites Album „La imagen en silencio“\, ein Werk\, das vom “National Endowment for the Arts” im Rahmen des unveröffentlichten Wettbewerbs für populäre Musik ausgezeichnet wurde.\nIm Jahr 2022 veröffentlichte er sein erstes Partituralbum “Detrás de todo” über den französischen Verlag “L’empreinte Mélodique”. Die Werke wurden für die Roberto-Aussel-Bibliothek ausgewählt. Außerdem veröffentlichte er im Auftrag der deutschen Zeitschrift “Akustik Gitarre” in der Juni-Ausgabe seine Arbeit “No es un río”.\nNacho Eugía ist Co-Direktor und Arrangeur des Guitar-School-Orchestra „El Guitarrazo“. Zu sehen und zu hören ist der Musiker am: \nFreitag\, 27.06.2025 um 19:30 Uhr\nim Ratsstüble Hirschau \nEintritt frei\, Spenden sehr erwünscht.\nFür eine Kleinigkeit zum Essen ist gesorgt.\nReservierung empfohlen.
URL:https://hirschau-aktuell.de/event/nacho-eugia-argentinien/
LOCATION:Ratsstüble Hirschau\, Kingersheimer Straße 46
ATTACH;FMTTYPE=image/jpeg:https://hirschau-aktuell.de/wp-content/uploads/2025/05/rsh_Nacho_Eguia_2.jpeg
ORGANIZER;CN="Ratsst%C3%BCble Hirschau e. V.":MAILTO:info@ratsstueble-hirschau.de
END:VEVENT
END:VCALENDAR