BEGIN:VCALENDAR
VERSION:2.0
PRODID:-//Hirschau Aktuell - ECPv6.15.20//NONSGML v1.0//EN
CALSCALE:GREGORIAN
METHOD:PUBLISH
X-WR-CALNAME:Hirschau Aktuell
X-ORIGINAL-URL:https://hirschau-aktuell.de
X-WR-CALDESC:Veranstaltungen für Hirschau Aktuell
REFRESH-INTERVAL;VALUE=DURATION:PT1H
X-Robots-Tag:noindex
X-PUBLISHED-TTL:PT1H
BEGIN:VTIMEZONE
TZID:Europe/Berlin
BEGIN:DAYLIGHT
TZOFFSETFROM:+0100
TZOFFSETTO:+0200
TZNAME:CEST
DTSTART:20240331T010000
END:DAYLIGHT
BEGIN:STANDARD
TZOFFSETFROM:+0200
TZOFFSETTO:+0100
TZNAME:CET
DTSTART:20241027T010000
END:STANDARD
BEGIN:DAYLIGHT
TZOFFSETFROM:+0100
TZOFFSETTO:+0200
TZNAME:CEST
DTSTART:20250330T010000
END:DAYLIGHT
BEGIN:STANDARD
TZOFFSETFROM:+0200
TZOFFSETTO:+0100
TZNAME:CET
DTSTART:20251026T010000
END:STANDARD
BEGIN:DAYLIGHT
TZOFFSETFROM:+0100
TZOFFSETTO:+0200
TZNAME:CEST
DTSTART:20260329T010000
END:DAYLIGHT
BEGIN:STANDARD
TZOFFSETFROM:+0200
TZOFFSETTO:+0100
TZNAME:CET
DTSTART:20261025T010000
END:STANDARD
END:VTIMEZONE
BEGIN:VEVENT
DTSTART;TZID=Europe/Berlin:20250701T160000
DTEND;TZID=Europe/Berlin:20250701T173000
DTSTAMP:20260423T104025
CREATED:20250625T075914Z
LAST-MODIFIED:20250625T092143Z
UID:36816-1751385600-1751391000@hirschau-aktuell.de
SUMMARY:Schatten oder Sonnenbrand? Spielplatz-Check in Hirschau
DESCRIPTION:Liebe Eltern\, liebe Interessierte\, \ndie ersten Hitzetage mit Temperaturen über 30° liegen schon hinter uns. Bei unserem Vortrag „Hitze\, die unterschätzte Gefahr“ wurden Kinder hervorgehoben als eine besonders hitzeanfällige Gruppe\, die wir gut schützen müssen. \nDie sieben Hirschauer Spielplätze sind überwiegend nicht so gut vor Sonne und Hitze geschützt. Wir wollen dafür sorgen\, dass das anders wird\, und ein Beschattungskonzept für die Hirschauer Spielplätze vorschlagen. Gerne nehmen wir eure Ideen\, Vorschläge oder Wünsche mit in eine erste Sammlung auf. \nDazu möchten wir die Spielplätze innerorts am 1. Juli ab 16.00 Uhr begehen. Wir laden euch ein mitzukommen\, oder wir sehen euch auf eurem Lieblingsspieli zwischen 16.00 und 17.30 Uhr. \nTreffpunkt: Di 01.07. 16:00 vor der Post (Kingersheimer Straße 27) \nStrecke: ca. 2 km \nHerzliche Einladung! \nAlja Novak und Gunter Neubauer
URL:https://hirschau-aktuell.de/event/36816/
ATTACH;FMTTYPE=image/png:https://hirschau-aktuell.de/wp-content/uploads/2025/06/PastedGraphic-1.png
ORGANIZER;CN="Gr%C3%BCne Liste Hirschau":MAILTO:anmeldung@gruenelistehirschau.de
END:VEVENT
BEGIN:VEVENT
DTSTART;TZID=Europe/Berlin:20250710T193000
DTEND;TZID=Europe/Berlin:20250710T210000
DTSTAMP:20260423T104025
CREATED:20250624T134528Z
LAST-MODIFIED:20250706T130432Z
UID:36807-1752175800-1752181200@hirschau-aktuell.de
SUMMARY:Finissage Raúl Lopez Garcia
DESCRIPTION:Die aktuelle Ausstellung des Hirschauer Künstlers Raúl Garcia geht zu Ende. Bei der Finissage besteht noch einmal die Möglichkeit die Werke zu bestaunen und wem es gefällt\, vielleicht ein Lieblingsbild zu kaufen. \nDonnerstag\, 10.07.2025 um 19:30 im Ratsstüble \nEintritt frei\n 
URL:https://hirschau-aktuell.de/event/finissage-rau-lopez-garcia/
LOCATION:Ratsstüble Hirschau\, Kingersheimer Straße 46
ATTACH;FMTTYPE=image/jpeg:https://hirschau-aktuell.de/wp-content/uploads/2025/05/rsh_Raul_Garcia.jpg
ORGANIZER;CN="Ratsst%C3%BCble Hirschau e. V.":MAILTO:info@ratsstueble-hirschau.de
END:VEVENT
BEGIN:VEVENT
DTSTART;TZID=Europe/Berlin:20250711T190000
DTEND;TZID=Europe/Berlin:20250711T230000
DTSTAMP:20260423T104025
CREATED:20250710T152506Z
LAST-MODIFIED:20250710T152506Z
UID:36937-1752260400-1752274800@hirschau-aktuell.de
SUMMARY:Ratsstüble geschlossen
DESCRIPTION:Am Freitag\, den 11.07.25 bleibt das Ratsstüble wegen diverser anderer Veranstaltungen im Ort geschlossen. \nWir bitten um euer Verständnis \n\n 
URL:https://hirschau-aktuell.de/event/ratsstueble-geschlossen-2/
LOCATION:Ratsstüble Hirschau\, Kingersheimer Straße 46
ATTACH;FMTTYPE=image/png:https://hirschau-aktuell.de/wp-content/uploads/2023/04/Bild1.png
ORGANIZER;CN="Ratsst%C3%BCble Hirschau e. V.":MAILTO:info@ratsstueble-hirschau.de
END:VEVENT
BEGIN:VEVENT
DTSTART;TZID=Europe/Berlin:20250714T193000
DTEND;TZID=Europe/Berlin:20250714T210000
DTSTAMP:20260423T104025
CREATED:20250625T080124Z
LAST-MODIFIED:20250625T080124Z
UID:36821-1752521400-1752526800@hirschau-aktuell.de
SUMMARY:Wärme\, die von hier kommt – Infoabend zur Nahwärme für Hirschau
DESCRIPTION:Liebe Hirschauerinnen und Hirschauer\, \ndie Idee einer Nahwärmeversorgung für Hirschau nimmt Fahrt auf – und wir möchten Sie mitnehmen! Deshalb laden wir Sie herzlich ein zu einem Informations- und Gesprächsabend \n📅  am Montag\, 14. Juli 2025\n🕖  um 19.30 Uhr\n📍  im  Hirschauer Ratsstüble \nGemeinsam mit der Fachabteilung Nachhaltige Stadtentwicklung der Stadt Tübingen\, sowie den Energieexperten Knut Völkel (Masterarbeit „Potenzialstudie Nahwärme Hirschau“) und Günther Gamerdinger von der Bürgerenergie Tübingen stellen wir von der Projeektgruppe den aktuellen Stand der Überlegungen vor: \n\nWelche Möglichkeiten gibt es für eine nachhaltige gemeinschaftliche Wärmeversorgung in Hirschau?\nWie  können wir zusammen das Grundwasser als Wärmequelle nutzen?\nWelche nächsten Schritte sind geplant – und wie können Sie sich einbringen?\n\nIm Anschluss bleibt Zeit für Gespräche in lockerer Runde – das Ratsstüble sorgt wie gewohnt für eine gemütliche Atmosphäre. Kommen Sie vorbei\, informieren Sie sich aus erster Hand und bringen Sie Ihre Fragen\, Ideen und Anliegen mit. \nWir freuen uns auf Ihr Kommen! \nIhr Team von\n„Nahwärme für Hirschau“ \nAus dem Ortschaftsrat: Barbara Göger\, Stefanie Hähnlein\, Rudi Raidt\, Uli Sichau\nAus der Bürgerschaft: Martin Höll\, Gunter Neubauer\, Jürgen Seelmann
URL:https://hirschau-aktuell.de/event/waerme-die-von-hier-kommt-infoabend-zur-nahwaerme-fuer-hirschau/
LOCATION:Ratsstüble Hirschau\, Kingersheimer Straße 46
ATTACH;FMTTYPE=image/jpeg:https://hirschau-aktuell.de/wp-content/uploads/2025/06/Ohne-Titel.jpg
END:VEVENT
BEGIN:VEVENT
DTSTART;TZID=Europe/Berlin:20250715T193000
DTEND;TZID=Europe/Berlin:20250715T213000
DTSTAMP:20260423T104025
CREATED:20250710T132023Z
LAST-MODIFIED:20250710T133411Z
UID:36894-1752607800-1752615000@hirschau-aktuell.de
SUMMARY:Ortschaftsratssitzung
DESCRIPTION:Die nächste öffentliche Sitzung des Ortschaftsrates Hirschau findet am Dienstag\, 15. Juli 2025 um 19.30 Uhr im Sitzungssaal des Rathauses statt. \nTagesordnung: \n\nMitteilungen\nBedarfsplanung für Kindertageseinrichtungen 2024/25\nWeiterentwicklung der Tübinger Pflegestrategie 2018-2030\nSatzung zur Änderung der Satzung über die Entschädigung für ehrenamtliche Tätigkeit\nAnmeldungen von Maßnahmen für den Haushalt 2026\nKurzberichte aus den Gemeinderatsausschüssen\nEinwohnerfragestunde\nAnregungen und Fragen aus der Mitte des Ortschaftsrates\nBauanträge\nSonstiges\n\nDie Einwohnerschaft ist zu Ortschaftsratssitzungen recht herzlich eingeladen.
URL:https://hirschau-aktuell.de/event/ortschaftsratssitzung-32/
LOCATION:Rathaus Hirschau\, Kingersheimerstr. 57\, Tübingen\, 72070\, Deutschland
ATTACH;FMTTYPE=image/jpeg:https://hirschau-aktuell.de/wp-content/uploads/2024/01/vsh_Header-Ortschaftsrat.jpg
ORGANIZER;CN="Verwaltung":MAILTO:rathaus-hirschau@tuebingen
END:VEVENT
BEGIN:VEVENT
DTSTART;TZID=Europe/Berlin:20250717T193000
DTEND;TZID=Europe/Berlin:20250717T213000
DTSTAMP:20260423T104025
CREATED:20250619T094516Z
LAST-MODIFIED:20250624T134848Z
UID:36789-1752780600-1752787800@hirschau-aktuell.de
SUMMARY:Begegnung mit dem Buddhismus
DESCRIPTION:Im diffusen Konzert der verschiedenen religiösen Angebote taucht immer wieder für bestimmte Personenkreise die Philosophie oder Religion des „Buddhismus“ auf. Vom Original (Theravada) bis zur Buddhafigur im Schrebergarten streift die Ahnung des Exotischen. \nÜber die Grundlagen des ursprünglichen „Buddhismus“ und die westlich europäische Interpretation soll die Ideologie ebenso wie die religiöse Ausformung (am Beispiel des Theravada-Buddhismus) bewusst gemacht werden. \nK. Schaller berichtet über seine Erfahrungen mit dieser Wirklichkeitssicht. \nDatum:                     Donnerstag\, den 17.07.2025 um 19:30\nOrt:                            Ratsstüble Hirschau \nDer Eintritt ist kostenlos. Wir freuen uns über Spenden.
URL:https://hirschau-aktuell.de/event/begegnung-mit-dem-buddhismus/
LOCATION:Ratsstüble Hirschau\, Kingersheimer Straße 46
ATTACH;FMTTYPE=image/jpeg:https://hirschau-aktuell.de/wp-content/uploads/2025/06/rsh-buddhismus_restored.jpeg
ORGANIZER;CN="Ratsst%C3%BCble Hirschau e. V.":MAILTO:info@ratsstueble-hirschau.de
END:VEVENT
BEGIN:VEVENT
DTSTART;TZID=Europe/Berlin:20250720T110000
DTEND;TZID=Europe/Berlin:20250720T130000
DTSTAMP:20260423T104025
CREATED:20250624T140034Z
LAST-MODIFIED:20250713T151126Z
UID:36811-1753009200-1753016400@hirschau-aktuell.de
SUMMARY:Vernissage Jutta Mandl-Eltgen: Zeiten und Elemente
DESCRIPTION:Jutta Mandl-Eltgen: „Zeiten und Elemente“\n \nElemente und Zeiten haben viel miteinander zu tun\, sie stehen in unmittelbarer Verbindung zueinander. Diese Verbindung soll für den Betrachter der Bilder nicht nur sichtbar\, sondern auch spürbar werden\, in all der Faszination\, Schönheit\, die uns tagtäglich umgibt. Sichtbar werden soll jedoch auch die Gefahr\, die Veränderungen mit sich bringen.\nDiese Gegensätze darzustellen\, ist das Anliegen der Künstlerin Jutta Eltgen. Es gilt das Schöne und Wunderbare an jedem Tag und zu jeder Zeit einzufangen. \nVernissage\nSonntag\, 20.07.2025\num 11 Uhr im Ratsstüble\nEintritt frei \n 
URL:https://hirschau-aktuell.de/event/vernissage-jutta-mandl-eltgen-zeiten-und-elemente/
LOCATION:Ratsstüble Hirschau\, Kingersheimer Straße 46
ORGANIZER;CN="Ratsst%C3%BCble Hirschau e. V.":MAILTO:info@ratsstueble-hirschau.de
END:VEVENT
BEGIN:VEVENT
DTSTART;TZID=Europe/Berlin:20250725T193000
DTEND;TZID=Europe/Berlin:20250725T213000
DTSTAMP:20260423T104025
CREATED:20250529T100433Z
LAST-MODIFIED:20250719T151123Z
UID:36666-1753471800-1753479000@hirschau-aktuell.de
SUMMARY:L'Apéro
DESCRIPTION:Regarde Le Bonheur – Schau auf das Glück\nGeselligkeit mit Genuss verbinden – das ist der schöne französische Brauch des Apéro – und die Seele der Band „l´apéro“. Mit ihrer swingenden Mischung aus Chanson und jazzigen wie bluesigen Klängen verbindet „l´apéro“ geselliges Beisammensein mit musikalischem Genuss und guter Laune. Die französische Sängerin Stephanie Caupin und ihre Musiker an Piano (Jörg Kohr)\, Bass (Jonas Ditz)\, Perkussion (Guillaume Caupin) und Saxophon (Thomas D aus Hirschau) versprechen einen genussvollen Sommerabend mit viel Esprit. Bienvenue\, Hirschau – (Hir)Schau auf das Glück! \nam Freitag\, 25.07.2025 um 19:30 Uhr\nim Ratsstüble Hirschau \nEintritt frei\, Spenden sind sehr erwünscht.\nFür eine Kleinigkeit zum Essen ist gesorgt.\nReservierung empfohlen.
URL:https://hirschau-aktuell.de/event/lapero/
LOCATION:Ratsstüble Hirschau\, Kingersheimer Straße 46
ATTACH;FMTTYPE=image/jpeg:https://hirschau-aktuell.de/wp-content/uploads/2025/05/rsh_l´apero-Foto-2025-2-scaled.jpg
ORGANIZER;CN="Ratsst%C3%BCble Hirschau e. V.":MAILTO:info@ratsstueble-hirschau.de
END:VEVENT
END:VCALENDAR