BEGIN:VCALENDAR
VERSION:2.0
PRODID:-//Hirschau Aktuell - ECPv6.15.20//NONSGML v1.0//EN
CALSCALE:GREGORIAN
METHOD:PUBLISH
X-ORIGINAL-URL:https://hirschau-aktuell.de
X-WR-CALDESC:Veranstaltungen für Hirschau Aktuell
REFRESH-INTERVAL;VALUE=DURATION:PT1H
X-Robots-Tag:noindex
X-PUBLISHED-TTL:PT1H
BEGIN:VTIMEZONE
TZID:Europe/Berlin
BEGIN:DAYLIGHT
TZOFFSETFROM:+0100
TZOFFSETTO:+0200
TZNAME:CEST
DTSTART:20240331T010000
END:DAYLIGHT
BEGIN:STANDARD
TZOFFSETFROM:+0200
TZOFFSETTO:+0100
TZNAME:CET
DTSTART:20241027T010000
END:STANDARD
BEGIN:DAYLIGHT
TZOFFSETFROM:+0100
TZOFFSETTO:+0200
TZNAME:CEST
DTSTART:20250330T010000
END:DAYLIGHT
BEGIN:STANDARD
TZOFFSETFROM:+0200
TZOFFSETTO:+0100
TZNAME:CET
DTSTART:20251026T010000
END:STANDARD
BEGIN:DAYLIGHT
TZOFFSETFROM:+0100
TZOFFSETTO:+0200
TZNAME:CEST
DTSTART:20260329T010000
END:DAYLIGHT
BEGIN:STANDARD
TZOFFSETFROM:+0200
TZOFFSETTO:+0100
TZNAME:CET
DTSTART:20261025T010000
END:STANDARD
END:VTIMEZONE
BEGIN:VEVENT
DTSTART;TZID=Europe/Berlin:20251002T200000
DTEND;TZID=Europe/Berlin:20251002T220000
DTSTAMP:20260423T064359
CREATED:20250929T124326Z
LAST-MODIFIED:20250929T124715Z
UID:37366-1759435200-1759442400@hirschau-aktuell.de
SUMMARY:Lesung mit  Jegana Dschabbarowa
DESCRIPTION:der LiLA Laden informiert: \nLesung mit Jegana Dschabbarowa im LiLA Laden\nam Donnerstag\, 2.10.25 um 20 Uhr\nmutig – jung – frei \nJegana Dschabbarowa\, Aserbaidschanerin\, ist 2024 aus Russland nach Deutschland geflohen – in ihrem Roman-Debüt zeigt sie das Spannungsfeld zwischen Heimatsuche und Exil\, Frau-Sein und Verfolgung\, Flucht und Ankommen – auch das Ankommen in einer Sprache – auf: \n„Die Hände der Frauen in meiner Familie waren nicht zum Schreiben bestimmt“\nist der Titel ihres Romans\, aus dem sie heute Abend\, 2. Oktober im LiLA Laden im Original lesen wird – Übersetzung und Moderation mit Lika Gestwa\, Uni Tübingen und Agatha Truniger\, der LiLA Laden\nEintritt 12 Euro \nder LiLA Laden im Öschle 2 * Tel 07071 7501491 * www.derlilaladen.de
URL:https://hirschau-aktuell.de/event/lesung-mit-jegana-dschabbarowa/
LOCATION:LilA Laden\, Im Öschle 2\, Hirschau\, 72070
ATTACH;FMTTYPE=image/png:https://hirschau-aktuell.de/wp-content/uploads/2022/04/lila_Laden_Header.png
ORGANIZER;CN="der LiLA Laden":MAILTO:derlilaladen@t-online.de
END:VEVENT
BEGIN:VEVENT
DTSTART;TZID=Europe/Berlin:20251010T193000
DTEND;TZID=Europe/Berlin:20251010T220000
DTSTAMP:20260423T064359
CREATED:20250602T144127Z
LAST-MODIFIED:20251004T213704Z
UID:36685-1760124600-1760133600@hirschau-aktuell.de
SUMMARY:Rock im Ratsstüble
DESCRIPTION:Fast 2 Jahre ist es her\, dass das „GuteNacht-Duo“ im Ratsstüble den Boden der Dorfkneipe in Schwingung versetzt hat. Die Gäste waren begeistert und tobten. \nJetzt kommen sie wieder: Wolf Abromeit und Frank Bierl\, zwei musikalische Tübinger Urgesteine\, haben sich vor ca. sechs Jahren zum Duo „GuteNacht“ zusammengefunden. Ihr Musikstil\, so sagen sie selbst\, lässt sich am besten als „aggressive Lagerfeuermusik“ beschreiben. Seit Jahrzehnten sind die beiden in Tübinger Bands\, wie „7Up“\, „Treat me like a dog“ oder „Retired Soon“ unterwegs. \nSie spielen Songs von Crosby\, Stills\, Nash & Young\, Tom Petty\, Elton John\, CCR oder auch den Bee Gees. Zu sehen und zu hören sind sie:  \nam 10. Oktober 2025 ab 19:30 Uhr\nim Ratsstüble \nDer Eintritt ist frei. Über eine Spende freuen wir uns.\nFür eine Kleinigkeit zum Essen ist gesorgt.\nReservierung empfohlen.
URL:https://hirschau-aktuell.de/event/rock-im-ratsstueble-2/
LOCATION:Ratsstüble Hirschau\, Kingersheimer Straße 46
ATTACH;FMTTYPE=image/jpeg:https://hirschau-aktuell.de/wp-content/uploads/2025/06/rsh_Duo_GuteNacht_klein.jpg
ORGANIZER;CN="Ratsst%C3%BCble Hirschau e. V.":MAILTO:info@ratsstueble-hirschau.de
END:VEVENT
BEGIN:VEVENT
DTSTART;TZID=Europe/Berlin:20251012T140000
DTEND;TZID=Europe/Berlin:20251012T160000
DTSTAMP:20260423T064359
CREATED:20250925T124705Z
LAST-MODIFIED:20250925T124910Z
UID:37325-1760277600-1760284800@hirschau-aktuell.de
SUMMARY:Hirschauer Seniorenfeier
DESCRIPTION:Die Mitglieder des Ortschaftsrates laden traditionell alle Hirschauer Mitbürgerinnen und Mitbürger ab dem 70. Lebensjahr zur Seniorenfeier am Sonntag\, den 12. Oktober 2025\, ab 14.00 Uhr in die Turn- und Festhalle ein. Die Einladungen werden derzeit verschickt. \nSollten Sie 70 Jahre oder älter sein und keine persönliche Einladung bekommen\, so sind auch Sie\, gemeinsam mit Ihrem Partner/Ihrer Partnerin\, herzlich eingeladen. Die Anmeldezettel können Sie bis Mittwoch\, den 8. Oktober 2025 bei der Verwaltungsstelle abgeben oder in den Rathausbriefkasten einwerfen.
URL:https://hirschau-aktuell.de/event/hirschauer-seniorenfeier-4/
LOCATION:Turn- und Festhallehalle\, Schulstr. 28\, Tübingen\, 72070\, Deutschland
ATTACH;FMTTYPE=image/jpeg:https://hirschau-aktuell.de/wp-content/uploads/2024/01/vsh_Header-Ortschaftsrat.jpg
END:VEVENT
BEGIN:VEVENT
DTSTART;TZID=Europe/Berlin:20251014T193000
DTEND;TZID=Europe/Berlin:20251014T213000
DTSTAMP:20260423T064359
CREATED:20250929T082726Z
LAST-MODIFIED:20250929T091620Z
UID:37351-1760470200-1760477400@hirschau-aktuell.de
SUMMARY:Elektronische Patientenakte – Auf dem Weg zum gläsernen Patienten?
DESCRIPTION:Die Referentin von der AOK informiert in diesem Vortrag kompakt über die elektronische Patientenakte (ePA) und das E-Rezept\, ihre Vor- und Nachteile\, Funktionsweisen und praktische Auswirkungen für Patientinnen und Patienten. Ziel ist es\,häufige und auch kritische Fragen zu klären und Impulse für eine sichere\, effiziente Nutzung dieser Neuerungen zu geben. \nDie Referentin: Carolin Heinzelmann leitet das AOK KundenCenter in Tübingen. Fachliche Grundlage ihrer Tätigkeit ist eine entsprechende Aus- und Weiterbildung zur AOK-Betriebswirtin. \nWann:             Dienstag 14.10.25\, 19.30 Uhr\nWo:                 Ratsstüble Hirschau (Dorf Kneipe\, Kingersheimer Str. 46) \nDer Eintritt ist kostenlos\, über Spenden freuen wir uns.
URL:https://hirschau-aktuell.de/event/elektronische-patientenakte-auf-dem-weg-zum-glaesernen-patienten/
LOCATION:Ratsstüble Hirschau\, Kingersheimer Straße 46
ATTACH;FMTTYPE=image/jpeg:https://hirschau-aktuell.de/wp-content/uploads/2025/09/rsh-ePa.jpg
ORGANIZER;CN="Ratsst%C3%BCble Hirschau e. V.":MAILTO:info@ratsstueble-hirschau.de
END:VEVENT
BEGIN:VEVENT
DTSTART;TZID=Europe/Berlin:20251014T193000
DTEND;TZID=Europe/Berlin:20251014T213000
DTSTAMP:20260423T064359
CREATED:20251002T232056Z
LAST-MODIFIED:20251009T231819Z
UID:37381-1760470200-1760477400@hirschau-aktuell.de
SUMMARY:Ortschaftsratssitzung
DESCRIPTION:Die nächste öffentliche Sitzung des Ortschaftsrates Hirschau findet am\nDienstag\, 14. Oktober 2025 um 19.30 Uhr im Sitzungssaal des Rathauses statt.\nTagesordnung:\n1. Mitteilungen\n2. Gehölzpflege an Fließgewässern Winterhalbjahr 2025/2026\n3. Grünflächen im öffentlichen Raum\n4. Kurzberichte aus den Gemeinderatsausschüssen\n5. Einwohnerfragestunde\n6. Anregungen und Fragen aus der Mitte des Ortschaftsrates\n7. Bauanträge\n8. Sonstiges\nDie Einwohnerschaft ist zu Ortschaftsratssitzungen recht herzlich eingeladen.
URL:https://hirschau-aktuell.de/event/ortschaftsratssitzung-34/
LOCATION:Rathaus Hirschau\, Kingersheimerstr. 57\, Tübingen\, 72070\, Deutschland
ATTACH;FMTTYPE=image/jpeg:https://hirschau-aktuell.de/wp-content/uploads/2024/01/vsh_Header-Ortschaftsrat.jpg
END:VEVENT
BEGIN:VEVENT
DTSTART;TZID=Europe/Berlin:20251019T110000
DTEND;TZID=Europe/Berlin:20251019T130000
DTSTAMP:20260423T064359
CREATED:20250922T151657Z
LAST-MODIFIED:20251012T073855Z
UID:37311-1760871600-1760878800@hirschau-aktuell.de
SUMMARY:Vernissage: Doris Brötz
DESCRIPTION:Naturfotografien von Doris Brötz\nDoris Brötz‘ Antrieb für ihre Fotografien sind die Liebe zur Natur und die Freude an schönen Bildern. Ziel ist es Neues zu entdecken\, andere Menschen daran teilhaben zu lassen und damit auch für den Schutz von Lebewesen und ihren Lebensräumen zu werben.\nIm Raum Rottenburg/Tübingen hat Doris Brötz bisher über 130 Arten fotografieren können. Viele davon hat sie neu kennengelernt.\nAußerdem begeistert sie das Verhalten\, die Fähigkeiten und die Intelligenz der Tiere. Mit Hilfe der Fotografie hat sich ihr eine neue Welt erschlossen. Die Fotografien dokumentieren eindrucksvoll das Verhalten verschiedener Vogelarten: Rauchschwalben übergeben im Flug zielgenau Nahrung an ihre Jungtiere\, ein Falke stürzt aus großer Höhe herab\, um mit einer gefangenen Grille zu entkommen\, und eine Feldlerche greift während eines Konflikts die Konkurrentin am Fuß und fügt ihr einen Biss an der Zehe zu. \nAusstellungseröffnung:\nSonntag\, 19. Oktober um 11 Uhr\nim Ratsstüble Hirschau \nZur Person Doris Brötz:\nHobbyfotografin seit 2017 | Kamera: Canon EOS R7\, spiegellose Digitalkamera | Objektiv: Sigma Tele 150-600 mm | Meist fotografiert sie aus der Hand\, selten mit Stativ.\nAuf Instagram unter Alcedo2021 können Sie immer aktuelle Bilder von Doris Brötz verfolgen.\nKontakt: doris.broetz@web.de oder 0163 1640558
URL:https://hirschau-aktuell.de/event/vernissage-doris-broetz/
LOCATION:Ratsstüble Hirschau\, Kingersheimer Straße 46
ATTACH;FMTTYPE=image/jpeg:https://hirschau-aktuell.de/wp-content/uploads/2025/09/rsh_Zwei_Mutter_A-scaled.jpg
ORGANIZER;CN="Ratsst%C3%BCble Hirschau e. V.":MAILTO:info@ratsstueble-hirschau.de
END:VEVENT
BEGIN:VEVENT
DTSTART;TZID=Europe/Berlin:20251021T193000
DTEND;TZID=Europe/Berlin:20251021T213000
DTSTAMP:20260423T064359
CREATED:20250918T124238Z
LAST-MODIFIED:20250918T124238Z
UID:37271-1761075000-1761082200@hirschau-aktuell.de
SUMMARY:Vereinsbesprechung
DESCRIPTION:Die nächste Vereinsbesprechung findet am Dienstag\, den 21. Oktober 2025\nim Ratsstüble\, Kingersheimer Str. 46\, Beginn: 19.30 Uhr\, statt. \nZur Vervollständigung unseres Veranstaltungskalenders bitten wir die Vereine\, Gruppen\, Schule\, Kindergärten und Kirchen\, uns die Termine schon vorab (bis zum 20. Oktober 2025) schriftlich mitzuteilen (gerne auch per Email: rathaus-hirschau@tuebingen.de)\, damit der Veranstaltungskalender ergänzt werden kann.
URL:https://hirschau-aktuell.de/event/vereinsbesprechung-4/
LOCATION:Ratsstüble Hirschau\, Kingersheimer Straße 46
ATTACH;FMTTYPE=image/jpeg:https://hirschau-aktuell.de/wp-content/uploads/2024/01/vsh_Verwaltungsstelle-Header.jpg
ORGANIZER;CN="Verwaltung":MAILTO:rathaus-hirschau@tuebingen
END:VEVENT
BEGIN:VEVENT
DTSTART;TZID=Europe/Berlin:20251022T190000
DTEND;TZID=Europe/Berlin:20251022T210000
DTSTAMP:20260423T064359
CREATED:20251017T174301Z
LAST-MODIFIED:20251017T174534Z
UID:37467-1761159600-1761166800@hirschau-aktuell.de
SUMMARY:Informationsveranstaltung zur L 371 Brücke
DESCRIPTION:Einladung zur öffentlichen Informationsveranstaltung zur L 371 Brücke über den Neckar und Neckarkanal bei Tübingen (Ersatzneubau)\nZwischen Tübingen und Hirschau soll ein Brückenersatzneubau entstehen. Die aktuelle Stahlbetonbrücke weist starke bauliche Mängel auf und ist außerdem spannungsrisskorrosionsgefährdet. Dies hat zur Folge\, dass eine zeitnahe Herstellung des Ersatzneubaus notwendig wird. In diesem Zuge ist auch eine Verbesserung der Geh- und Radwegverbindung über die Brücke vorgesehen.\nAktuell werden die Planunterlagen für die Entwurfsplanung bzw. Genehmigungsplanung erarbeitet. Die Mobilitätsabteilung des Regierungspräsidiums Tübingen möchte in einer öffentlichen Informationsveranstaltung alle Bürgerinnen und Bürger über den aktuellen Planungsprozess informieren und einen Ausblick auf die nächsten Schritte geben. \nDas Regierungspräsidium Tübingen lädt alle Interessierten herzlich ein zur \nöffentlichen Informationsveranstaltung\nam Mittwoch\, den 22. Oktober 2025\, um 19:00 Uhr\nin der Turn- und Festhalle Hirschau\, Schulstrasse 28\, 72070 Tübingen. \nDer Einlass ist ab 18:30 Uhr. Die Veranstaltung beginnt mit einer inhaltlichen Vorstellung wichtiger Themen\, wie der technischen Straßenplanung\, der Brückenplanung\, der Landschaftsplanung sowie der verkehrlichen Auswirkungen\, die durch die Umsetzung der zukünftigen Baumaßnahme bedingt sind. Im Anschluss haben die Bürgerinnen und Bürger die Möglichkeit in einer offenen Fragerunde in den direkten Austausch mit dem Projektteam und dem Verkehrsgutachter zu treten. \nHintergrundinformationen:\nIm örtlichen Straßennetz stellt die L 371 eine wichtige Querspange mit Anschluss zur A 81 (Stuttgart – Rottweil) und der B 28 (Tübingen – Reutlingen) dar. Das Bestandsbauwerk soll abgebrochen und in gleicher Lage durch einen Ersatzneubau wiederhergestellt werden.\nAlle Pressemitteilungen und weitere aktuelle Meldungen des Regierungspräsidiums Tübingen finden Sie auch in barrierefreier Form auf unserer Homepage unter www.rp-tuebingen.de \n 
URL:https://hirschau-aktuell.de/event/informationsveranstaltung-zur-l-371-bruecke/
LOCATION:Turn- und Festhallehalle\, Schulstr. 28\, Tübingen\, 72070\, Deutschland
END:VEVENT
BEGIN:VEVENT
DTSTART;TZID=Europe/Berlin:20251024T193000
DTEND;TZID=Europe/Berlin:20251024T213000
DTSTAMP:20260423T064359
CREATED:20250919T103203Z
LAST-MODIFIED:20251022T103553Z
UID:37277-1761334200-1761341400@hirschau-aktuell.de
SUMMARY:Dorfkino: Mr. May und das Flüstern der Ewigkeit
DESCRIPTION:Der Film des Italieners Pasolini hatte am 3. September 2013 beim Venice Film Festival Premiere. Der deutsche Kinostart war am 4. September 2014. \nJohn May ist Angestellter der Stadt London. Seine Aufgabe ist es\, für die Beerdigung vereinsamt Verstorbener zu sorgen. Diese Aufgabe füllt er sehr sorgfältig und mit Hingabe aus. Meist ist er nicht nur der einzige Trauergast\, er hat auch die Trauerrede geschrieben\, die der jeweilige Priester hält. Abends klebt er in seiner einsamen Wohnung sorgsam Bilder der Beerdigten in sein privates Album. \nSeinem Chef arbeitet Mr. May zu langsam. Deshalb wird seine Arbeitsstelle aufgehoben\, er selbst entlassen. Er darf jedoch seinen letzten Fall noch bearbeiten: William Stoke genannt Billy. \nAnhand von Fundsachen aus Stokes Wohnung kann Mr. May Stokes Liebschaft Mary\, deren gemeinsame Tochter und eine weitere Tochter ausfindig machen. Zudem hat Mr. May Veteranen von Stokes Einsatz auf den Falklandinseln\, Arbeitskollegen\, Obdachlose und Sportsfreunde gefunden. \nTragischerweise kommt Mr. May bei einem Busunfall ums Leben. Er wird zur selben Zeit bestattet wie sein letzter „Klient“ William Stoke. Doch während bei dessen Beerdigung sich all die Menschen einfinden\, die Mr. May gefunden hatte\, steht an dessen Grab niemand – bis die Geister aller seiner Beerdigungsklienten an sein Grab treten. \nDer Film wurde für vier Auszeichnungen nominiert und gewann zudem 16 Preise. \nFreitag\, 24.10.2025 um 19:30 Uhr\nFSK: 12 Jahre\, Eintritt 5\,00 €
URL:https://hirschau-aktuell.de/event/dorfkino-mr-may-und-das-fluestern-der-ewigkeit/
LOCATION:Ratsstüble Hirschau\, Kingersheimer Straße 46
ORGANIZER;CN="Ratsst%C3%BCble Hirschau e. V.":MAILTO:info@ratsstueble-hirschau.de
END:VEVENT
BEGIN:VEVENT
DTSTART;TZID=Europe/Berlin:20251028T193000
DTEND;TZID=Europe/Berlin:20251028T213000
DTSTAMP:20260423T064359
CREATED:20251001T093256Z
LAST-MODIFIED:20251024T112132Z
UID:37369-1761679800-1761687000@hirschau-aktuell.de
SUMMARY:Bildervortrag: Szenen aus unserer Vogelwelt – Fotografien von Eulen\, Falken und co.
DESCRIPTION:Wussten Sie\, dass Eulen lautlos fliegen oder dass der Specht Schmied\, Wohnungsbauer und Trommler in einem ist? Die Naturfotografin Doris Brötz zeigt anhand von Fotos aus unserer Region die Schönheit und faszinierenden Fähigkeiten einzelner Vogelarten. Kommen Sie mit auf eine „Exkursion“ in unsere Natur. Bei einem kleinen Quiz können Sie zudem Ihre Beobachtungsgabe herausfordern. \nIm Oktober stellt Frau Brötz im Ratsstüble eine Auswahl ihrer Bilder aus. Natürlich können Sie diese nach der Veranstaltung gerne auf sich wirken lassen. \nWann:             Dienstag 28.10.25\, 19.30 Uhr\nWo:                 Ratsstüble Hirschau (Dorf Kneipe\, Kingersheimer Str. 46) \nDer Eintritt ist kostenlos\, über Spenden freuen wir uns.
URL:https://hirschau-aktuell.de/event/szenen-aus-unserer-vogelwelt-fotografien-von-eulen-falken-und-co/
LOCATION:Ratsstüble Hirschau\, Kingersheimer Straße 46
ATTACH;FMTTYPE=image/jpeg:https://hirschau-aktuell.de/wp-content/uploads/2025/10/rsh-voegel-doris-broetz-eule1.jpg
ORGANIZER;CN="Ratsst%C3%BCble Hirschau e. V.":MAILTO:info@ratsstueble-hirschau.de
END:VEVENT
END:VCALENDAR