BEGIN:VCALENDAR
VERSION:2.0
PRODID:-//Hirschau Aktuell - ECPv6.15.20//NONSGML v1.0//EN
CALSCALE:GREGORIAN
METHOD:PUBLISH
X-ORIGINAL-URL:https://hirschau-aktuell.de
X-WR-CALDESC:Veranstaltungen für Hirschau Aktuell
REFRESH-INTERVAL;VALUE=DURATION:PT1H
X-Robots-Tag:noindex
X-PUBLISHED-TTL:PT1H
BEGIN:VTIMEZONE
TZID:Europe/Berlin
BEGIN:DAYLIGHT
TZOFFSETFROM:+0100
TZOFFSETTO:+0200
TZNAME:CEST
DTSTART:20240331T010000
END:DAYLIGHT
BEGIN:STANDARD
TZOFFSETFROM:+0200
TZOFFSETTO:+0100
TZNAME:CET
DTSTART:20241027T010000
END:STANDARD
BEGIN:DAYLIGHT
TZOFFSETFROM:+0100
TZOFFSETTO:+0200
TZNAME:CEST
DTSTART:20250330T010000
END:DAYLIGHT
BEGIN:STANDARD
TZOFFSETFROM:+0200
TZOFFSETTO:+0100
TZNAME:CET
DTSTART:20251026T010000
END:STANDARD
BEGIN:DAYLIGHT
TZOFFSETFROM:+0100
TZOFFSETTO:+0200
TZNAME:CEST
DTSTART:20260329T010000
END:DAYLIGHT
BEGIN:STANDARD
TZOFFSETFROM:+0200
TZOFFSETTO:+0100
TZNAME:CET
DTSTART:20261025T010000
END:STANDARD
END:VTIMEZONE
BEGIN:VEVENT
DTSTART;TZID=Europe/Berlin:20251104T150000
DTEND;TZID=Europe/Berlin:20251104T170000
DTSTAMP:20260423T051406
CREATED:20251007T163819Z
LAST-MODIFIED:20251007T163819Z
UID:37395-1762268400-1762275600@hirschau-aktuell.de
SUMMARY:Betrug an Senioren
DESCRIPTION:  \n \n  \nTipps & Tricks zum Schutz gegen Betrüger am Telefon \nTäglich liest und hört man von Abzocke am Telefon. \nNicht immer kann man die Absichten der Täter von vornherein durchschauen und kann deshalb schneller Opfer werden als gedacht. \nWie schützt man sich vor falschen Polizeibeamten und Enkeltrickbetrügern? Dazu sollte man die Maschen und Tricks der Täter kennen. \nDer Referent der Prävention des Polizeipräsidiums Reutlingen\, Gerd Hartmann\, wird auf die Arbeitsweisen der Täter und auf Möglichkeiten der Vorbeugung zu den Themen „Betrug am Telefon – Falscher Polizeibeamter\, Schockanruf und Enkeltrick eingehen. \nWann? Dienstag\, 04.11.2025\, 15:00 Uhr \nWo? Ratsstüble Hirschau / Dorfkneipe \nDer Eintritt ist frei\, eine Anmeldung ist nicht erforderlich
URL:https://hirschau-aktuell.de/event/betrug-an-senioren-2/
LOCATION:Ratsstüble. Dorfkneipe
END:VEVENT
BEGIN:VEVENT
DTSTART;TZID=Europe/Berlin:20251105T153000
DTEND;TZID=Europe/Berlin:20251105T170000
DTSTAMP:20260423T051406
CREATED:20251020T152231Z
LAST-MODIFIED:20251028T214608Z
UID:37501-1762356600-1762362000@hirschau-aktuell.de
SUMMARY:Vorstellung und Informationen zur Patientenberatungssprechstunde
DESCRIPTION:Wir\, die Patientenberatung Tübingen\, bieten monatlich (immer am ersten Mittwoch eines Monats) unser Beratungsangebot an. \nFolgende Themen und Schwierigkeiten können besprochen werden: \n\nBeratung zur Vorsorgevollmacht und Patientenverfügung und Hilfestellung bei der Antragstellung (Anträge vorhanden)\nBeratung zu Leistungen oder Entscheidungen der Krankenversicherung\n(incl. Widersprüche und Antragstellung z.B. bei Reha-Anträgen)\nBeratung zu Leistungen oder Entscheidungen der Pflegeversicherung\n(incl. Antragstellung und Widersprüche)\nUnklarheiten bei Zuzahlungen und Rechnungen\nVerständnisprobleme bei Fachausdrücken\, Diagnosen und Befunden\nUnterstützung bei der Suche nach Informationen über Krankheiten und Behandlungsmethoden\nProbleme den richtigen Arzt\, den richtigen Therapeuten\, die richtige Klinik zu finden\nFragen und Informationen zum Schwerbehindertenausweis\n(incl. Hilfestellung bei der Antragstellung\, Anträge vorhanden)\nUnterstützung von Familien\, wenn ein Elternteil erkrankt\n\nDiese Sprechstunde wird von Angelika Orians (Dipl. Sozialpädagogin\, ehemalige Fachleitung Sozialberatung und Entlassungsmanagement am Uni Klinikum Tübingen und Mitglied der Patientenberatungsstelle Tübingen) angeboten. \nDie Beratung ist kostenlos und findet unter Einhaltung der Schweigepflicht statt.
URL:https://hirschau-aktuell.de/event/vorstellung-und-informationen-zur-patientenberatungssprechstunde/
LOCATION:Ratsstüble Hirschau\, Kingersheimer Straße 46
ATTACH;FMTTYPE=image/png:https://hirschau-aktuell.de/wp-content/uploads/2022/10/rsh_patientenberatung_Tuebingen_Header.png
ORGANIZER;CN="Ratsst%C3%BCble Hirschau e. V.":MAILTO:info@ratsstueble-hirschau.de
END:VEVENT
BEGIN:VEVENT
DTSTART;TZID=Europe/Berlin:20251107T193000
DTEND;TZID=Europe/Berlin:20251107T213000
DTSTAMP:20260423T051406
CREATED:20250721T142028Z
LAST-MODIFIED:20251101T134813Z
UID:36999-1762543800-1762551000@hirschau-aktuell.de
SUMMARY:Duo Lévia
DESCRIPTION:Mittlerweile hat das Ratsstüble quasi ein Abo auf die beiden Künstlerinnen: Sofia & Paula! Auch wenn wir uns in unserem Veranstaltungsprogramm nicht gerne wiederholen wollen\, die beiden müssen auf jeden Fall einmal im Jahr bei uns auftauchen. \nWer die beiden Musikerinnen noch nicht bei uns im Ratsstüble gesehen und gehört hat\, hat etwas Großartiges versäumt. Mit welcher Virtuosität und Spielfreude die beiden jungen Frauen ihre Musik in der Dorfkneipe ihren Zuhörern dargeboten haben\, ist einfach unglaublich! \nSofia Meleleo (Akkordeon) und Paula Rotter (Geige) musizieren seit 2017 gemeinsam in verschiedenen Formationen. Aufgewachsen mit Musik aus ihrer jeweiligen Heimat Italien und Deutschland sind die beiden nun als Duo Lèvia mit einem kurzweiligen Programm aus eigenen Kompositionen und originellen Arrangements zu Gast. Das Ratsstüble in Hirschau bietet eine Bühne für feine\, handgemachte Musik zum Zuhören\, Träumen und Tanzen. Fühlen Sie sich eingeladen! \nFreitag\, 7.11.2025 um 19:30 Uhr\nim Ratsstüble \nder Eintritt ist frei\, über Spenden freuen wir uns.\nFür eine Kleinigkeit zum Essen ist gesorgt.\nEine Reservierung wird dringend empfohlen (wegen Geheimtipp)!
URL:https://hirschau-aktuell.de/event/duo-levia/
LOCATION:Ratsstüble Hirschau\, Kingersheimer Straße 46
ORGANIZER;CN="Ratsst%C3%BCble Hirschau e. V.":MAILTO:info@ratsstueble-hirschau.de
END:VEVENT
BEGIN:VEVENT
DTSTART;TZID=Europe/Berlin:20251111T193000
DTEND;TZID=Europe/Berlin:20251111T213000
DTSTAMP:20260423T051406
CREATED:20251026T092249Z
LAST-MODIFIED:20251109T115646Z
UID:37560-1762889400-1762896600@hirschau-aktuell.de
SUMMARY:Verschoben auf Frühjahr:  Vortrag „Kinder stärken und vor sexualisierter Gewalt schützen! Aber wie?“
DESCRIPTION:Als Elternteil oder Bezugsperson ist man häufig in einer schwierigen Situation: einerseits möchten wir unsere Kinder schützen und vor Gefahren behüten\, andererseits möchten wir die Selbständigkeit unserer Kinder fördern und sie stärken\, damit sie schwierige Situationen selber gut meistern können. \nDer Vortrag von Selma Frey\, Sozialpädagogin und Fachkraft für Prävention und Intervention bei sexuellem Missbrauch\, soll Erwachsenen Mut machen\, ihre Kinder auf diesem Weg zu begleiten. \nAm Beispiel des Themas „sexualisierte Gewalt an Kindern“ zeigt sie auf\, was Mädchen und Jungen brauchen\, um mit Gefahren und alltäglichen Herausforderungen selbstbewusst umgehen zu können und wie Kinder es schaffen können\, Grenzen zu setzen und sich wenn nötig\, Hilfe zu holen. \nWährenddessen und nach dem Vortrag wird es Raum für Fragen und Gespräche geben. Es werden Materialien\, die sich für die präventive Arbeit mit Kindern eignen\, zum Anschauen ausliegen.               \nSelma Frey ist Sozialpädagogin und ausgebildete Fachkraft für Prävention und Intervention bei sexuellem Missbrauch. Sie arbeitet bei tima e.V. in der Fachstelle eigenSinn (Gewaltprävention) und berät zudem in der tima-Beratungsstelle Aufwind betroffene Kinder und Jugendliche\, Angehörige und Fachkräfte in Fragen zu sexualisierter Gewalt. Schwerpunkte ihrer Arbeit sind die Durchführung und Koordination von präventiven Schulprojekten und Fortbildungen für Fachkräfte\, vor allem im Kita-Bereich. \nInformationen zur Arbeit der tima e.V. finden sie unter www.tima-ev.de. \nDatum:               Wird auf Frühjahr verschoben\nOrt:                       Ratsstüble Hirschau\, Kingersheimer Str. 46 \nDer Eintritt ist kostenlos. Wir freuen uns über Spenden.
URL:https://hirschau-aktuell.de/event/vortrag-kinder-staerken-und-vor-sexualisierter-gewalt-schuetzen-aber-wie/
LOCATION:Ratsstüble Hirschau\, Kingersheimer Straße 46
ORGANIZER;CN="Ratsst%C3%BCble Hirschau e. V.":MAILTO:info@ratsstueble-hirschau.de
END:VEVENT
BEGIN:VEVENT
DTSTART;TZID=Europe/Berlin:20251111T193000
DTEND;TZID=Europe/Berlin:20251111T213000
DTSTAMP:20260423T051406
CREATED:20251030T205737Z
LAST-MODIFIED:20251106T174045Z
UID:37607-1762889400-1762896600@hirschau-aktuell.de
SUMMARY:Ortschaftsratssitzung
DESCRIPTION:Die nächste öffentliche Sitzung des Ortschaftsrates Hirschau findet am Dienstag\, 11. November 2025 um 19.30 Uhr im Sitzungssaal des Rathauses statt.\n \nTagesordnung:\n\nMitteilungen\nVerwaltungsstellen; Haushaltskonsolidierung\nNeuaufstellung Flächennutzungsplan Nachbarschaftsverband Reutlingen-Tübingen; Ergebnisse der Auslegung des Entwurfs und weiteres Vorgehen\nGrünflächen im öffentlichen Raum\nRadverkehr in Hirschau\nKurzberichte aus den Gemeinderatsausschüssen\nEinwohnerfragestunde\nAnregungen und Fragen aus der Mitte des Ortschaftsrates\nBauanträge\nSonstiges\n\nDie Einwohnerschaft ist zu Ortschaftsratssitzungen recht herzlich eingeladen.
URL:https://hirschau-aktuell.de/event/ortschaftsratssitzung-35/
LOCATION:Rathaus Hirschau\, Kingersheimerstr. 57\, Tübingen\, 72070\, Deutschland
ATTACH;FMTTYPE=image/jpeg:https://hirschau-aktuell.de/wp-content/uploads/2024/01/vsh_Header-Ortschaftsrat.jpg
END:VEVENT
BEGIN:VEVENT
DTSTART;TZID=Europe/Berlin:20251121T193000
DTEND;TZID=Europe/Berlin:20251121T213000
DTSTAMP:20260423T051406
CREATED:20250919T123529Z
LAST-MODIFIED:20251120T134526Z
UID:37299-1763753400-1763760600@hirschau-aktuell.de
SUMMARY:Dorfkino: Barfuß in Paris
DESCRIPTION:Barfuß in Paris \nBelgien/Frankreich\, 2027\, Komödie/Romanze\,(OT: „Paris pieds nus“\, Regie: Fiona Gordon\, Dominique Abel\, 2016)\nIm Rahmen der Veranstaltungsreihe des SWR „Nacht der Einsamkeit“ zeigt das Ratsstüble den unterhaltsamen Kinofilm. \nAls Kind standen sich Fiona (Fiona Gordon) und ihre Tante Martha (Emmanuelle Riva) sehr nahe – bis Letztere entschied\, ihre Heimat Kanada zu verlassen und ein neues Leben in Paris zu beginnen. Ursprünglich hatte Fiona ihr bald nachfolgen wollen. Doch erst jetzt\, einige Jahrzehnte später\, soll sich die Gelegenheit dazu ergeben: Martha ist inzwischen stolze 88 Jahre alt und soll gegen ihren Willen in ein Heim kommen. Fiona greift sofort ein.  Und so macht sie sich auf den Weg in die Fremde\, um ihrer Tante beizustehen. Irgendwie scheint dieses Vorhaben aber unter keinem guten Stern zu stehen: Erst verliert sie ihr Hab und Gut bei einem kleinen Unfall\, dann ist die alte Dame plötzlich spurlos verschwunden. Immerhin steht Fiona aber nicht allein da\, der obdachlose Dom (Dominique Abel) bietet sich ihr ganz selbstlos als Wegbegleiter an. \nFreitag\, 21.11.2025 um 19:30 Uhr\nFSK:0\, Eintritt 5\,00 €
URL:https://hirschau-aktuell.de/event/dorfkino-barfuss-in-paris/
LOCATION:Ratsstüble Hirschau\, Kingersheimer Straße 46
ATTACH;FMTTYPE=image/jpeg:https://hirschau-aktuell.de/wp-content/uploads/2025/09/rsh_Barfuss_in_Paris.jpg
ORGANIZER;CN="Ratsst%C3%BCble Hirschau e. V.":MAILTO:info@ratsstueble-hirschau.de
END:VEVENT
BEGIN:VEVENT
DTSTART;TZID=Europe/Berlin:20251125T193000
DTEND;TZID=Europe/Berlin:20251125T213000
DTSTAMP:20260423T051406
CREATED:20251029T083010Z
LAST-MODIFIED:20251106T111739Z
UID:37576-1764099000-1764106200@hirschau-aktuell.de
SUMMARY:Vortrag 25. November: Einst Tübingens größte Sehenswürdigkeit – Mannheims Tiergarten am Spitzberg (1907 – 1914)
DESCRIPTION:Blick auf den Bärenzwinger\, 2012 noch besser erhalten als heute. Foto: R. Keller\nEinladung zum Vortrag im Hirschauer Ratsstüble\nDienstag\, 25. November 2025\, 19.30 Uhr \nReferentin: Helen Kapeller\, Trägerin des Sonderpreises »Kleindenkmale« des SHB-Kulturlandschaftspreises 2025\nEinführung: Dr. Volker Kracht\, Vorsitzender der Jury des SHB-Kulturlandschaftspreises \nKaum zu glauben: Einst strömten Besucherinnen und Besucher von nah und fern nach Tübingen\, um Löwen\, Affen\, Seehunde oder exotische Vögel zu bestaunen – mitten auf dem Spitzberg! Mannheims Tiergarten galt in den Jahren vor dem Ersten Weltkrieg als Tübingens größte Sehenswürdigkeit und faszinierte mit seiner Mischung aus Tierpark\, Ausflugsziel und Volksvergnügen. \nDie Archäologin Helen Kapeller hat dieses vergessene Kapitel Stadtgeschichte wiederentdeckt. Mit detektivischem Gespür und archäologischen Methoden rekonstruierte sie den genauen Standort\, die Gestaltung und Nutzung des Tiergartens – und wurde dafür mit dem renommierten Sonderpreis »Kleindenkmale« des Schwäbischen Heimatbunds ausgezeichnet. \nIn ihrem reich bebilderten Vortrag führt sie durch die spannende Geschichte des Tiergartens:\nvon seiner Entstehung im Jahr 1907 und seiner Blütezeit als Freizeit- und Erholungsort über den Niedergang nach 1919 bis hin zu den heute noch sichtbaren Spuren am Spitzberg. Dabei zeigt sie\, wie Denkmalpflege und Archäologie helfen können\, lokale Geschichte lebendig zu bewahren und neue Perspektiven auf altbekannte Landschaften zu eröffnen. \nFreuen Sie sich auf einen Abend voller überraschender Entdeckungen\, historischer Einblicke und lebendiger Gespräche! \nOrt: Hirschauer Ratsstüble\, Kingersheimer Straße 46\nEintritt frei – herzliche Einladung
URL:https://hirschau-aktuell.de/event/vortrag-25-november-einst-tuebingens-groesste-sehenswuerdigkeit-mannheims-tiergarten-am-spitzberg-1907-1914/
LOCATION:Ratsstüble Hirschau\, Kingersheimer Straße 46
ATTACH;FMTTYPE=image/jpeg:https://hirschau-aktuell.de/wp-content/uploads/2023/08/admin-ajax.jpg
ORGANIZER;CN="Gr%C3%BCne Liste Hirschau":MAILTO:anmeldung@gruenelistehirschau.de
END:VEVENT
BEGIN:VEVENT
DTSTART;TZID=Europe/Berlin:20251127T193000
DTEND;TZID=Europe/Berlin:20251127T213000
DTSTAMP:20260423T051406
CREATED:20251121T173653Z
LAST-MODIFIED:20251121T173653Z
UID:37774-1764271800-1764279000@hirschau-aktuell.de
SUMMARY:Regenbogen der Evolution - Geschlecht im Tier- und Pflanzenreich
DESCRIPTION:Das „biologische Geschlecht“ wird oft herangezogen\, um die Einteilung in „Mann“ und „Frau“ als naturgegeben zu rechtfertigen. Doch wie sieht es in der Natur tatsächlich aus? Ein Blick in die Tier- und Pflanzenwelt zeigt: Geschlecht ist dort erstaunlich vielfältig\, wandelbar und kreativ – von Fischen\, die ihr Geschlecht wechseln\, über Intersex-Hirschen bis zu Pflanzen mit ganz eigenen Strategien. In diesem Vortrag wird gezeigt\, warum einfache Einteilungen der Natur nicht gerecht werden.\nDr. Melanie Kirch hat in Evolutionsbiologie promoviert und beschäftigt sich seitdem mit dem Thema Geschlecht in den unterschiedlichsten Facetten. Nach einem Einführungsvortrag wird die Runde für Fragen und zur Diskussion geöffnet. \nWann:             Donnerstag 27.11.25\, 19.30 Uhr\nWo:                 Ratsstüble Hirschau (Dorf Kneipe\, Kingersheimer Str. 46) \nDer Eintritt ist kostenlos\, über Spenden freuen wir uns.
URL:https://hirschau-aktuell.de/event/regenbogen-der-evolution-geschlecht-im-tier-und-pflanzenreich-2/
LOCATION:Ratsstüble Hirschau\, Kingersheimer Straße 46
ATTACH;FMTTYPE=image/jpeg:https://hirschau-aktuell.de/wp-content/uploads/2025/10/rsh-geschlechter-in-Natur4.jpg
ORGANIZER;CN="Ratsst%C3%BCble Hirschau e. V.":MAILTO:info@ratsstueble-hirschau.de
END:VEVENT
BEGIN:VEVENT
DTSTART;VALUE=DATE:20251129
DTEND;VALUE=DATE:20251130
DTSTAMP:20260423T051406
CREATED:20250518T100544Z
LAST-MODIFIED:20250707T111316Z
UID:36562-1764374400-1764460799@hirschau-aktuell.de
SUMMARY:Weihnachtsmarkt Hirschau 2025
DESCRIPTION:
URL:https://hirschau-aktuell.de/event/weihnachtsmarkt-hirschau-2025/
LOCATION:Rund um die Kath. Kirche
ATTACH;FMTTYPE=image/png:https://hirschau-aktuell.de/wp-content/uploads/2025/05/uhi_Logo-Header.png
ORGANIZER;CN="unser Hirschau e.V.":MAILTO:kontakt@unser-hirschau.de
END:VEVENT
BEGIN:VEVENT
DTSTART;TZID=Europe/Berlin:20251130T170000
DTEND;TZID=Europe/Berlin:20251130T190000
DTSTAMP:20260423T051406
CREATED:20251107T110041Z
LAST-MODIFIED:20251106T082611Z
UID:37644-1764522000-1764529200@hirschau-aktuell.de
SUMMARY:Musikalische Abendklänge
DESCRIPTION:
URL:https://hirschau-aktuell.de/event/musikalische-abendklaenge/
LOCATION:Katholische Kirche St. Ägidius\, Kirchplatz\, 72070 Tübingen/Hirschau
ATTACH;FMTTYPE=image/png:https://hirschau-aktuell.de/wp-content/uploads/2024/02/header-musikverein-Hirschau.png
ORGANIZER;CN="Musikverein Hirschau":MAILTO:vorstand1@mv-hirschau.de
END:VEVENT
END:VCALENDAR