BEGIN:VCALENDAR
VERSION:2.0
PRODID:-//Hirschau Aktuell - ECPv6.15.20//NONSGML v1.0//EN
CALSCALE:GREGORIAN
METHOD:PUBLISH
X-ORIGINAL-URL:https://hirschau-aktuell.de
X-WR-CALDESC:Veranstaltungen für Hirschau Aktuell
REFRESH-INTERVAL;VALUE=DURATION:PT1H
X-Robots-Tag:noindex
X-PUBLISHED-TTL:PT1H
BEGIN:VTIMEZONE
TZID:Europe/Berlin
BEGIN:DAYLIGHT
TZOFFSETFROM:+0100
TZOFFSETTO:+0200
TZNAME:CEST
DTSTART:20250330T010000
END:DAYLIGHT
BEGIN:STANDARD
TZOFFSETFROM:+0200
TZOFFSETTO:+0100
TZNAME:CET
DTSTART:20251026T010000
END:STANDARD
BEGIN:DAYLIGHT
TZOFFSETFROM:+0100
TZOFFSETTO:+0200
TZNAME:CEST
DTSTART:20260329T010000
END:DAYLIGHT
BEGIN:STANDARD
TZOFFSETFROM:+0200
TZOFFSETTO:+0100
TZNAME:CET
DTSTART:20261025T010000
END:STANDARD
BEGIN:DAYLIGHT
TZOFFSETFROM:+0100
TZOFFSETTO:+0200
TZNAME:CEST
DTSTART:20270328T010000
END:DAYLIGHT
BEGIN:STANDARD
TZOFFSETFROM:+0200
TZOFFSETTO:+0100
TZNAME:CET
DTSTART:20271031T010000
END:STANDARD
END:VTIMEZONE
BEGIN:VEVENT
DTSTART;TZID=Europe/Berlin:20260109T200000
DTEND;TZID=Europe/Berlin:20260109T213000
DTSTAMP:20260423T023050
CREATED:20260103T174541Z
LAST-MODIFIED:20260103T174541Z
UID:38005-1767988800-1767994200@hirschau-aktuell.de
SUMMARY:Vernissage: Susanne Werner\, das Innen
DESCRIPTION:Musik: Benjamin Strohmaier | Künstlergespräch Veronica Lenzing\nAufgewachsen in Bad Saulgau lebt Susanne Werner seit 50 Jahren im Raum Reutlingen. Künstlerisch geprägt wurde sie durch ihren Großvater Carl Pflüger\, der im oberschwäbischen Raum ein viel beachteter Maler und Künstler war. Als Autodidaktin bildete sie sich durch Aufenthalte in der freien Kunstschule Nürtingen und mehreren Kunstkursen in der VHS Reutlingen weiter. Neben ihrer 30-jährigen Arbeit als Kunsttherapeutin in der Sozialpsychiatrie in Reutlingen widmete sie sich die letzten 25 Jahre hauptsächlich der Steinbildhauerei und gab Steinbildhauer Kurse in ihrem Gartenatelier. Sie experimentierte auch mit Ton\, Holz\, Draht oder Gips. Seit 3 Jahren hat sie das Zeichnen vor allem die Acrylmalerei wieder für sich entdeckt. Susanne Werners Ansätze sind sehr unterschiedlich. Sie zeichnet\, was sie spontan sieht\, Gegenständliches oder Portraits\, oder gibt sich in der Malerei ganz dem kreativen Prozess hin im tiefen Erleben der Farben und Formen. Oft entstehen surreale\, bis ins traumhaft\, anmutende Bilder. Manche sind abstrakt. \nVernissage\, Freitag\, 9.01.2026 um 20 Uhr\nim Ratsstüble\nEintritt frei\, Spenden erwünscht\n 
URL:https://hirschau-aktuell.de/event/vernissage-susanne-werner-das-innen/
LOCATION:Ratsstüble Hirschau\, Kingersheimer Straße 46
CATEGORIES:Ratsstüble
ATTACH;FMTTYPE=image/jpeg:https://hirschau-aktuell.de/wp-content/uploads/2026/01/rsh_Susanne_Werner_2-scaled.jpg
ORGANIZER;CN="Ratsst%C3%BCble Hirschau e. V.":MAILTO:info@ratsstueble-hirschau.de
END:VEVENT
BEGIN:VEVENT
DTSTART;TZID=Europe/Berlin:20260113T193000
DTEND;TZID=Europe/Berlin:20260113T213000
DTSTAMP:20260423T023050
CREATED:20251219T153618Z
LAST-MODIFIED:20251221T183158Z
UID:37971-1768332600-1768339800@hirschau-aktuell.de
SUMMARY:Carsharing mit teilAuto Neckar-Alb
DESCRIPTION:Der private Pkw steht durchschnittlich 23 Stunden am Tag ungenutzt herum – dennoch besitzt fast jeder Haushalt ein eigenes Auto. Die Folgen: verstopfte Innenstädte\, Parkplatznot\, hohe Kosten und unnötige Umweltbelastung. \nCarsharing ist eine praktische Alternative zum privaten Autobesitz und ermöglicht es\, Fahrzeuge nur dann zu nutzen\, wenn man sie wirklich braucht. teilAuto Neckar-Alb bietet in der Region ein flexibles Angebot an Carsharing-Fahrzeugen\, das nicht nur den Geldbeutel\, sondern auch die Umwelt schont. \nDie Zahlen sind beeindruckend: 1.650 Autos weniger in Tübingen\, fast drei freie Fußballfelder an Parkfläche und über 2.000 Tonnen CO₂-Einsparung pro Jahr – eine Klimawirkung\, die etwa 1.030 verhinderten Transatlantikflügen entspricht. \nGemeinsam mit Janette Fuchs vom Projektmanagement bei teilAuto Neckar-Alb wollen wir uns an diesem Informations- und Diskussionsabend austauschen:  \n\nFür wen lohnt sich Carsharing? \nWie funktioniert das System? \nUnd wie können wir durch veränderte Mobilität die Verkehrswende aktiv mitgestalten?\n\nTermin:  Dienstag\, den 13.01.2026 um 19:30 Uhr\nOrt:  Ratsstüble Hirschau (Dorf Kneipe \,Kingersheimer Str. 46) \nDer Eintritt ist kostenlos. Wir freuen uns über Spenden.
URL:https://hirschau-aktuell.de/event/carsharing-mit-teilauto-neckar-alb/
LOCATION:Ratsstüble Hirschau\, Kingersheimer Straße 46
CATEGORIES:Ratsstüble
ATTACH;FMTTYPE=image/jpeg:https://hirschau-aktuell.de/wp-content/uploads/2025/12/rsh-carsharing.jpg
ORGANIZER;CN="Ratsst%C3%BCble Hirschau e. V.":MAILTO:info@ratsstueble-hirschau.de
END:VEVENT
BEGIN:VEVENT
DTSTART;TZID=Europe/Berlin:20260116T193000
DTEND;TZID=Europe/Berlin:20260116T213000
DTSTAMP:20260423T023050
CREATED:20251010T093638Z
LAST-MODIFIED:20260115T214211Z
UID:37428-1768591800-1768599000@hirschau-aktuell.de
SUMMARY:Barbora Soares
DESCRIPTION:Barbora Soares | Sängerin\, Songwriterin & Performerin \nBarbora Soares wurde am 17. März 1984 in Prag\, damals Tschechoslowakei\, geboren und wuchs in einer musikalischen Familie auf. Schon von Kindesbeinen an widmete sie sich der Musik\, sang in Kinderchören\, studierte Sologesang und begann als Jugendliche\, ihre eigenen Kompositionen in Prag aufzuführen. \nSeit 2019 ist Barbora hauptberuflich als Musikerin tätig. Sie veröffentlichte zwei Alben und zahlreiche Singles und arbeitet zudem als Studio-Sängerin an verschiedensten Projekten mit. Sie tritt in den unterschiedlichsten musikalischen Settings auf – von Pop\, Funk\, Jazz und Rock über Showbands bis hin zu akustischen und Solo-Programmen – häufig begleitet sie sich selbst auf der Gitarre. Zu ihren Kollaborationen zählen international anerkannte Künstler. \nDurch die Kombination ihrer multidisziplinären Fähigkeiten in Songwriting\, Videoproduktion\, Grafikdesign und Live-Performance gestaltet Barbora eine vielseitige und ausdrucksstarke künstlerische Karriere. \nZu sehen und zu hören ist Barbor Soares am \nFreitag\, 16.01.2026 um 19:30 Uhr\nim Ratsstüble Hirschau\nEintritt frei\, Spenden sind sehr erwünscht.\nFür eine Kleinigkeit zum Essen is gesorgt.
URL:https://hirschau-aktuell.de/event/barbor-soares/
LOCATION:Ratsstüble Hirschau\, Kingersheimer Straße 46
CATEGORIES:Ratsstüble
ATTACH;FMTTYPE=image/jpeg:https://hirschau-aktuell.de/wp-content/uploads/2025/10/rsh_Barboa_Soares_klein.jpg
ORGANIZER;CN="Ratsst%C3%BCble Hirschau e. V.":MAILTO:info@ratsstueble-hirschau.de
END:VEVENT
BEGIN:VEVENT
DTSTART;TZID=Europe/Berlin:20260124T140000
DTEND;TZID=Europe/Berlin:20260124T170000
DTSTAMP:20260423T023050
CREATED:20251221T104329Z
LAST-MODIFIED:20251221T104329Z
UID:37985-1769263200-1769274000@hirschau-aktuell.de
SUMMARY:BÜCHER-FLOHMARKT
DESCRIPTION:Samstag\, 24.01.2026\, 14 bis 17 Uhr\nRatsstüble 1. OG \nWir nehmen Ihnen Bücher ab:\nMaximal 20 Stück pro Person\,\ngut erhalten\,\nnicht älter als 10 Jahre \nAbgabe von 07.01.26 bis 22.01.26\nDienstag: 10- 12 Uhr\nMittwoch : 19- 22 Uhr\nDonnerstag: 16- 18. Uhr\nFreitag: 19- 22 Uhr\nim Ratsstüble\,1. OG \nWir verkaufen Ihre Bücher:\nBei Kaffee und Kuchen\,\ngemütlich schmökern und neuen spannenden Lesestoff finden\,\njedes Buch für 1- 2.-€ erhältlich\,\nder Erlös geht als Spende an den Verein Ratsstüble und unterstützt dessen Arbeit in Hirschau. \n\n\n\n\n\n\n\n\nRatsstüble Hirschau e. V.\, Kingersheimerstr. 46\, 72070 Tübingen\, info@ratsstueble-hirschau.de\n\n\n\n\n\n\n\n\n 
URL:https://hirschau-aktuell.de/event/buecher-flohmarkt/
LOCATION:Ratsstüble Hirschau\, Kingersheimer Straße 46
CATEGORIES:Ratsstüble
ATTACH;FMTTYPE=image/jpeg:https://hirschau-aktuell.de/wp-content/uploads/2025/12/rsr_Buecherflohmarkt.jpg
ORGANIZER;CN="Ratsst%C3%BCble Hirschau e. V.":MAILTO:info@ratsstueble-hirschau.de
END:VEVENT
BEGIN:VEVENT
DTSTART;TZID=Europe/Berlin:20260129T193000
DTEND;TZID=Europe/Berlin:20260129T213000
DTSTAMP:20260423T023050
CREATED:20250103T123146Z
LAST-MODIFIED:20260119T075536Z
UID:37968-1769715000-1769722200@hirschau-aktuell.de
SUMMARY:Auf zwei Rädern bis ans Ende der Welt
DESCRIPTION:Ursula\, Otto und Jan  Kindersberger waren auf ihren Motorrädern unterwegs in Chile\, Argentinien\, Peru und Bolivien. \n\n\nBegleiten Sie uns auf einer Reise durch einen faszinierenden Kontinent. Streifen Sie mit uns auf endlosen Pisten durch Patagonien. Bestaunen Sie die kalbenden Gleschergiganten und tosenden Wasserfälle von Iguazú. Entdecken Sie Weltstädte wie Buenos Aires oder La Paz. \nWir haben vielfältige Eindrücke von bezaubernden Landschaften eingefangen: endlose Pampas bis zum Horizont\, die karge Schönheit der Atacama-Wüste\, der Salar de Uyuni mit seiner spiegelnden Weite und die majestätischen Anden mit ihren grünen Terrassenlandschaften.  \n\nLassen Sie sich von diesen einzigartigen Landschaften inspirieren und erleben Sie ihre Vielfalt in unserem Reisevortrag. \nAuch kulinarisch werden Sie mit Empanadas nach Südamerika entführt.  \nDatum: Donnerstag\, den 29.01.2026 um 19:30 Uhr\nOrt: Ratsstüble Hirschau\, Kingersheimer Str. 46 \nDer Eintritt ist kostenlos. Wir freuen uns über Spenden fürs Ratsstüble. \n 
URL:https://hirschau-aktuell.de/event/auf-zwei-raedern-bis-ans-ende-der-welt/
LOCATION:Ratsstüble Hirschau\, Kingersheimer Straße 46
CATEGORIES:Ratsstüble
ATTACH;FMTTYPE=image/jpeg:https://hirschau-aktuell.de/wp-content/uploads/2025/01/rsh-Kindersberger-Motorrad-klein.jpg
ORGANIZER;CN="Ratsst%C3%BCble Hirschau e. V.":MAILTO:info@ratsstueble-hirschau.de
END:VEVENT
BEGIN:VEVENT
DTSTART;TZID=Europe/Berlin:20260130T170000
DTEND;TZID=Europe/Berlin:20260130T210000
DTSTAMP:20260423T023050
CREATED:20260127T155318Z
LAST-MODIFIED:20260127T155832Z
UID:38200-1769792400-1769806800@hirschau-aktuell.de
SUMMARY:HUGE
DESCRIPTION:
URL:https://hirschau-aktuell.de/event/huge-2/
END:VEVENT
BEGIN:VEVENT
DTSTART;TZID=Europe/Berlin:20260130T193000
DTEND;TZID=Europe/Berlin:20260130T213000
DTSTAMP:20260423T023050
CREATED:20251010T094442Z
LAST-MODIFIED:20260125T095843Z
UID:37432-1769801400-1769808600@hirschau-aktuell.de
SUMMARY:Chor der Mönche
DESCRIPTION:Musikkabarett präsentiert: „Mönche – gnadenlos weltlich!“  \nDurch über 30 Jahre Musikkabarett gegerbt präsentieren die vier knitzen Charakterköpfe aus dem Mössinger Steinlachtal ihren unverwechselbaren Mix aus a cappella-Sound\, Instrumentalhäppchen\, Kabarett und schwäbischem Hintersinn.  Da wird auf Teufel komm raus gesungen\, gejodelt\, gezupft\, geblasen und getrommelt! Mit eigenen Kompositionen und Texten preist der „Chor der Mönche ohne Zölibat“ unter anderem die Vorzüge reiferer Liebhaber wie auch des Mosts\, entdeckt die Tuba als Liebesobjekt\, berichtet von Rauschzuständen im Zug und auf der Streuobstwiese. Das Männerquartett beleuchtet den Ursprung des Jodelns wie auch der Schwaben und nimmt spöttisch Wellnesswahn\, Formularflut\, Bahnticketdschungel oder SUVs aufs Korn – frei nach dem Schwabenstolz-Motto „Mir könnet älles“! Zu sehen und zu hören sind die Jungs am: \nFreitag\, 30.01.2026 um 19:30 Uhr\nim Ratsstüble Hirschau\nEintritt frei\, Spenden sehr erwünscht.\nFür eine Kleinigkeit zu essen ist gesorgt.\nEs gibt noch freie Plätze\, Reservierungen können wir jedoch nicht mehr annehmen.
URL:https://hirschau-aktuell.de/event/chor-der-moenche/
LOCATION:Ratsstüble Hirschau\, Kingersheimer Straße 46
CATEGORIES:Ratsstüble
ATTACH;FMTTYPE=image/jpeg:https://hirschau-aktuell.de/wp-content/uploads/2025/10/rsh_Tuba05_klein.jpg
ORGANIZER;CN="Ratsst%C3%BCble Hirschau e. V.":MAILTO:info@ratsstueble-hirschau.de
END:VEVENT
END:VCALENDAR