BEGIN:VCALENDAR
VERSION:2.0
PRODID:-//Hirschau Aktuell - ECPv6.15.20//NONSGML v1.0//EN
CALSCALE:GREGORIAN
METHOD:PUBLISH
X-ORIGINAL-URL:https://hirschau-aktuell.de
X-WR-CALDESC:Veranstaltungen für Hirschau Aktuell
REFRESH-INTERVAL;VALUE=DURATION:PT1H
X-Robots-Tag:noindex
X-PUBLISHED-TTL:PT1H
BEGIN:VTIMEZONE
TZID:Europe/Berlin
BEGIN:DAYLIGHT
TZOFFSETFROM:+0100
TZOFFSETTO:+0200
TZNAME:CEST
DTSTART:20250330T010000
END:DAYLIGHT
BEGIN:STANDARD
TZOFFSETFROM:+0200
TZOFFSETTO:+0100
TZNAME:CET
DTSTART:20251026T010000
END:STANDARD
BEGIN:DAYLIGHT
TZOFFSETFROM:+0100
TZOFFSETTO:+0200
TZNAME:CEST
DTSTART:20260329T010000
END:DAYLIGHT
BEGIN:STANDARD
TZOFFSETFROM:+0200
TZOFFSETTO:+0100
TZNAME:CET
DTSTART:20261025T010000
END:STANDARD
BEGIN:DAYLIGHT
TZOFFSETFROM:+0100
TZOFFSETTO:+0200
TZNAME:CEST
DTSTART:20270328T010000
END:DAYLIGHT
BEGIN:STANDARD
TZOFFSETFROM:+0200
TZOFFSETTO:+0100
TZNAME:CET
DTSTART:20271031T010000
END:STANDARD
END:VTIMEZONE
BEGIN:VEVENT
DTSTART;TZID=Europe/Berlin:20260210T193000
DTEND;TZID=Europe/Berlin:20260210T213000
DTSTAMP:20260423T010233
CREATED:20260125T162849Z
LAST-MODIFIED:20260204T085456Z
UID:38185-1770751800-1770759000@hirschau-aktuell.de
SUMMARY:Workshop: Chat GPT & Co clever nutzen
DESCRIPTION:Künstliche Intelligenz dringt in nahezu alle Lebensbereiche. Die Medien sind voll von Berichten darüber – oft sind diese schon selber mit KI „generiert“. \nAn diesem Abend erfahren Sie an praktischen Beispielen\, wofür Sie die Werkzeuge der sogenannte „generativen“ KI im Alltag nutzen können. Denn hiermit lassen sich Text\, Bild und Ton in zahllosen Varianten kombinieren – etwa für Recherche\, Kreativität oder Arbeitsplanung. \nZugleich erhalten Sie Einblicke in die Mechanik der KI sowie über deren (künftige) Potenziale und Gefahren sowohl für den einzelnen Menschen als auch für die Gesellschaft insgesamt. \nBitte bringen Sie Ihr Notebook oder Smartphone mit. Schön wäre\, wenn Sie sich per Email bereits in Chat GPT\, Mistral AI\, Perplexity AI oder Gemini AI angemeldet haben. \nDer Referent Frank Müller ist leitender Projektkoordinator bei IDemKI (Institut für Demokratie und Künstliche Intelligenz)\, die in der Tübinger Westspitze regelmäßig Veranstaltungen zu diesem Themenkreis organisiert. \nWir freuen uns auf einen anregenden Abend mit Ihnen! \nTermin:          Dienstag\, den 10.02.2026 um 19:30 Uhr\nOrt:                 Ratsstüble Hirschau \n  \nDer Eintritt ist kostenlos. Wir freuen uns über Spenden.
URL:https://hirschau-aktuell.de/event/workshop-chat-gpt-co-clever-nutzen/
LOCATION:Ratsstüble Hirschau\, Kingersheimer Straße 46
CATEGORIES:Ratsstüble
ATTACH;FMTTYPE=image/jpeg:https://hirschau-aktuell.de/wp-content/uploads/2026/01/rsh-donquichote-breit1.jpg
ORGANIZER;CN="Ratsst%C3%BCble Hirschau e. V.":MAILTO:info@ratsstueble-hirschau.de
END:VEVENT
BEGIN:VEVENT
DTSTART;TZID=Europe/Berlin:20260210T193000
DTEND;TZID=Europe/Berlin:20260210T213000
DTSTAMP:20260423T010233
CREATED:20260130T211835Z
LAST-MODIFIED:20260204T215523Z
UID:38230-1770751800-1770759000@hirschau-aktuell.de
SUMMARY:Ortschaftsratssitzung
DESCRIPTION:Die nächste öffentliche Sitzung des Ortschaftsrates Hirschau findet am Dienstag\, 10. Februar 2026 um 19.30 Uhr im Sitzungssaal des Rathauses statt.  \nTagesordnung: \n\nMitteilungen\nDefibrillatoren und Notrufsäulen im Stadtgebiet\nSchulsozialarbeit Personalschlüssel; Anpassung der Bemessungsgrundlage\nSanierungsreihenfolge Kunstrasenplätze in Tübingen\nKurzberichte aus den Gemeinderatsausschüssen\nEinwohnerfragestunde\nAnregungen und Fragen aus der Mitte des Ortschaftsrates\nBauanträge\nSonstiges\n\nDie Einwohnerschaft ist zu Ortschaftsratssitzungen recht herzlich eingeladen.
URL:https://hirschau-aktuell.de/event/ortschaftsratssitzung-3/
LOCATION:Rathaus Hirschau\, Kingersheimerstr. 57\, Tübingen\, 72070\, Deutschland
CATEGORIES:Verwaltung
ATTACH;FMTTYPE=image/jpeg:https://hirschau-aktuell.de/wp-content/uploads/2024/01/vsh_Header-Ortschaftsrat.jpg
END:VEVENT
BEGIN:VEVENT
DTSTART;TZID=Europe/Berlin:20260214T193000
DTEND;TZID=Europe/Berlin:20260215T020000
DTSTAMP:20260423T010233
CREATED:20260205T132734Z
LAST-MODIFIED:20260205T132734Z
UID:38297-1771097400-1771120800@hirschau-aktuell.de
SUMMARY:Fasnet in der Stefan-Hartmann-Halle Hirschau
DESCRIPTION:Am Samstag\, den 14.02.2026 findet ab 19:30 Uhr wieder die Vereinsfasnet in der Stefan-Hartmann-Halle statt.\nAls Band konnten wir dieses Jahr die Trachtenhelden für uns gewinnen. \nTickets im Vorverkauf kosten 12 €\, an der Abendkasse 14 €. \nHier geht es zu den Tickets. \nWir freuen uns auf einen tollen Abend mit Euch. \nTSV Hirschau\, Liederkranz und Musikverein
URL:https://hirschau-aktuell.de/event/fasnet-in-der-stefan-hartmann-halle-hirschau/
LOCATION:Stefan Hartmann-Halle\, Im Gehrnfeld 15\, 72070 Tübingen/Hirschau\, 72070
CATEGORIES:TSV Hirschau
ATTACH;FMTTYPE=image/jpeg:https://hirschau-aktuell.de/wp-content/uploads/2026/02/tsv_Fasnet-2026.jpeg
ORGANIZER;CN="TSV Hirschau":MAILTO:kontakt@tsv-hirschau.de
END:VEVENT
BEGIN:VEVENT
DTSTART;TZID=Europe/Berlin:20260219T163000
DTEND;TZID=Europe/Berlin:20260219T180000
DTSTAMP:20260423T010233
CREATED:20260213T153537Z
LAST-MODIFIED:20260213T185353Z
UID:38092-1771518600-1771524000@hirschau-aktuell.de
SUMMARY:Patientenverfügung\, Vorsorgevollmacht\, Betreuungsverfügung
DESCRIPTION:  \nWer regelt Ihre Angelegenheiten\, wenn Sie es nicht mehr können? Jeder kann unabhängig vom Alter in eine Situation geraten\, in der andere für ihn entscheiden müssen. Drei Arten von Vollmachten und Verfügungen helfen\, damit das in Ihrem Sinne geschieht. Die entsprechende Vorsorge sollten Sie in gesunden Tagen treffen. \nPatienten haben das Recht\, in persönlichen Angelegenheiten für den Fall der Geschäfts- und/oder Einwilligungsunfähigkeit infolge einer Krankheit oder hohen Alters vorzusorgen. \nDer Referent ist Herr Axel Bachmann\, der sich als Notar bestens in dieser Materie auskennt\, unterstützt wird er von Herrn Gregor Fey vom Stadtseniorenrat. \nWann? Donnerstag\, 19.02.2026\, 16:30 Uhr \nWo? Ratsstüble Hirschau / Dorfkneipe \nDer Eintritt ist frei\, eine Anmeldung ist nicht erforderlich
URL:https://hirschau-aktuell.de/event/patientenverfuegung-vorsorgevollmacht-betreuungsverfuegung/
LOCATION:Ratsstüble. Dorfkneipe
ATTACH;FMTTYPE=image/jpeg:https://hirschau-aktuell.de/wp-content/uploads/2024/03/nbh_Nachbarschaftshilfe_Header-16x9-1.jpg
END:VEVENT
BEGIN:VEVENT
DTSTART;TZID=Europe/Berlin:20260226T193000
DTEND;TZID=Europe/Berlin:20260226T210000
DTSTAMP:20260423T010233
CREATED:20260210T205231Z
LAST-MODIFIED:20260211T081830Z
UID:38346-1772134200-1772139600@hirschau-aktuell.de
SUMMARY:Gemeinsam krisenfest! Bevölkerungs- und Katastrophenschutz für Hirschau
DESCRIPTION:Der Klimawandel mit häufigeren Starkregenereignissen oder Hitzewellen macht deutlich\, dass Katastrophen- und Bevölkerungsschutz heute wichtiger ist denn je. Dazu kommen Gefahren wie Cyberattacken\, ein großflächiger Stromausfall oder Pandemien. Manche Krisen lassen sich nicht verhindern\, wir können uns aber darauf vorbereiten. Und zwar so\, dass Hirschau auch in Ausnahmesituationen gut zusammenhält und handlungsfähig bleibt. \nWas brauchen wir an lokaler Vorsorge\, um sicher durch Krisenzeiten oder technische Störungen zu kommen? Was kann man selbst tun – und wo braucht es Unterstützung durch staatliche oder kommunale Stellen? Wie bereiten sich Behörden und Organisationen mit Sicherheitsaufgaben (BOS) sowie Hilfsorganisationen vor? Und wie schaffen wir eine „resiliente Gesellschaft“ in Zeiten zunehmender Extremereignisse? \nDarüber sprechen wir mit Dr. Marco Krüger\, Leiter der Forschungsgruppe Sicherheitsethik am Ethikzentrum der Universität Tübingen (IZEW)\, 2022 bis 2024 Mitglied der Enquetekommission „Krisenfeste Gesellschaft“ des Landtags von Baden-Württemberg \nThemen des Abends: \n\nWas gehört zu einer guten Eigenvorsorge – einfach\, praktisch und machbar?\nWas tun bei Starkregen\, in Hitzeperioden oder bei extremen Wetterlagen?\nWie sinnvoll sind Notfalltreffpunkte\, Notstromlösungen oder Hitzeschutzräume?\nReichen Warn-Apps – oder braucht Hirschau wieder Sirenen und mehr?\nWelche Schritte kann man vor Ort angehen\, um wirklich krisenfest zu werden?\n\nEin Abend für mehr Klarheit\, mit praktischen Tipps und vielen Hinweisen – für ein Hirschau\, das auch in extremen Lagen zusammensteht. \nWir freuen uns auf alle\, die mitdenken und mitdiskutieren wollen!
URL:https://hirschau-aktuell.de/event/gemeinsam-krisenfest-bevoelkerungs-und-katastrophenschutz-fuer-hirschau/
LOCATION:Ratsstüble Hirschau\, Kingersheimer Straße 46
ATTACH;FMTTYPE=image/jpeg:https://hirschau-aktuell.de/wp-content/uploads/2026/02/vorsorgen-fuer-krisen-und-katastrophen.jpg
ORGANIZER;CN="Gr%C3%BCne Liste Hirschau":MAILTO:anmeldung@gruenelistehirschau.de
END:VEVENT
BEGIN:VEVENT
DTSTART;TZID=Europe/Berlin:20260227T193000
DTEND;TZID=Europe/Berlin:20260227T213000
DTSTAMP:20260423T010233
CREATED:20260126T162620Z
LAST-MODIFIED:20260221T131326Z
UID:38195-1772220600-1772227800@hirschau-aktuell.de
SUMMARY:Zwischen Gänsehaut und Eskalation
DESCRIPTION:Quiet Lane bringen ihren modernen Folk-Sound live auf die Bühne\nWenn am 27.02.2026 die ersten Akkorde im Ratsstüble erklingen\, wird eines schnell klar: Quiet Lane sind weit mehr als nur eine Folk-Band. Das Duo bricht mit verstaubten Genres und bringt eine Energie auf die Bühne\, die man sonst eher von Rock-Konzerten kennt – intensiv\, ehrlich und absolut mitreißend. \nNach ihren jüngsten Erfolgen und einer stetig wachsenden Fanbase verwandeln Quiet Lane den Abend in eine Reise durch das gesamte emotionale Spektrum. Ihr Sound ist geprägt von virtuosem Gitarrenspiel\, einer Stimme\, die unter die Haut geht\, und Songwriting auf höchstem Niveau. Dabei bewegen sie sich mühelos zwischen intimen\, leisen Momenten und gewaltigen Hymnen\, die das Publikum unweigerlich aus den Sitzen reißen. \n„Wir wollen keine glatten Popsongs schreiben\, sondern Geschichten\, die wehtun\, die heilen und die das Leben feiern“\, so die Band über ihre Vision. \nDie Zuschauer erwartet kein statisches Konzert\, sondern ein Erlebnis. Wer die perfekte Mischung aus handgemachter Musik\, tiefgründigen Texten und einer ordentlichen Portion Spielfreude sucht\, darf diesen Abend nicht verpassen. Quiet Lane beweisen eindrucksvoll\, dass Folk im Jahr 2026 moderner und relevanter ist denn je. Zu sehen und zu hören: \n\n\n\n\nFreitag\, 27.02.2026 um 19:30\nim Ratsstüble Hirschau\nEintritt frei\, Spenden sind sehr erwünscht.\nFür eine Kleinigkeit zum Essen ist gesorgt.\nReservierung empfohlen.\n\n\n\n\n 
URL:https://hirschau-aktuell.de/event/zwischen-gaensehaut-und-eskalation/
LOCATION:Ratsstüble Hirschau\, Kingersheimer Straße 46
CATEGORIES:Ratsstüble
ATTACH;FMTTYPE=image/jpeg:https://hirschau-aktuell.de/wp-content/uploads/2026/01/rsh_Quiet-Lane.jpg
ORGANIZER;CN="Ratsst%C3%BCble Hirschau e. V.":MAILTO:info@ratsstueble-hirschau.de
END:VEVENT
BEGIN:VEVENT
DTSTART;TZID=Europe/Berlin:20260228T190000
DTEND;TZID=Europe/Berlin:20260228T210000
DTSTAMP:20260423T010233
CREATED:20260221T111343Z
LAST-MODIFIED:20260221T111756Z
UID:38452-1772305200-1772312400@hirschau-aktuell.de
SUMMARY:Elements - Zeitgenössische A Cappelle Werke
DESCRIPTION:
URL:https://hirschau-aktuell.de/event/elements-zeitgenoessische-a-cappelle-werke/
LOCATION:Katholische Kirche St. Ägidius\, Kirchplatz\, 72070 Tübingen/Hirschau
ATTACH;FMTTYPE=image/jpeg:https://hirschau-aktuell.de/wp-content/uploads/2026/02/Liederkranz-Elements-breit.jpg
END:VEVENT
END:VCALENDAR