BEGIN:VCALENDAR
VERSION:2.0
PRODID:-//Hirschau Aktuell - ECPv6.15.20//NONSGML v1.0//EN
CALSCALE:GREGORIAN
METHOD:PUBLISH
X-WR-CALNAME:Hirschau Aktuell
X-ORIGINAL-URL:https://hirschau-aktuell.de
X-WR-CALDESC:Veranstaltungen für Hirschau Aktuell
REFRESH-INTERVAL;VALUE=DURATION:PT1H
X-Robots-Tag:noindex
X-PUBLISHED-TTL:PT1H
BEGIN:VTIMEZONE
TZID:Europe/Berlin
BEGIN:DAYLIGHT
TZOFFSETFROM:+0100
TZOFFSETTO:+0200
TZNAME:CEST
DTSTART:20250330T010000
END:DAYLIGHT
BEGIN:STANDARD
TZOFFSETFROM:+0200
TZOFFSETTO:+0100
TZNAME:CET
DTSTART:20251026T010000
END:STANDARD
BEGIN:DAYLIGHT
TZOFFSETFROM:+0100
TZOFFSETTO:+0200
TZNAME:CEST
DTSTART:20260329T010000
END:DAYLIGHT
BEGIN:STANDARD
TZOFFSETFROM:+0200
TZOFFSETTO:+0100
TZNAME:CET
DTSTART:20261025T010000
END:STANDARD
BEGIN:DAYLIGHT
TZOFFSETFROM:+0100
TZOFFSETTO:+0200
TZNAME:CEST
DTSTART:20270328T010000
END:DAYLIGHT
BEGIN:STANDARD
TZOFFSETFROM:+0200
TZOFFSETTO:+0100
TZNAME:CET
DTSTART:20271031T010000
END:STANDARD
END:VTIMEZONE
BEGIN:VEVENT
DTSTART;TZID=Europe/Berlin:20260303T193000
DTEND;TZID=Europe/Berlin:20260303T210000
DTSTAMP:20260422T233246
CREATED:20260224T093425Z
LAST-MODIFIED:20260301T134131Z
UID:38481-1772566200-1772571600@hirschau-aktuell.de
SUMMARY:Gesprächsabend zur Landtagswahl mit Daniel Lede Abal und Katharina Matheis
DESCRIPTION:Daniel Lede Abal\, Wahlkreiskandidat für Bündnis 90 / Die Grünen\, ist seit 2011 Mitglied des Landtags und seit 2022 Parlamentarischer Geschäftsführer der Grünen-Fraktion. \nKatharina Matheis ist Journalistin und bringt als engagierte Ersatzkandidatin ihre eigenen inhaltlichen Schwerpunkte und Perspektiven ein. Neben vielen „grünen“ Anliegen verbindet die beiden auch das Thema Wein. \nGemeinsam stellen sie ihre Positionen vor und freuen sich auf Fragen und einen offenen Austausch mit  interessierten Gästen.
URL:https://hirschau-aktuell.de/event/gespraechsabend-zur-landtagswahl-mit-daniel-lede-abal-und-katharina-matheis/
LOCATION:Ratsstüble Hirschau\, Kingersheimer Straße 46
ATTACH;FMTTYPE=image/jpeg:https://hirschau-aktuell.de/wp-content/uploads/2021/01/glh-grueneListeHirschauBeitragsbild.jpg
ORGANIZER;CN="Gr%C3%BCne Liste Hirschau":MAILTO:anmeldung@gruenelistehirschau.de
END:VEVENT
BEGIN:VEVENT
DTSTART;TZID=Europe/Berlin:20260305T193000
DTEND;TZID=Europe/Berlin:20260305T213000
DTSTAMP:20260422T233246
CREATED:20260219T120801Z
LAST-MODIFIED:20260217T120924Z
UID:38412-1772739000-1772746200@hirschau-aktuell.de
SUMMARY:Informationsabend zu Photovoltaik-Anlagen
DESCRIPTION:Tragen Sie sich mit dem Gedanken eine Photovoltaik Anlage auf Ihrem Dach zu installieren? \nPhotovoltaikanlagen haben in der Regel eine Lebensdauer von 25 Jahren oder mehr. In dieser Zeit können Sie eine beträchtliche Menge an Strom produzieren\, was sich langfristig rentiert. Die Anschaffungskosten amortisieren sich häufig nach 10 bis 15 Jahren. \nAm 5. März um 19 Uhr 30 informieren die Tübinger PV-Mentoren im Ratsstüble Hirschau zum Thema Photovoltaik. \nReferenten sind: \n\nHerr Jacobi\, viele Jahre Energieberater bei den Stadtwerken und der Stadt Tübingen. \nHerr Löffelhardt ist Lehrer und – wie Herr Jacobi – einer der Tübinger PV-Mentoren. \n\nWenn Sie unsicher sind\, ob Sie das Thema Photovoltaik angehen sollen oder schon Angebote vorliegen haben\, aber nicht wissen\, welches Angebot Sie nehmen sollen\, dann sind Sie an diesen Abend richtig im Ratsstüble. \nNach dem Vortrag können Fragen rund ums Energiesparen gestellt werden. Herzliche Einladung an alle Interessierten. \nWann: Dienstag\, 5.3.2025 um 19 Uhr 30\nWo: Ratsstüble Hirschau\n \nDie Teilnahme ist kostenlos. Wir freuen uns auf Sie!
URL:https://hirschau-aktuell.de/event/informationsabend-zu-photovoltaik-anlagen-3/
LOCATION:Ratsstüble Hirschau\, Kingersheimer Straße 46
CATEGORIES:Ratsstüble
ATTACH;FMTTYPE=image/jpeg:https://hirschau-aktuell.de/wp-content/uploads/2025/01/rsh-photovoltaic-6239423_1280.jpg
ORGANIZER;CN="Ratsst%C3%BCble Hirschau e. V.":MAILTO:info@ratsstueble-hirschau.de
END:VEVENT
BEGIN:VEVENT
DTSTART;TZID=Europe/Berlin:20260310T193000
DTEND;TZID=Europe/Berlin:20260310T213000
DTSTAMP:20260422T233246
CREATED:20260228T103719Z
LAST-MODIFIED:20260305T223535Z
UID:38507-1773171000-1773178200@hirschau-aktuell.de
SUMMARY:Ortschaftsratssitzung
DESCRIPTION:Die nächste öffentliche Sitzung des Ortschaftsrates Hirschau findet am Dienstag\, 10. März 2026 um 19.30 Uhr im Sitzungssaal des Rathauses statt.  \nTagesordnung:  \n\nMitteilungen\nBericht OWV über Weinwegle\nBiotopverbundplanung Universität Tübingen\nErhöhung der Anzahl der Schließtage in den städtischen Kindertageseinrichtungen ab 2027\nZuschüsse im Kulturbereich\nZuschüsse an Vereine 2026 im Fachbereich Soziales\nKanalsanierung 2026; Planungsbeschluss- und Baubeschluss\nAntrag: Ausbau öffentlicher Ladeinfrastruktur im Stadtteil Hirschau\nAntrag: Einrichtung eines Notfalltreffpunkt im Stadtteil Hirschau\nKurzberichte aus den Gemeinderatsausschüssen\nEinwohnerfragestunde\nAnregungen und Fragen aus der Mitte des Ortschaftsrates\nBauanträge\nSonstiges\n\n 
URL:https://hirschau-aktuell.de/event/ortschaftsratssitzung-4/
LOCATION:Rathaus Hirschau\, Kingersheimerstr. 57\, Tübingen\, 72070\, Deutschland
CATEGORIES:Verwaltung
ATTACH;FMTTYPE=image/jpeg:https://hirschau-aktuell.de/wp-content/uploads/2024/01/vsh_Header-Ortschaftsrat.jpg
END:VEVENT
BEGIN:VEVENT
DTSTART;TZID=Europe/Berlin:20260313T174500
DTEND;TZID=Europe/Berlin:20260313T210000
DTSTAMP:20260422T233246
CREATED:20260303T185334Z
LAST-MODIFIED:20260305T225902Z
UID:38540-1773423900-1773435600@hirschau-aktuell.de
SUMMARY:gemeinsames Fastenbrechen
DESCRIPTION:Herzliche Einladung an alle Interessierten aus allen Religionen\nzum gemeinsamen\nFastenbrechen\nim muslimischen Fastenmonat Ramadan\nam Freitag\, 13. März 2026\num 17.30 Uhr im Kath. Gemeindehaus St. Urban (Kirchplatz 11) in Hirschau \nNach einer Einführung in den Abend gibt es ein gemeinsames Abendessen. \nBringen Sie gerne etwas für das gemeinsame Buffet mit (für Nichtmuslime: vegetarische Speisen oder Nachtisch ohne Gelatine und Alkohol). Für Datteln\, Suppe und Getränke ist gesorgt. \nWir freuen uns auf einen schönen Abend und gute Begegnungen mit unseren Nachbarn! \nBei Fragen wenden Sie sich an Pfarrerin Rittberger-Klas von der Ev. Kirchengemeinde (karoline.rittberger-klas@elkw.de)
URL:https://hirschau-aktuell.de/event/gemeinsames-fastenbrechen/
LOCATION:Gemeindehaus St. Urban\, Kirchplatz 11\, 72070 Tübingen/Hirschau\, 72070\, Deutschland
CATEGORIES:Kath. Kirchengemeinde
ATTACH;FMTTYPE=image/png:https://hirschau-aktuell.de/wp-content/uploads/2026/03/kka_Fastenbrechen-2026.png
ORGANIZER;CN="Kath. Kirchengemeinde Hirschau":MAILTO:StAegidius.Hirschau@drs.de
END:VEVENT
BEGIN:VEVENT
DTSTART;TZID=Europe/Berlin:20260317T193000
DTEND;TZID=Europe/Berlin:20260317T213000
DTSTAMP:20260422T233246
CREATED:20260130T221304Z
LAST-MODIFIED:20260305T225206Z
UID:38237-1773775800-1773783000@hirschau-aktuell.de
SUMMARY:Frühjahrs-Vereinsbesprechung
DESCRIPTION:Auf die Frühjahrs-Vereinsbesprechung am Dienstag\, den 17. März 2026 im Ratsstüble\, Kingersheimer Str. 46\, Beginn: 19.30 Uhr\, dürfen wir heute schon hinweisen.\nZur Vervollständigung unseres Veranstaltungskalenders bitten wir die Vereine\, Gruppen\, Schule\, Kindergärten und Kirchen\, uns die Termine schon vorab schriftlich mitzuteilen (gerne auch per Email: rathaus-hirschau@tuebingen.de)\, damit der Veranstaltungskalender ergänzt werden kann.
URL:https://hirschau-aktuell.de/event/fruehjahrs-vereinsbesprechung-2/
LOCATION:Ratsstüble Hirschau\, Kingersheimer Straße 46
CATEGORIES:Verwaltung
ATTACH;FMTTYPE=image/jpeg:https://hirschau-aktuell.de/wp-content/uploads/2024/01/vsh_Verwaltungsstelle-Header.jpg
ORGANIZER;CN="Verwaltung":MAILTO:rathaus-hirschau@tuebingen
END:VEVENT
BEGIN:VEVENT
DTSTART;TZID=Europe/Berlin:20260319T193000
DTEND;TZID=Europe/Berlin:20260319T210000
DTSTAMP:20260422T233246
CREATED:20260130T171529Z
LAST-MODIFIED:20260319T080631Z
UID:38166-1773948600-1773954000@hirschau-aktuell.de
SUMMARY:Mobbing an der Schule
DESCRIPTION:Eltern machen sich zuweilen Gedanken darüber\, weob ihr Kind möglicherweise von Mobbingsituationen betroffen ist. Es kann auch vorkommen\, dass das eigene Kind selbst Mobbingverhalten zeigt. \n\nDoch was genau versteht man unter Mobbing?\nWie unterscheidet es sich vom einfachen Ärgern?\nWelche Ursachen führen zu Mobbing und welche Folgen kann es für die Betroffenen haben? \nWie können Sie Ihr Kind unterstützen\, wenn es betroffen ist\, wie wenn es selbst mobbt?\nWas sollten Sie auf keinen Fall tun?\nUnd wo finden Sie Unterstützung und Hilfe?\n\nGemeinsam mit Claudia Bitzer von der Schulpsychologische Beratungsstelle Tübingen wollen wir uns an diesem Vortrags- und Diskussionsabend austauschen.  \nTermin:  Donnerstag\, den 19.03.2026 um 19:30 Uhr\nOrt:        Ratsstüble Hirschau \nDer Eintritt ist kostenlos. Wir freuen uns über Spenden.
URL:https://hirschau-aktuell.de/event/mobbing-an-der-schule/
LOCATION:Ratsstüble Hirschau\, Kingersheimer Straße 46
CATEGORIES:Ratsstüble
ATTACH;FMTTYPE=image/jpeg:https://hirschau-aktuell.de/wp-content/uploads/2026/01/rsh-mobbing2.jpg
ORGANIZER;CN="Ratsst%C3%BCble Hirschau e. V.":MAILTO:info@ratsstueble-hirschau.de
END:VEVENT
BEGIN:VEVENT
DTSTART;TZID=Europe/Berlin:20260320T193000
DTEND;TZID=Europe/Berlin:20260320T213000
DTSTAMP:20260422T233246
CREATED:20260211T142039Z
LAST-MODIFIED:20260315T184537Z
UID:38358-1774035000-1774042200@hirschau-aktuell.de
SUMMARY:Simon Kempston (Schottland)
DESCRIPTION:Simon Kempston \nDer schottische Singer-Songwriter und führende akustische Fingerstyle-Gitarrist Simon Kempston tourte weltweit und spielte seine hoch originellen\, zeitgenössischen akustischen Songs und Musik. Ein einzigartiges Talent\, sein wunderschön ausgearbeitetes Material zeigt seine unglaubliche\, markante und filigrane Fingerstyle-Gitarrenarbeit sowie seinen sanft nuancierten\, fesselnden Tenorgesang. Als inspirierender\, poetischer Texter zeigen Simons leidenschaftliche Live-Auftritte zeitloses Songwriting mit universeller Anziehungskraft\, durchsetzt mit humorvollen\, weltlichen Geschichten. Auf Tour zur Unterstützung seines von Kritikern gefeierten brandneuen Albums ist dieser allererste Auftritt in Tübingen unverzichtbar.  ‚Einer der besten Singer-Songwriter Schottlands‘ (Herald am Sonntag). ‚Stunning Talent‘ (STV).^^ \n  \nFreitag\, 20.03.2026\, 19:30 Uhr\nim Ratsstüble Hirschau \nEintritt frei\, Spenden sehr erwünscht\nFür eine Kleinigkeit zum Essen ist gesorgt\nReservierung empfohlen
URL:https://hirschau-aktuell.de/event/simon-kempston-schottland/
LOCATION:Ratsstüble Hirschau\, Kingersheimer Straße 46
CATEGORIES:Ratsstüble
ATTACH;FMTTYPE=image/jpeg:https://hirschau-aktuell.de/wp-content/uploads/2026/02/rsh_Kempston_1-1.jpg
ORGANIZER;CN="Ratsst%C3%BCble Hirschau e. V.":MAILTO:info@ratsstueble-hirschau.de
END:VEVENT
BEGIN:VEVENT
DTSTART;TZID=Europe/Berlin:20260322T140000
DTEND;TZID=Europe/Berlin:20260322T170000
DTSTAMP:20260422T233246
CREATED:20260306T103738Z
LAST-MODIFIED:20260306T103738Z
UID:38569-1774188000-1774198800@hirschau-aktuell.de
SUMMARY:Akkordeonclub Hirschau e.V.
DESCRIPTION:Wir freuen uns sehr\, dass dieses Jahr das Akkordeon zum Instrument des Jahres gewählt wurde und damit dieses vielseitige Instrument etwas mehr in den Fokus gerückt wird. Insbesondere in unserem „Ländle“ Baden-Württemberg spielt das Akkordeon eine große Rolle\, eventuell könnte man es sogar als das „schwäbischste Instrument“ überhaupt nennen: Anfang des 20. Jahrhunderts\nentwickelte sich Trossingen zum Zentrum der Handharmonika mit so großem Erfolg\, dass die Hohner AG 1929 zur größten Musikinstrumentenfabrik der Welt (!) avancierte. Der Erfolg führte zur Gründung des ersten Akkordeonorchesters in den 30er Jahren. Das Orchester diente als Werbelokomotive und zog eine\nWelle von Orchestergründungen nach sich\, insbesondere im Raum Württemberg\, Baden und Hohenzollern.\nIn Hirschau bekam das Akkordeon den Vereinsstatus in 1960.\nDies erklärt die besondere Situation\, dass noch heute 60% der deutschen Akkordeonvereine in Baden- Württemberg ansässig sind und sich die anderen 40% auf die anderen 15 Bundesländer verteilt.\nSind Sie jetzt neugierig geworden auf die Möglichkeiten und Klang des Akkordeons?\nDann haben wir was für Sie:\nBesuchen Sie uns bei unserem frühlingshaften Musik-Café\nWann: am Sonntag\, 22. März\nEinlass / Beginn: 14.00 Uhr / 14.30 Uhr\nWo: kath. Gemeindehaus St. Urban in Hirschau\nEintritt: frei\nGenießen Sie bei selbst gebackenem Kuchen und frischem Kaffee das bunte Musik-Programm des\nAkkordeonorchesters unter der Leitung von Sabrina Latus.\nWir freuen uns auf Ihr Kommen!\nConstanze Krause – erste Vorsitzende des Akkordeonclub Hirschau e.V
URL:https://hirschau-aktuell.de/event/akkordeonclub-hirschau-e-v/
LOCATION:Katholisches Gemeindehaus St. Urban\, Kirchplatz 11\, 72070 Tübingen/Hirschau
ATTACH;FMTTYPE=image/jpeg:https://hirschau-aktuell.de/wp-content/uploads/2023/07/akk-logo-9.jpg
ORGANIZER;CN="Akkordeonclub Hirschau e.V.":MAILTO:v1@ac-hirsch
END:VEVENT
BEGIN:VEVENT
DTSTART;TZID=Europe/Berlin:20260327T193000
DTEND;TZID=Europe/Berlin:20260327T213000
DTSTAMP:20260422T233246
CREATED:20260228T163002Z
LAST-MODIFIED:20260321T152329Z
UID:38522-1774639800-1774647000@hirschau-aktuell.de
SUMMARY:Dorfkino: U are the universe
DESCRIPTION:Nach der Zerstörung der Erde ist Weltraum-Trucker Andriy Melnyk der letzte Mensch im Universum\, bis er dann doch einen Funkspruch von einer französischen Astronautin namens Catherine erhält\, die auf einer fernen Raumstation ebenso alleine ausharrt. Entschlossen\, sie zu finden\, macht er sich auf eine gefährliche Reise. \nMit viel Gefühl\, aber auch schwarzem Humor berührt diese ukrainische Antwort auf existenzialistische Science Fiction-Filme wie „2001“\, „Solaris“\, „Dark Star“ und „Moon“ zeitlose Themen: Sterblichkeit\, Einsamkeit\, Sehnsucht und ein universelles Bedürfnis nach menschlicher Nähe\, die selbst den nihilistischen Schlussakkord aufhellt. \nFreitag\, 27.03.2026 um 19:30 Uhr\nim Ratsstüble\nFSK: 12 Jahre\, Eintritt 5 €\n\nFestivals & Auszeichnungen:\nEröffungsfilm des WEIRD WEEKENDER 2024!\nFilmFestival Cottbus 2025 – Bester Film & Publikumspreis\nLeeds International Film Festival 2024 – Special Mention\nBoston Science Fiction Film Festival – Bester Film\nTrieste Science+Fiction Festival – Bester Film & Publikumspreis\nHaapsalu Horror and Fantasy Film Festival – Bester Sci-Fi Film\n 
URL:https://hirschau-aktuell.de/event/dorfkino-u-are-the-universe/
LOCATION:Ratsstüble Hirschau\, Kingersheimer Straße 46
CATEGORIES:Ratsstüble
ATTACH;FMTTYPE=image/jpeg:https://hirschau-aktuell.de/wp-content/uploads/2026/02/rsh_u_are_the_universe.jpg
ORGANIZER;CN="Ratsst%C3%BCble Hirschau e. V.":MAILTO:info@ratsstueble-hirschau.de
END:VEVENT
BEGIN:VEVENT
DTSTART;TZID=Europe/Berlin:20260327T193000
DTEND;TZID=Europe/Berlin:20260327T220000
DTSTAMP:20260422T233246
CREATED:20260302T150436Z
LAST-MODIFIED:20260302T150436Z
UID:38535-1774639800-1774648800@hirschau-aktuell.de
SUMMARY:TSV Hirschau: Mitgliederversammlung 2026
DESCRIPTION:Herzliche Einladung zur Mitgliederversammlung des TSV Hirschau am Freitag\, 27. März\, 19:30 Uhr auf der Bühne der Turnhalle. \nTagesordnung: \n\nBegrüßung\nTotenehrung\nBericht des 1. Vorsitzenden\nBericht des Vorstands Finanzen\nBerichte aus den Abteilungen\nBericht von der Kassenprüfung\nAussprache zu den Berichten\nEntlastung der Vorstandschaft\nEhrungen\nNeuwahlen\nAnträge\nSonstiges\n\nAnträge können bis zum 13.03.2026 schriftlich auf der Geschäftsstelle des TSV Hirschau\, Schulstr. 28\, 72070 Tübingen-Hirschau z. Hd. des 1. Vorsitzenden\, eingereicht werden. \nStephan Fauser\n1. Vorsitzender
URL:https://hirschau-aktuell.de/event/tsv-hirschau-mitgliederversammlung-2026/
LOCATION:Turn- und Festhallehalle\, Schulstr. 28\, Tübingen\, 72070\, Deutschland
CATEGORIES:TSV Hirschau
ATTACH;FMTTYPE=image/jpeg:https://hirschau-aktuell.de/wp-content/uploads/2022/01/tsv_header.jpg
ORGANIZER;CN="TSV Hirschau":MAILTO:kontakt@tsv-hirschau.de
END:VEVENT
BEGIN:VEVENT
DTSTART;TZID=Europe/Berlin:20260331T193000
DTEND;TZID=Europe/Berlin:20260331T213000
DTSTAMP:20260422T233246
CREATED:20260308T091908Z
LAST-MODIFIED:20260325T183831Z
UID:38584-1774985400-1774992600@hirschau-aktuell.de
SUMMARY:Recherche trifft Reichweite
DESCRIPTION:Klassischer Journalismus versus Social Media \nWas unterscheidet klassischen Journalismus von Social-Media-Kommunikation – und wo liegen Gemeinsamkeiten?  \nJonas Bleeser\, Redaktionsleiter Schwäbisches Tagblatt und Benedikt Döllmann\, Mitglied im Gemeinde- und im Kreisrat\, Student mit über 50.000 Followern auf Instagramm diskutieren über Arbeitsweisen\, Verantwortung und die jeweiligen Herausforderungen beider Bereiche. \nIm Podiumsgespräch mit Impulsen der Gäste geht es um Rechercheprozesse\, Schnelligkeit und Sorgfalt\, den Umgang mit Quellen\, Reichweite und Glaubwürdigkeit. \nWann: Dienstag\, 31.03.2025 um 19 Uhr 30\nWo:      Ratsstüble Hirschau \nDie Teilnahme ist kostenlos. Wir freuen uns auf Sie!
URL:https://hirschau-aktuell.de/event/recherche-trifft-reichweite/
LOCATION:Ratsstüble. Dorfkneipe
CATEGORIES:Ratsstüble
ATTACH;FMTTYPE=image/jpeg:https://hirschau-aktuell.de/wp-content/uploads/2026/03/rsh-Recherche-trifft-Reichweitew.jpg
ORGANIZER;CN="Ratsst%C3%BCble Hirschau e. V.":MAILTO:info@ratsstueble-hirschau.de
END:VEVENT
END:VCALENDAR