BEGIN:VCALENDAR
VERSION:2.0
PRODID:-//Hirschau Aktuell - ECPv6.15.20//NONSGML v1.0//EN
CALSCALE:GREGORIAN
METHOD:PUBLISH
X-WR-CALNAME:Hirschau Aktuell
X-ORIGINAL-URL:https://hirschau-aktuell.de
X-WR-CALDESC:Veranstaltungen für Hirschau Aktuell
REFRESH-INTERVAL;VALUE=DURATION:PT1H
X-Robots-Tag:noindex
X-PUBLISHED-TTL:PT1H
BEGIN:VTIMEZONE
TZID:Europe/Berlin
BEGIN:DAYLIGHT
TZOFFSETFROM:+0100
TZOFFSETTO:+0200
TZNAME:CEST
DTSTART:20250330T010000
END:DAYLIGHT
BEGIN:STANDARD
TZOFFSETFROM:+0200
TZOFFSETTO:+0100
TZNAME:CET
DTSTART:20251026T010000
END:STANDARD
BEGIN:DAYLIGHT
TZOFFSETFROM:+0100
TZOFFSETTO:+0200
TZNAME:CEST
DTSTART:20260329T010000
END:DAYLIGHT
BEGIN:STANDARD
TZOFFSETFROM:+0200
TZOFFSETTO:+0100
TZNAME:CET
DTSTART:20261025T010000
END:STANDARD
BEGIN:DAYLIGHT
TZOFFSETFROM:+0100
TZOFFSETTO:+0200
TZNAME:CEST
DTSTART:20270328T010000
END:DAYLIGHT
BEGIN:STANDARD
TZOFFSETFROM:+0200
TZOFFSETTO:+0100
TZNAME:CET
DTSTART:20271031T010000
END:STANDARD
END:VTIMEZONE
BEGIN:VEVENT
DTSTART;VALUE=DATE:20260704
DTEND;VALUE=DATE:20260705
DTSTAMP:20260423T022921
CREATED:20260412T180015Z
LAST-MODIFIED:20260412T161937Z
UID:38892-1783123200-1783209599@hirschau-aktuell.de
SUMMARY:Hirschauer Straßenfest
DESCRIPTION:Programm:\n15:00 Uhr Beginn\nUnterhaltung durch das Akkordeonorchester Beffendorf \n17:00 Uhr Begrüßung / Fassanstich\nanschließend Unterhaltung durch den Musikverein Hirschau \n18:00 Uhr Auftritt der „Rope Skipper“ TSV Hirschau \n19:00 Uhr Unterhaltung durch Arthur Lorenz \nAb 15.00 Uhr\nKinderprogramm / Hüpfburg bei der Kirche\nFlohmarkt von und für Kinder \nFür das leibliche Wohl ist bestens gesorgt! \nVeranstalter: Hirschauer Vereine und Organisationen
URL:https://hirschau-aktuell.de/event/hirschauer-strassenfest-2/
CATEGORIES:Verwaltung
ATTACH;FMTTYPE=image/png:https://hirschau-aktuell.de/wp-content/uploads/2023/09/vsh_header_Rathaus.png
END:VEVENT
END:VCALENDAR